{"text_format":"1","workbook":"xlsx","n_sheets":23,"sheets":["INTRO","Runway Layouts","Lookup Table","ASV Estimate","Single Model","Dual Model","Intersecting Model","Single Work Tab","Default Values1","Dual Work Tab (1)","Dual Work Tab (2)","Dual Work Tab (3)","Dual Work Tab (4)","Default Values2","Dual Lookup","Intersecting Work Tab (1)","Intersecting Work Tab (2)","Intersecting Work Tab (3)","Intersecting Work Tab (4)","Default Values3","Fleet Mix","Separation  Layout","Helens Rules"],"not_rendered":{"charts":1,"images":49,"macros":1,"external_links":0,"defined_names":42,"comments":4,"pivot_tables":0},"unopened":[],"bounds":{"document_bytes":16777216,"sheet_cells":100000,"rows_first":2000,"rows_last":500,"rows_between":2000,"halvings":0,"cell_chars":16384,"cell_head_chars":4096},"cells_cut":0,"cells_raw":0,"read":"whole","date_system":"1900"}

{"sheet":"INTRO","index":0,"n_rows":70,"n_cols":16,"rows_kept":70,"cut":false,"hidden":false,"merged":[[7,12,7,13],[10,12,10,13],[13,12,13,13],[16,12,16,13]]}
[]
[null,"Airfield Capacity Estimation using Spreadsheet Models"]
[]
[null,"Protection Password     =     pass ",null,null,null,null,"Caution: Do NOT change the password if you choose to unlock the models as the password is embedded in the macro codes."]
[]
[null,"Use the spreadsheet model to quickly estimate airfield capacities for Arrivals only, Departures only and Mixed Operations."]
[]
[null,"Runway Model Options",null,null,null,"ENTER OR ADJUST MODEL INPUTS",null,null,null,null,null,null,"INPUTS",null,"Inactive","Light Green fill, with Bold Green text"]
[null,null,null,null,null,null,null,null,null,null,null,null,"(Inactive input cells are only in  the fleet mix section)"]
[]
[null,"Single Runway",null,null,null,"OBSERVE AND EVALUATE OUTPUTS",null,null,null,null,null,null,"OUTPUTS",null,"Blue fill, with Bold White text"]
[]
[]
[null,"Dual Parallel Runways",null,null,null,"USE RESET BUTTON TO RETURN MAIN INPUTS TO DEFAULT SETTINGS",null,null,null,null,null,null,"Reset Inputs",null,"Grey fill, with Red text"]
[null,null,null,null,null,"(Not all inputs are reset; specific observable inputs such as exits selection, runway crossings,etc... or OUTPUT selections are not reset)"]
[]
[null,null,null,null,null,"Calculated/Linked Values & Descriptions have white backgrounds",null,null,null,null,null,null,"Calculated Values",null,"Linked Values"]
[null,"Dual Intersecting Runways"]
[null,null,null,null,null,"Comments are attached to Input descriptions to provide understanding/definitions to input titles"]
[]
[null,"MODEL CAPACITY ESTIMATION PROCESS"]
[null,"Base Model Configurations assume adequate length and width for commercial aircraft "]
[]
[null,"(1)","Calculates Arrival to Arrival minimum separation based on "]
[null,null,null,"(fleet mix averages,  approach speeds, minimum separation behind specific aircraft, and operating buffers)"]
[null,"(2)","Calculates Arrivals Only (Arrival priority) Capacity based on "]
[null,null,null,"(average Arrival to Arrival separation times)"]
[null,"(3)","Calculates Departure to Departure minimum separation based on"]
[null,null,null,"(fleet mix averages, separation behind specific aircraft, and operating buffers)"]
[null,"(4)","Calculates Departures only (Departure priority) Capacity based on "]
[null,null,null,"(average Departure to Departure separation times)"]
[null,"(5)","Calculates minimum time requirement to introduce departures between a pair of arrivals based on"]
[null,null,null,"(minimum runway occupancy times, minimum Arrival to Departure spacing, and approach speeds)"]
[null,"(6)","Calculates Interleaved Departure Capacity based on"]
[null,null,null,"(average Arrival to Arrival separation and interleaved departure time requirements)"]
[]
[null,"Base Default Assumptions/Default Input Settings:",null,null,null,null,null,null,null,null,null,null," "]
[null,null,"-Continual supply of aircraft in fleet mix"]
[null,null,"-Full Parallel Taxiway is available"]
[null,null,null,"-Lack of Full Parallel Taxiway will add dectuctions and lower the capacity estimate"]
[null,null,null,"(e.g. Partial Taxiway, Turn-arounds only) "]
[null,null,"-Four or more runway exits (including head and tail exits) are available "]
[null,null,null,"-Fewer exits will add deductions and lower the capacity estimate"]
[null,null,"-Seven aircraft classes/groups are used for aircraft designation in fleet mix"]
[null,null,null,"-Small-Single, Small-Twin, Small-Plus, Large-Turboprop, Large-Jet, Large-757 and Heavy"]
[null,null,"-Restorable default settings for the following inputs are incorporated"]
[null,null,null,"Departure to Arrival Separtation distance (nm)"]
[null,null,null,"Common Approach Length (nm)"]
[null,null,null,"Arrival to Arrival Separation Minimums (nm)"]
[null,null,null,"Arrival to Arrival Separation Standard Deviation (seconds)"]
[null,null,null,"Departure to Departure Separation Minimums (seconds)"]
[null,null,null,"Departure to Departure Separation Standard Deviation (seconds)"]
[null,null,null,"Average Arrival Runway Occupancy Time (AROT) for each aircraft group (seconds)"]
[null,null,null,"Average Approach Speed for each aircraft group (knots)"]
[null,null,null,"Touch and Go activity  (%)"]
[null,null,null,"Capacity Impact due to Runway Crossing Requirements (seconds to Arr:Arr Separation)"]
[null,null,null,"Capacity Impact due to lack of Radar Control Tower (%)"]
[null,null,null,"Departure Hold Buffer (seconds)"]
[null,null,null,"Arrival to Arrival Separation Buffer (Gap Spacing Buffer) (seconds)"]
[null,null,null,"Average aircraft acceleration (ft/sec/sec)"]
[null,null,null,"Average aircraft deceleration (ft/sec/sec)"]
[]
[null,"TROUBLE WITH MACROS: ",null,null," If you are having trouble getting the 'Reset Inputs' to work and are getting a debugging window pop up you may "]
[null,null,null,null,"need to deselect a VBA reference box titled \"MISSING:  SOLVER.XLAM\".  To get to the VBA References option in Excel"]
[null,null,null,null,"hit (Alt + F11) and then choose the Tools drop down menu and then select References."]
[]
[null,"Base calculations used in the models follow similar methodolgy and logic as in the FAA Airfield Capacity Model (ACM)"]
[]
[null,"Default Settings for Arrival to Arrival Separations and Departure to Departure Separations source:"]
[null," ","FAA  Report No. FAA-EM-78-8A \" Parameters of Future ATC Systems Relating to Airport Capacity/Delay\", June 1978"]

{"sheet":"Runway Layouts","index":1,"n_rows":0,"n_cols":0,"rows_kept":0,"cut":false,"hidden":false,"merged":[]}

{"sheet":"Lookup Table","index":2,"n_rows":33,"n_cols":24,"rows_kept":33,"cut":false,"hidden":false,"merged":[[4,1,8,1],[28,1,32,1],[10,1,14,1],[16,1,20,1],[22,1,26,1]]}
[null,null,"Aircraft Fleet",null,null,null,"New Aircraft Group Mix Percentages",null,null,null,null,null,null,null,"Hourly Capacity",null,null,null,"Annual "]
["General Runway-Use Configurations",null,"Mix Index",null,null,null,"A","B","C","C","C","C","D",null,"Operations/Hour",null,null,null,"Service Volume"]
[null,null,"% (C + 3D)",null,null,null,"S-S","S-T","S+","L-TP","L-J","L-757","H",null,"VFR",null,"IFR",null,"Operations/Year"]
["1.)",null,null,null,null,null,null,null,null,null,null,null,null,null,null,null,null,null,null,null,"Cw","D * H","old values","% TNG"]
[null,null,0,"to",20,null,1,0,0,0,0,0,0,{"$f":"SUM(I5:L5)+3*M5","v":0},90,64,66,null,{"$f":"ROUND(U5*V5,-3)","v":223000},null,85.6,{"$f":"9*290","v":2610},230000,0.5]
[null,null,21,"to",50,null,0.25,0.5,0.25,0,0,0,0,{"$f":"SUM(I6:L6)+3*M6","v":0.25},74,70,62,null,{"$f":"ROUND(U6*V6,-3)","v":213000},null,71,{"$f":"10*300","v":3000},195000,0.4]
[null,null,51,"to",80,null,0.05,0.2,0.2,0.25,0.25,0.05,0,{"$f":"SUM(I7:L7)+3*M7","v":0.75},63,50,56,null,206000,null,60.5,{"$f":"11*310","v":3410},205000,0.2]
[null,null,81,"to",120,null,0,0.05,0.1,0.1,0.65,0.05,0.05,{"$f":"SUM(I8:L8)+3*M8","v":1.0500000000000003},62,50,50,null,209000,null,54.5,{"$f":"12*320","v":3840},210000]
[null,null,121,"to",180,null,0,0,0.05,0.05,0.55000000000000004,0.05,0.3,{"$f":"SUM(I9:L9)+3*M9","v":1.6},60,null,48,null,225000,null,52.5,{"$f":"13*330","v":4290},240000]
["2.)"]
[null,null,0,"to",20,null,1,0,0,0,0,0,0,{"$f":"SUM(I11:L11)+3*M11","v":0},180,64,66,null,{"$f":"ROUND(U11*V11,-3)","v":378000},null,144.9,{"$f":"9*290","v":2610},355000,0.5]
[null,null,21,"to",50,null,0.25,0.5,0.25,0,0,0,0,{"$f":"SUM(I12:L12)+3*M12","v":0.25},144,null,62,null,275000,null,91.5,{"$f":"10*300","v":3000},275000,0.4]
[null,null,51,"to",80,null,0.05,0.2,0.2,0.25,0.25,0.05,0,{"$f":"SUM(I13:L13)+3*M13","v":0.75},104,null,56,null,242000,null,70.900000000000006,{"$f":"11*310","v":3410},260000,0.2]
[null,null,81,"to",120,null,0,0.05,0.1,0.1,0.65,0.05,0.05,{"$f":"SUM(I14:L14)+3*M14","v":1.0500000000000003},96,null,84,null,352000,null,91.7,{"$f":"12*320","v":3840},285000]
[null,null,121,"to",180,null,0,0,0.05,0.05,0.55000000000000004,0.05,0.3,{"$f":"SUM(I15:L15)+3*M15","v":1.6},88,null,72,null,353000,null,82.3,{"$f":"13*330","v":4290},340000]
["3.)",null,null,null,null,null,null,null,null,null,null,null,null,null,null,null,null,null,null," "]
[null,null,0,"to",20,null,1,0,0,0,0,0,0,{"$f":"SUM(I17:L17)+3*M17","v":0},180,null,80,null,{"$f":"ROUND(U17*V17,-3)","v":389000},null,149.19999999999999,{"$f":"9*290","v":2610},355000,0.5]
[null,null,21,"to",50,null,0.25,0.5,0.25,0,0,0,0,{"$f":"SUM(I18:L18)+3*M18","v":0.25},152,null,76,null,386000,null,128.6,{"$f":"10*300","v":3000},285000,0.4]
[null,null,51,"to",80,null,0.05,0.2,0.2,0.25,0.25,0.05,0,{"$f":"SUM(I19:L19)+3*M19","v":0.75},128,null,76,null,314000,null,92.1,{"$f":"11*310","v":3410},275000,0.2]
[null,null,81,"to",120,null,0,0.05,0.1,0.1,0.65,0.05,0.05,{"$f":"SUM(I20:L20)+3*M20","v":1.0500000000000003},124,null,84,null,380000,null,99,{"$f":"12*320","v":3840},300000]
[null,null,121,"to",180,null,0,0,0.05,0.05,0.55000000000000004,0.05,0.3,{"$f":"SUM(I21:L21)+3*M21","v":1.6},120,null,76,null,385000,null,89.7,{"$f":"13*330","v":4290},365000]
["4.)"]
[null,null,0,"to",20,null,1,0,0,0,0,0,0,null,{"$f":"O17","v":180},null,132,null,{"$f":"ROUND(U23*V23,-3)","v":447000},null,171.1,{"$f":"9*290","v":2610},370000,0.5]
[null,null,21,"to",50,null,0.25,0.5,0.25,0,0,0,0,null,{"$f":"O18","v":152},null,124,null,435000,null,145,{"$f":"10*300","v":3000},320000,0.4]
[null,null,51,"to",80,null,0.05,0.2,0.2,0.25,0.25,0.05,0,null,128,null,112,null,417000,null,122.3,{"$f":"11*310","v":3410},305000,0.2]
[null,null,81,"to",120,null,0,0.05,0.1,0.1,0.65,0.05,0.05,null,124,null,100,null,419000,null,109,{"$f":"12*320","v":3840},315000]
[null,null,121,"to",180,null,0,0,0.05,0.05,0.55000000000000004,0.05,0.3,null,120,null,96,null,450000,null,105,{"$f":"13*330","v":4290},370000]
["5.)"]
[null,null,0,"to",20,null,1,0,0,0,0,0,0,null,94,null,66,null,{"$f":"ROUND(U29*V29,-3)","v":232000},null,88.9,{"$f":"9*290","v":2610},230000,0.5]
[null,null,21,"to",50,null,0.25,0.5,0.25,0,0,0,0,null,86,null,62,null,224000,null,74.7,{"$f":"10*300","v":3000},200000,0.4]
[null,null,51,"to",80,null,0.05,0.2,0.2,0.25,0.25,0.05,0,null,74,null,56,null,214000,null,62.8,{"$f":"11*310","v":3410},215000,0.2]
[null,null,81,"to",120,null,0,0.05,0.1,0.1,0.65,0.05,0.05,null,84,null,62,null,270000,null,70.3,{"$f":"12*320","v":3840},225000]
[null,null,121,"to",180,null,0,0,0.05,0.05,0.55000000000000004,0.05,0.3,null,82,null,62,null,298000,null,69.5,{"$f":"13*330","v":4290},265000]

{"sheet":"ASV Estimate","index":3,"n_rows":51,"n_cols":14,"rows_kept":51,"cut":false,"hidden":false,"merged":[[11,2,11,3],[22,4,22,6]]}
[]
[null,"Annual Service Volume Estimation (ASV)"]
[null,null,null,null,null,null,null,null,null,null,0,"Calculated Cells"]
[null,"Use the capacities determined in the capacity model to estimate ASV",null,null,null,null,null,null,null,null,0,"Input Cells"]
[null,null,null,null,null,null,null,null,null,null,0,"Linked Cells (within this worksheet)"]
[null,"ASV Calculations:","{D * H * Cw = ASV}",null,"D Factor","H Factor","Cw","ASV",null,null,150000,"Output Cells"]
[null,null,null,null,290,9,{"$f":"K25","v":58.02},{"$f":"ROUND($E7*$F7*G7,-2)","v":151400}]
[]
[null,"D = Annual Demand/Avg. Peak Month Daily Demand"]
[null,"H = Avg. Peak Month Daily Demand/Avg. Peak Hour Demand"]
[]
[null,"Fleet Mix Index","21-50",null,"(C+3D)%",{"$f":"IF(C12=L16,1,IF(C12=M16,2,3))","v":2}]
[null,null,"(C = Large Aircraft (i.e. Large-TP + Large-Jet + Large-757), D = Heavy Aircraft)"]
[null," Weighted Average Capacity Calculations:",null,null,null,null,null,null,null,"Weighting Factors"]
[null,"Runway use / weather","Hourly Capacity","% Occurrence","% Max Capacity","Weighting Factor","P*C*W","P*W",null,null,"VMC Mix","IMC Mix Indexes"]
[null,"VMC (Optimal)",60,0.91,{"$f":"C16/MAX($C$16:$C$20)","v":1},{"$f":"IF(E23=B51,1,(IF(E16>=0.91,1,IF(E16>=0.81,5,IF(E16>=0.66,15,IF(E16>=0.51,20,25))))))","v":1},{"$f":"C16*D16*F16","v":54.6},{"$f":"D16*F16","v":0.91},null,"% of Max Cap","0 - 180","0-20","21-50","51-180"]
[null,"IMC (Instrument)",38,0.09,{"$f":"C17/MAX($C$16:$C$20)","v":0.6333333333333333},{"$f":"IF($E$23=$B$51,1,IF(E17>=0.91,1,IF(E17>=0.81,INDEX($L$18:$N$21,1,$F$12),IF(E17>=0.66,INDEX($L$18:$N$21,2,$F$12),IF(E17>=0.51,INDEX($L$18:$N$21,3,$F$12),INDEX($L$18:N24,4,$F$12))))))","v":1},{"$f":"C17*D17*F17","v":3.42},{"$f":"D17*F17","v":0.09},null,"91+",1,1,1,1]
[null,"other 1",null,null,{"$f":"C18/MAX($C$16:$C$20)","v":0},{"$f":"IF($E$23=$B$51,1,IF(E18>=0.91,1,IF(E18>=0.81,INDEX($L$18:$N$21,1,$F$12),IF(E18>=0.66,INDEX($L$18:$N$21,2,$F$12),IF(E18>=0.51,INDEX($L$18:$N$21,3,$F$12),INDEX($L$18:N25,4,$F$12))))))","v":1},{"$f":"C18*D18*F18","v":0},{"$f":"D18*F18","v":0},null,"81 - 90",5,1,3,5]
[null,"other 2",null,null,{"$f":"C19/MAX($C$16:$C$20)","v":0},{"$f":"IF($E$23=$B$51,1,IF(E19>=0.91,1,IF(E19>=0.81,INDEX($L$18:$N$21,1,$F$12),IF(E19>=0.66,INDEX($L$18:$N$21,2,$F$12),IF(E19>=0.51,INDEX($L$18:$N$21,3,$F$12),INDEX($F$31:H37,4,$F$12))))))","v":1},{"$f":"C19*D19*F19","v":0},{"$f":"D19*F19","v":0},null,"66 - 80",15,2,8,15]
[null,"other 3",null,null,{"$f":"C20/MAX($C$16:$C$20)","v":0},{"$f":"IF($E$23=$B$51,1,IF(E20>=0.91,1,IF(E20>=0.81,INDEX($L$18:$N$21,1,$F$12),IF(E20>=0.66,INDEX($L$18:$N$21,2,$F$12),IF(E20>=0.51,INDEX($L$18:$N$21,3,$F$12),INDEX($F$31:H38,4,$F$12))))))","v":1},{"$f":"C20*D20*F20","v":0},{"$f":"D20*F20","v":0},null,"51 - 65",20,3,12,20]
[null,null,"(C)","(P)",null,"(W)",null,null,null,"0 - 50",25,4,16,25]
[]
[null,null,null,null,"Weighting Factors NOT USED"]
[null,null,null,null,null,null,null,null,null,"Above Table is from AC 150/5060-5, Airport Capacity and Delay Table 3-1"]
[null,null,null,{"$f":"SUM(D16:D20)","v":1},null,null,{"$f":"SUM(G16:G24)","v":58.02},{"$f":"SUM(H16:H24)","v":1},null,"Cw   =   ",{"$f":"G25/H25","v":58.02}]
[]
[]
[]
[]
[]
[]
[]
[]
[]
[]
[]
[]
[]
[]
[]
[]
[]
[]
[]
[]
[]
[]
[]
[null,"Save"]
[null,"Weighting Factors USED"]
[null,"Weighting Factors NOT USED"]

{"sheet":"Single Model","index":4,"n_rows":190,"n_cols":18,"rows_kept":190,"cut":false,"hidden":false,"merged":[[31,5,31,6],[42,10,42,11],[12,8,13,8],[25,2,25,3],[25,5,25,6],[26,2,26,3],[28,5,29,8],[27,2,27,3],[27,5,27,6],[26,5,26,6],[3,1,3,8],[3,10,3,17],[5,2,5,3],[5,5,5,7],[12,2,13,2],[12,3,13,3],[12,4,13,4],[12,5,13,5],[12,6,13,6],[12,7,13,7],[13,12,13,14]]}
[]
[null,null,null,null,null,"SPREADSHEET CAPACITY MODEL - SINGLE RUNWAY"]
[]
[null,"INPUTS",null,null,null,null,null,null,null,null,"OUTPUTS"]
[]
[null,"Meteorological Conditions","VMC, % Occurrence",null,0.5,"IMC, % Occurrence",null,null,{"$f":"1-E6","v":0.5},null,null,null,null,null,null,"VMC","IMC","Average"]
[null,null,null,null,null,null,null,null,null,null,"Arrivals Only Capacity",null,null,null,null,{"$f":"MIN($E$26,$E$27)*((3600-$I$26)/'Single Work Tab'!K77)*IF($C$28=\"NO\",0.9,1)","v":36.682154339832323},{"$f":"MIN($E$26,$E$27)*ROUND((3600-$I$26)/'Single Work Tab'!K97,0)*IF($C$28=\"NO\",0.9,1)","v":28},{"$f":"'Single Model'!E6*P7+'Single Model'!I6*Q7","v":32.341077169916161}]
[null,"VMC-Departure-Arrival Separation",2,"nm","Arrival - Arrival Std. Dev.",null,null,18,"sec",null,"Arrivals Capacity (including TNG's)",null,null,null,null,{"$f":"P7*I11","v":36.682154339832323},{"$f":"Q7*I11","v":28},{"$f":"'Single Model'!E6*P8+'Single Model'!I6*Q8","v":32.341077169916161}]
[null,"IMC-Departure-Arrival Separation",2,"nm","Departure ROT Std. Dev.",null,null,6,"sec",null,"Departures Only Capacity",null,null,null,null,{"$f":"(3600-$I$26)/'Single Work Tab'!K87","v":51.063829787234056},{"$f":"(3600-$I$26)/'Single Work Tab'!K107","v":48.780487804878049},{"$f":"'Single Model'!E6*P9+'Single Model'!I6*Q9","v":49.922158796056053}]
[null,"Length of Common Approach",7,"nm","Z-Value, 95% Confidence",null,null,1.645,"------------",null,"Mixed Ops - Departure Capacity (including TNG's)",null,null,null,null,{"$f":"'Single Work Tab'!L135+P8-P7","v":10.637824758551375},{"$f":"'Single Work Tab'!L145+Q8-Q7","v":29.604068013043175},{"$f":"'Single Model'!E6*P10+'Single Model'!I6*Q10","v":20.120946385797275}]
[null,"Operations Assumption on Touch -N- Go's",null,0,"T-Factor (Touch-N-Go's)",null,null,null,{"$f":"IF(D11>5%,(1+D11)*0.93,1)","v":1},null,"Total Mixed Operations Capacity",null,null,null,null,{"$f":"P8+P10","v":47.319979098383698},{"$f":"Q8+Q10","v":57.604068013043175},{"$f":"'Single Model'!E6*P11+'Single Model'!I6*Q11","v":52.462023555713436}]
[null,null,null,"a",null,null,null,null,null,null,"Arrivals Percentage ",null,null,null,null,{"$f":"(IF(P7>P8,P7,P8)/P11)","v":0.77519379844961234},{"$f":"(IF(Q7>Q8,Q7,Q8)/Q11)","v":0.48607678182832531},{"$f":"(IF(R7>R8,R7,R8))/R11","v":0.61646644521004224}]
[null,"Aircraft Classification","Small - S","Small - T","Small +","Large-TP","Large-Jet","Large-757","Heavy"]
[null,"New Category",null,null,null,null,null,null,null,null,null,null,"Pareto Frontier Chart Selection",null,null,"IMC",null," "]
[null,"Previous FAA Category","A","B","C","C","C","C","D",null,null,null,null,null,null,null,{"$f":"P14&\" Arrival -Departure Capacity Frontier\"","v":"IMC Arrival -Departure Capacity Frontier"}]
[null,"Maximum Gross Takeoff Weight (MTOW)","Less than 12,500 lbs (Single Engine)","Less than 12,500 lbs (Twin Engine)","Between 12,500 lbs and 41,000 lbs","Between 41,000 lbs and 255,000 lbs","Between 41,000 lbs and 300,000 lbs","Boeing 757 Series","More than 300,000 lbs",null,"Save - Used for Graphing only!",null,null,null,null,null,"Used in Graph"]
[null,"Operating Fleet Mix","Enter the actual or expected % share for each aircraft class",null,null,null,null,null,{"$f":"IF('Single Model'!J18<>100%,\"(ADJUST VALUES)\",\"\")","v":""},null,"Departures","Arrivals","Departures","Arrivals","Departures","Arrivals"]
[null,"Share Allocations",0,0,0.2,0.3,0.3,0.1,0.1,{"$f":"SUM('Single Model'!C18:I18)","v":1},0,{"$f":"'Single Work Tab'!$K$79","v":36.682154339832323},0,{"$f":"'Single Work Tab'!$K$99","v":27.667353283217924},0,{"$f":"E6*L18+I6*N18","v":32.174753811525122},{"$f":"0","v":0},{"$f":"IF($P$14=\"VMC\",L18,IF($P$14=\"IMC\",N18,P18))","v":27.667353283217924}]
[null,null,null,null,null,null,null,null,null,null,{"$f":"P10","v":10.637824758551375},{"$f":"IF($P$7>$P$8,$P$7,$P$8)","v":36.682154339832323},{"$f":"Q10","v":29.604068013043175},{"$f":"IF($Q$7>$Q$8,$Q$7,$Q$8)","v":28},{"$f":"R10","v":20.120946385797275},{"$f":"IF($R$7>$R$8,$R$7,$R$8)","v":32.341077169916161},{"$f":"IF(P14=\"VMC\",K19,IF(P14=\"IMC\",M19,O19))","v":29.604068013043175},{"$f":"IF($P$14=\"VMC\",L19,IF($P$14=\"IMC\",N19,P19))","v":28}]
[null,"Arrival Runway Occupancy Time","Enter the estimated time from touchdown to runway exit",null,null,null,null,null,null,null,{"$f":"P9","v":51.063829787234056},0,{"$f":"Q9","v":48.780487804878049},0,{"$f":"R9","v":49.922158796056053},0,{"$f":"IF(P14=\"VMC\",K20,IF(P14=\"IMC\",M20,O20))","v":48.780487804878049},0]
[null,"Time in Seconds",32,40,42,45,46,51,55,null,"VMC",null,"IMC",null,"Average"]
[]
[null,"Average Approach Speeds","Enter the average suggested manufacturers final approach speed under normal conditions"]
[null,"Velocity in Knots",90,100,120,130,135,140,150]
[]
[null,"Runway Exit Availability","Excellent or Default",null,{"$f":"IF(C26=$B$174,F174,(IF(C26=$B$175,F175,(IF(C26=$B$176,F176,F177)))))","v":1},"Runway Crossing Delay ?",null,"No",{"$f":"IF(H26=\"Yes\",(H28*H27),0)","v":0}]
[null,"Full Parallel Taxiway","Full Taxiway",null,{"$f":"IF(C27=$B$188,1,(IF(C27=$B$189,0.8,0.5)))","v":1},"Average Crossing Delay",null,30,"sec"]
[null,"Airport Traffic Control Tower","Yes",null,"Availability","Crossings during Peak Hour",null,20,"Frequency"]
[null,null,null,null,null,"Use Advanced Features to change ATC procedures and adjust Arrival/Departure mix and priority"]
[]
[]
[null,"Arrival Gap Spacing Buffer ",0,"sec","<----OR---->","Arrival Gap Spacing Buffer ",null,0,"nmiles",null,"Method #1 for adjusting Arrival/Departure Mix (Gap Spacing)"]
[null,"Departure Hold Buffer",0,"sec",null,null,null,{"$f":"IF(AND(C32>0,H32>0),\"Use EITHER Time Spacing OR Distance Spacing!\",\"\")","v":""},null," ","Gap Spacing allows more time between arrival pairs to permit more than one departure  between pairs."]
[]
[null,"Arrival-Arrival Separation Requirements ",null,"Distance in Nautical Miles (nm)",null,null,null,null,null,null,"Method #2 for adjusting Arrival/Departure Mix (Variable Airfield Operations)"]
[null,"Trailing Aircraft","Leading Aircraft","VMC","IMC",null,null,null,null,null,"Variable operations permits operating with different capacties (e.g. Departure Priority, and Mixed) "]
[null,"Small-S --- Heavy","Small-S, Small-T",1.9,3,2.5,"Alternate IMC Minimum ",null,null,null,"for portions of the design hour."]
[null,"Small-S --- Small+","Small +",1.9,3,2.5,"If Observed AROT < 50 Seconds,"]
[null,"Large --- Heavy","Small +",1.9,3,2.5,"2.5 nm can be used in place of 3.0 nm"]
[null,"Small-S --- Small+","Large-TP, Jet",2.7,4]
[null,"Large --- Heavy","Large-TP, Jet",1.9,3,2.5,null,null,null,null,"Arrival Percentage Variance (Portion of Capacity Hour in Mixed/Arr. Priority/Dep. Priority) "]
[null,"Small-S --- Small+","Large-757",3.7,5,null,null,null,null,null,"VMC Allocations",null,0,"Mixed Operations",null,null,{"$f":"M42*60","v":0},"min"]
[null,"Large --- Heavy","Large-757",2.7,4,null,null,null,null,null,{"$f":"IF(SUM(M42:M44)<>100%,\"ADJUST ALLOCATIONS\",\"\")","v":""},null,0.5,"Arrivals Only",null,null,{"$f":"M43*60","v":30},"min"]
[null,"Small-S --- Small-T","Heavy",4.5999999999999996,6,null,null,null,null,null,null,null,0.5,"Departures Only",null,null,{"$f":"M44*60","v":30},"min"]
[null,"Small + --- 757","Heavy",3.6,5,null,null,null,null,null,null,null,{"$f":"SUM(M42:M44)","v":1},"Total",null,null,{"$f":"SUM(Q42:Q44)","v":60},"min"]
[null,"Heavy","Heavy",2.7,4,null,null,null,null,null,"Calc. % Arr",{"$f":"Q47/Q49","v":0.41804938088918464},{"$f":"(Q42/60)*P8","v":0},"Arrivals  (Mixed)",null,null,null,"Average"]
[null,null,null,null,null,null,null,null,null,null,null,null,{"$f":"(Q43/60)*P7","v":18.341077169916161},"Arrivals (Only)",null,null,{"$f":"M46+M47","v":18.341077169916161},"Arrivals"]
[null,"Departure - Departure Separation Requirements ",null,"Time in Seconds",null,null,null,null,null,null,null,null,{"$f":"(Q42/60)*P10","v":0},"Departures (Mixed)",null,null,{"$f":"M48+M49","v":25.531914893617028},"Departures"]
[null,"Trailing Aircraft","Leading Aircraft","VMC","IMC",null,null,null,null,null,null,null,{"$f":"(Q44/60)*P9","v":25.531914893617028},"Departures (Only)",null,null,{"$f":"Q48+Q47","v":43.872992063533189},"Total"]
[null,"Small-S --- Small +","Small-S- Small +",35,60]
[null,"Large -TP --- Large 757","Small-S- Small +",45,60]
[null,"Heavy","Small-S- Small +",50,60]
[null,"Small-S --- Small+","Large TP, Large Jet",80,80]
[null,"Large --- Heavy","Large TP, Large Jet",60,60]
[null,"Small-S --- Large Jet","Large 757, Heavy",120,120]
[null,"Large 757, Heavy","Large 757, Heavy",90,90]
[]
[]
[]
[]
[]
[]
[]
[]
[]
[]
[]
[]
[]
[]
[]
[]
[]
[]
[]
[]
[]
[]
[]
[]
[]
[]
[]
[]
[]
[]
[]
[]
[]
[]
[]
[]
[]
[]
[]
[]
[]
[]
[]
[]
[]
[]
[]
[]
[]
[]
[]
[]
[]
[]
[]
[]
[]
[]
[]
[]
[]
[]
[]
[]
[]
[]
[]
[]
[]
[]
[]
[]
[]
[]
[]
[]
[]
[]
[]
[]
[]
[]
[]
[]
[]
[]
[]
[]
[]
[]
[]
[]
[]
[]
[]
[]
[]
[]
[]
[]
[]
[]
[]
[]
[]
[]
[]
[]
[]
[]
[]
[]
[]
[]
[]
[]
[null,null,null,null,null,"Final Calculated E-Factor Values)"]
[null,"Excellent or Default",1,"reduction factor",null,1]
[null,"Good (2-3 Exits)",0.85,0.98,null,{"$f":"C175+IF((SUM($E$18:$H$18)+3*$I$18)>80%,1,((SUM($E$18:$H$18)+3*$I$18)/80%))*(D175-C175)","v":0.98}]
[null,"Poor (1 Exit)",0.7,0.8,null,{"$f":"C176+IF((SUM($E$18:$H$18)+3*$I$18)>80%,1,((SUM($E$18:$H$18)+3*$I$18)/80%))*(D176-C176)","v":0.8}]
[null,"Insufficient (No Exits)",0.62,0.75,null,{"$f":"C177+IF((SUM($E$18:$H$18)+3*$I$18)>80%,1,((SUM($E$18:$H$18)+3*$I$18)/80%))*(D177-C177)","v":0.75}]
[]
[]
[]
[null,"Yes"]
[null,"No"]
[]
[null,"VMC"]
[null,"IMC"]
[null,"Average"]
[]
[null,"Full Taxiway"]
[null,"Partial Taxiway"]
[null,"No Taxiway"]

{"sheet":"Dual Model","index":5,"n_rows":182,"n_cols":19,"rows_kept":182,"cut":false,"hidden":false,"merged":[[31,2,31,3],[16,2,17,2],[16,3,17,3],[32,5,33,8],[36,5,36,6],[16,4,17,4],[16,5,17,5],[29,2,29,3],[29,5,29,6],[30,2,30,3],[3,1,3,8],[3,10,3,17],[9,6,9,8],[5,2,5,3],[5,5,5,7],[8,6,8,8],[47,10,47,11],[16,7,17,7],[16,8,17,8],[16,6,17,6],[35,5,35,6]]}
[]
[null,null,null,null,null,null,"SPREADSHEET CAPACITY MODEL - DUAL PARALLEL RUNWAYS"]
[]
[null,"INPUTS",null,null,null,null,null,null,null,null,"OUTPUTS"]
[]
[null,"Meteorological Conditions","VMC, % Occurrence",null,0.9,"IMC, % Occurrence",null,null,{"$f":"1-E6","v":9.9999999999999978E-2},null,"Runway Allocations",null,null,null,null,"VMC","IMC","Average"]
[null,null,null,null,null,null,null,null,null,null,"Arrivals only capacity (Rnwy 1)",null,null,null,null,{"$f":"$E$30*ROUND(INDEX('Dual Lookup'!$C$5:$J$9,1,'Dual Model'!$C$8),0)*IF($C$32=\"No\",0.9,1)","v":37},{"$f":"$E$30*ROUND(INDEX('Dual Lookup'!$C$15:$J$19,1,'Dual Model'!$C$8),0)*IF($C$32=\"No\",0.9,1)","v":28},{"$f":"'Dual Model'!$E$6*P7+'Dual Model'!$I$6*Q7","v":36.1}]
[null,"Runway Scenario Selection",8,"<--- Select a Dual Parallel Runway Scenario in cell C8",null,null,null,null,null,null,"Arrivals capacity (Rnwy 1) (inc. TNGs)",null,null,null,null,{"$f":"($I$15)*P7","v":37},{"$f":"($I$15)*Q7","v":28},{"$f":"'Dual Model'!$E$6*P8+'Dual Model'!$I$6*Q8","v":36.1}]
[null,"Divergent Departure Routes","Yes","15 deg or more","Runway 1 Operations",null,{"$f":"VLOOKUP($C$8,$L$152:$R$159,6,FALSE)","v":"Mixed Operations"},null,null,null,"Mixed Departures Capacity (Rnwy 1) (inc. TNGs)",null,null,null,null,{"$f":"ROUND(INDEX('Dual Lookup'!$C$5:$J$9,2,'Dual Model'!$C$8),0)+(D15*P8)","v":7},{"$f":"ROUND(INDEX('Dual Lookup'!$C$15:$J$19,2,'Dual Model'!$C$8),0)+(D15*Q8)","v":31},{"$f":"'Dual Model'!$E$6*P9+'Dual Model'!$I$6*Q9","v":9.3999999999999986}]
[null,"Runway Separation Distance",750,"ft","Runway 2 Operations",null,{"$f":"VLOOKUP($C$8,$L$152:$R$159,7,FALSE)","v":"Mixed Operations"},null,null,null,"Arrivals only capacity (Rnwy 2)",null,null,null,null,{"$f":"ROUND(INDEX('Dual Lookup'!$C$5:$J$9,3,'Dual Model'!$C$8),0)*$E$30*IF($C$32=\"No\",0.9,1)","v":37},{"$f":"ROUND(INDEX('Dual Lookup'!$C$15:$J$19,3,'Dual Model'!$C$8),0)*$E$30*IF($C$32=\"No\",0.9,1)","v":28},{"$f":"'Dual Model'!$E$6*P10+'Dual Model'!$I$6*Q10","v":36.1}]
[null,null," ",null,null,null,null,null,null,null,"Arrivals capacity (Rnwy 2) (inc. TNGs)",null,null,null,null,{"$f":"($I$15)*P10","v":37},{"$f":"($I$15)*Q10","v":28},{"$f":"'Dual Model'!$E$6*P11+'Dual Model'!$I$6*Q11","v":36.1}]
[null,"VMC-Departure-Arrival Separation",2,"nm","Arrival - Arrival Std. Dev.",null,null,18,"sec",null,"Mixed Departures Capacity (Rnwy 2) (inc. TNGs)",null,null,null,null,{"$f":"ROUND(INDEX('Dual Lookup'!$C$5:$J$9,4,'Dual Model'!$C$8),0)+(D15*P11)","v":7},{"$f":"ROUND(INDEX('Dual Lookup'!$C$15:$J$19,4,'Dual Model'!$C$8),0)+(D15*Q11)","v":31},{"$f":"'Dual Model'!$E$6*P12+'Dual Model'!$I$6*Q12","v":9.3999999999999986}]
[null,"IMC-Departure-Arrival Separation",2,"nm","Departure ROT Std. Dev.",null,null,6,"sec",null,"Departures only capacity (Rnwy 2)",null,null,null,null,{"$f":"INDEX('Dual Lookup'!$C$5:$J$10,5,'Dual Model'!$C$8)","v":0},{"$f":"ROUND(INDEX('Dual Lookup'!$C$15:$J$19,5,'Dual Model'!$C$8),0)","v":0},{"$f":"'Dual Model'!$E$6*P13+'Dual Model'!$I$6*Q13","v":0}]
[null,"Length of Common Approach",7,"nm","Z-Value, 95% Confidence",null,null,1.645,"------------",null,"Total Arrivals & Departures Capacity",null,null,null,null,{"$f":"IF(P13>0,P13,P12+MAX(P10:P11))+(P9+MAX(P7:P8))","v":88},{"$f":"IF(Q13>0,Q13,Q12+MAX(Q10:Q11))+(Q9+MAX(Q7:Q8))","v":118},{"$f":"'Dual Model'!$E$6*P14+'Dual Model'!$I$6*Q14","v":91}]
[null,"Operations Assumption on Touch -N- Go's",null,0,"T-Factor (Touch-N-Go's)",null,null,null,{"$f":"IF(D15>5%,(1+D15)*0.93,1)","v":1},null,"Arrivals Percentage",null,null,null,null,{"$f":"(IF(P8>P7,P8,P7)+IF(P11>P10,P11,P10))/P14","v":0.84090909090909094},{"$f":"(IF(Q8>Q7,Q8,Q7)+IF(Q11>Q10,Q11,Q10))/Q14","v":0.47457627118644069},{"$f":"(IF(R8>R7,R8,R7)+IF(R11>R10,R11,R10))/R14","v":0.79340659340659347}]
[]
[null,"Aircraft Classification","Small - S","Small - T","Small +","Large-TP","Large-Jet","Large-757","Heavy"]
[null,"New Category"]
[null,"Previous FAA Category","A","B","C","C","C","C","D"]
[null,"Maximum Gross Takeoff Weight (MTOW)","Less than 12,500 lbs (Single Engine)","Less than 12,500 lbs (Twin Engine)","Between 12,500 lbs and 41,000 lbs","Between 41,000 lbs and 255,000 lbs","Between 41,000 lbs and 300,000 lbs","Boeing 757 Series","More than 300,000 lbs"]
[null,"Operating Fleet Mix","Enter the actual or expected % share for each aircraft class",null,null,null,null,null,{"$f":"IF('Dual Model'!J22<>100%,\"(ADJUST VALUES)\",\"\")","v":""}]
[null,"Share Allocations",0,0.1,0,0.3,0.5,0.05,0.05,{"$f":"SUM('Dual Model'!C22:I22)","v":1}]
[]
[null,"Arrival Runway Occupancy Time","Enter the estimated time from touchdown to runway exit"]
[null,"Time in Seconds",32,40,42,45,46,51,55]
[]
[null,"Average Approach Speeds","Enter the average suggested manufacturers final approach speed under normal conditions"]
[null,"Velocity in Knots",90,100,120,130,135,140,150]
[]
[null,"Runway Exit Availability","Excellent (4 or more Exits)",null,{"$f":"IF($C$30=$B$161,$F$161,(IF($C$30=$B$162,$F$162,(IF($C$30=$B$163,$F$163,$F$164)))))","v":1},"Runway Crossing Delay ?",null,"No",{"$f":"IF(H30=\"Yes\",(H31*H32),0)","v":0}]
[null,"Full Parallel Taxiway","Full Taxiway",null,1,"Average Crossing Delay",null,0,"sec"]
[null,"Airport Traffic Control Tower","Yes",null,"Availability","Crossings during Peak Hour",null,0,"Frequency"]
[null,null,null,null,null,"   Use Advanced Features to change ATC procedures and adjust Arrival/Departure mix and priority"]
[]
[]
[null,"Arrival Gap Spacing Buffer ",0,"sec","<----OR---->","Arrival Gap Spacing Buffer ",null,0,"nmiles",null,"Method #1 for adjusting Arrival/Departure Mix (Gap Spacing)"]
[null,"Departure Hold Buffer",10,"sec",null,"Diagonal Separation Allowed",null,1.5,"nmiles"," ","Gap Spacing allows more time between arrival pairs to permit more than one departure  between pairs."]
[]
[null,"Arrival-Arrival Separation Requirements ",null,"Distance in Nautical Miles (nm)",null,null,null,null,null,null,"Method #2 for adjusting Arrival/Departure Mix (Variable Airfield Operations)"]
[null,"Trailing Aircraft",null,"VMC","IMC",null,null,null,null,null,"Variable operations permits operating with different capacties (e.g. Departure Priority, and Mixed) "]
[null,"Small-S --- Heavy","Small-S, Small-T",1.9,3,2.5,"Alternate IMC Minimum ",null,null,null,"for portions of the design hour.  "]
[null,"Small-S --- Small+","Small +",1.9,3,2.5,"If Observed AROT < 50 Seconds,"]
[null,"Large --- Heavy","Small +",1.9,3,2.5,"2.5 nm can be used in place of 3.0 nm"]
[null,"Small-S --- Small+","Large-TP, Jet",2.7,4]
[null,"Large --- Heavy","Large-TP, Jet",1.9,3,2.5,null,null,null,null," "]
[null,"Small-S --- Small+","Large-757",3.7,5,null,null,null,null,null,"Arrival Percentage Variance (Portion of Capacity Hour in Mixed/Arr. Priority/Dep. Priority) "]
[null,"Large --- Heavy","Large-757",2.7,4,null,null,null,null,null,"VMC Allocations",null,1,"Mixed Operations",null,null,{"$f":"M47*60","v":60},"min"]
[null,"Small-S --- Small-T","Heavy",4.5999999999999996,6,null,null,null,null,null,{"$f":"IF(SUM(M47:M49)<>100%,\"ADJUST ALLOCATIONS\",\"\")","v":""},null,0,"Arrivals Only",null,null,{"$f":"M48*60","v":0},"min"]
[null,"Small + --- 757","Heavy",3.6,5,null,null,null,null,null,null,null,0,"Departures Only",null,null,{"$f":"M49*60","v":0},"min"]
[null,"Heavy","Heavy",2.7,4,null,null,null,null,null,null,null,{"$f":"SUM(M47:M49)","v":1},"Total",null,null,{"$f":"SUM(Q47:Q49)","v":60},"min"]
[null,null,null,null,null,null,null,null,null,null,"Calc. % Arr",{"$f":"Q52/Q54","v":0.84090909090909094},{"$f":"(Q47/60)*(P8+P11)","v":74},"Arrivals  (Mixed)",null,null,null,"Average"]
[null,"Departure - Departure Separation Requirements ",null,"Time in Seconds",null,null,null,null,null,null,null,null,{"$f":"(Q48/60)*(P7+P10)","v":0},"Arrivals (Only)",null,null,{"$f":"M52+M51","v":74},"Arrivals"]
[null,"Trailing Aircraft","Leading Aircraft","VMC","IMC",null,null,null,null,null,null,null,{"$f":"(Q47/60)*(P12+P9)","v":14},"Departures (Mixed)",null,null,{"$f":"M53+M54","v":14},"Departures"]
[null,"Small-S --- Small +","Small-S- Small +",35,60,null,null,null,null,null,null,null,{"$f":"(Q49/60)*P13","v":0},"Departures (Only)",null,null,{"$f":"Q53+Q52","v":88},"Total"]
[null,"Large -TP --- Large 757","Small-S- Small +",45,60]
[null,"Heavy","Small-S- Small +",50,60]
[null,"Small-S --- Small+","Large TP, Large Jet",80,80]
[null,"Large --- Heavy","Large TP, Large Jet",60,60]
[null,"Small-S --- Large Jet","Large 757, Heavy",120,120]
[null,"Large 757, Heavy","Large 757, Heavy",90,90]
[]
[]
[]
[]
[]
[]
[]
[]
[]
[]
[]
[]
[]
[]
[]
[]
[]
[]
[]
[]
[]
[]
[]
[]
[]
[]
[]
[]
[]
[]
[]
[]
[]
[]
[]
[]
[]
[]
[]
[]
[]
[]
[]
[]
[]
[]
[]
[]
[]
[]
[]
[]
[]
[]
[]
[]
[]
[]
[]
[]
[]
[]
[]
[]
[]
[]
[]
[]
[]
[]
[]
[]
[]
[]
[]
[]
[]
[]
[]
[]
[]
[]
[]
[]
[]
[]
[]
[]
[]
[]
[]
[null,null,null,null,null,null,null,null,null,null,null,1,"Dependent, Arr-Only (1), Dep-Only (2)",null,null,null,"Arrivals Only","Departures Only","tabs 1 and 2"]
[null,null,null,null,null,null,null,null,null,null,null,2,"Independent, Arr-Only (1), Dep-Only (2)",null,null,null,"Arrivals Only","Departures Only","tabs 1 and 2"]
[null,{"$f":"MAX(P12:P13)","v":7},{"$f":"MAX(Q12:Q13)","v":31},null,null,null,null,null,null,null,null,3,"Dependent, Mixed (1), Dep-Only (2)",null,null,null,"Mixed Operations","Departures Only","tabs 3 and 4"]
[null,null,null,null,null,null,null,null,null,null,null,4,"Independent, Mixed (1), Dep-Only (2)",null,null,null,"Mixed Operations","Departures Only","tabs 1 and 2"]
[null,{"$f":"\"VMC-Arrivals = \"&IF($C$10<2500,\"Dependent\",\"Independent\")","v":"VMC-Arrivals = Dependent"},null,null,null,null,null,null,null,null,null,5,"Dependent, Mixed (1), Arr-Only (2)",null,null,null,"Mixed Operations","Arrivals Only","tabs 3 and 4"]
[null,{"$f":"\"VMC-Departures = \"&IF($C$10<700,\"Dependent\",\"Independent\")","v":"VMC-Departures = Independent"},null,null,null,null,null,null,null,null,null,6,"Independent, Mixed (1), Arr-Only (2)",null,null,null,"Mixed Operations","Arrivals Only","tabs 1 and 2"]
[null,{"$f":"\"IMC-Arrivals = \"&IF(AND($C$32=\"Yes\",$C$10>3399),\"Independent\",IF(AND($C$32=\"No\",$C$10>4299),\"Independent\",\"Dependent\"))","v":"IMC-Arrivals = Dependent"},null,null,null,null,null,null,null,null,null,7,"Dependent, Mixed (1), Mixed (2)",null,null,null,"Mixed Operations","Mixed Operations"]
[null,{"$f":"\"IMC-Departures = \"&IF($C$10<2500,\"Dependent\",\"Independent\")","v":"IMC-Departures = Dependent"},null,null,null,null,null,null,null,null,null,8,"Independent, Mixed (1), Mixed (2)",null,null,null,"Mixed Operations","Mixed Operations"]
[null,null,null,null,null,"Final Calculated E-Factor Values)"]
[null,"Excellent (4 or more Exits)",1,"reduction factor",null,1,null,null,null,null,null,null,"Yes"]
[null,"Good (2-3 Exits)",0.85,0.98,null,{"$f":"C162+IF((SUM($E$22:$H$22)+3*$I$22)>80%,1,((SUM($E$22:$H$22)+3*$I$22)/80%))*(D162-C162)","v":0.98},null,null,null,null,null,null,"No"]
[null,"Poor (1 Exit)",0.7,0.8,null,{"$f":"C163+IF((SUM($E$22:$H$22)+3*$I$22)>80%,1,((SUM($E$22:$H$22)+3*$I$22)/80%))*(D163-C163)","v":0.8}]
[null,"Insufficient (No Exits)",0.62,0.75,null,{"$f":"C164+IF((SUM($E$22:$H$22)+3*$I$22)>80%,1,((SUM($E$22:$H$22)+3*$I$22)/80%))*(D164-C164)","v":0.75},null,null,null,null,null,null,"Arrivals Only"]
[null,null,null,null,null,null,null,null,null,null,null,null,"Mixed Operations"]
[null,null,null,null,null,null,null,null,null,null,null,null,"Departures Only"]
[]
[null,"Yes"]
[null,"No"]
[]
[null,"VMC"]
[null,"IMC"]
[null,"Average"]
[]
[null,"Full Taxiway"]
[null,"Partial Taxiway"]
[null,"No Taxiway"]
[]
[]
[null,1.5]
[null,2]
[null,3]

{"sheet":"Intersecting Model","index":6,"n_rows":177,"n_cols":19,"rows_kept":177,"cut":false,"hidden":false,"merged":[[3,1,3,8],[3,10,3,17],[8,6,8,8],[9,6,9,8],[38,5,38,6],[32,2,32,3],[33,2,33,3],[34,2,34,3],[32,5,32,6],[35,5,36,8],[5,2,5,3],[12,2,12,3],[10,7,10,8],[8,4,8,5],[11,2,11,3],[10,2,10,3],[17,4,17,7],[5,5,5,7],[11,4,11,6],[12,4,12,6],[14,4,14,6],[15,4,15,6]]}
[]
[null,null,null,{"$f":"IF(C8=8,\"SEE DUAL MODEL WITH DIAGONAL APPROACH\",\"\")","v":""},null,"SPREADSHEET CAPACITY MODEL - DUAL INTERSECTING RUNWAYS"]
[]
[null,"INPUTS",null,null,null,null,null,null,null,null,"OUTPUTS"]
[]
[null,"Meteorological Conditions","VMC, % Occurrence",null,0.9,"IMC, % Occurrence",null,null,{"$f":"1-E6","v":9.9999999999999978E-2},null,"Runway Allocations",null,null,null,null,"VFR","IFR","Average"]
[null,null,null,null,null,null,null,null,null,null,"Arrivals only capacity (Rnwy 1)",null,null,null,null,{"$f":"ROUND(INDEX('Dual Lookup'!$C$26:$J$31,1,'Intersecting Model'!$C$8),0)*E33*IF($C$35=\"No\",0.9,1)","v":29.6},{"$f":"ROUND(INDEX('Dual Lookup'!$C$36:$J$41,1,'Intersecting Model'!$C$8),0)*E33*IF($C$35=\"No\",0.9,1)","v":22.400000000000002},{"$f":"'Intersecting Model'!E6*P7+'Intersecting Model'!I6*Q7","v":28.88}]
[null,"Runway Scenario Selection",3," <--- Select an Intersecting Runway Scenario in cell C8",null,null,null,null,null,null,"Arrivals capacity (Rnwy 1) (inc. TNGs)",null,null,null,null,{"$f":"$I$18*P7","v":29.6},{"$f":"$I$18*Q7","v":22.400000000000002},{"$f":"'Intersecting Model'!E6*P8+'Intersecting Model'!I6*Q8","v":28.88}]
[null,"Distance to Intersection (Rnwy 1)",1200,"ft","Runway 1 (Operations)",null,{"$f":"VLOOKUP($C$8,$L$160:$R$167,4,FALSE)","v":"Arrivals Only"},null,null,null,"Mixed Departures Capacity (Rnwy 1) (inc. TNGs)",null,null,null,null,{"$f":"ROUND(INDEX('Dual Lookup'!$C$26:$J$31,2,'Intersecting Model'!$C$8),0)+(P8*D18)","v":0},{"$f":"ROUND(INDEX('Dual Lookup'!$C$36:$J$41,2,'Intersecting Model'!$C$8),0)+(Q8*D18)","v":0},{"$f":"'Intersecting Model'!E6*P9+'Intersecting Model'!I6*Q9","v":0}]
[null,"Distance to Intersection (Rnwy 2)",2000,"ft","Runway 2 (Operations)",null,{"$f":"VLOOKUP($C$8,$L$160:$R$167,5,FALSE)","v":"Departures Only"},null,null,null,"Arrivals only capacity (Rnwy 2)",null,null,null,null,{"$f":"ROUND(INDEX('Dual Lookup'!$C$26:$J$31,3,'Intersecting Model'!$C$8),0)*E33*IF($C$35=\"No\",0.9,1)","v":0},{"$f":"ROUND(INDEX('Dual Lookup'!$C$36:$J$41,3,'Intersecting Model'!$C$8),0)*E33*IF($C$35=\"No\",0.9,1)","v":0},{"$f":"'Intersecting Model'!E6*P10+'Intersecting Model'!I6*Q10","v":0}]
[null,"Is Rnwy 1 departure in Rnwy 2 RSA ?","No",null,"Divergent Departure Routes",null,null,"Yes",null,null,"Arrivals capacity (Rnwy 2) (inc. TNGs)",null,null,null,null,{"$f":"$I$18*P10","v":0},{"$f":"$I$18*Q10","v":0},{"$f":"'Intersecting Model'!E6*P11+'Intersecting Model'!I6*Q11","v":0}]
[null,"Is Rnwy 1 departure in Rnwy 2 RPZ?","Yes",null,"Arrivals Deceleration Rate (avg.)",null,null,5.3,"ft/sec/sec",null,"Mixed Departures Capacity (Rnwy 2) (inc. TNGs)",null,null,null,null,{"$f":"ROUND(INDEX('Dual Lookup'!$C$26:$J$30,4,'Intersecting Model'!$C$8),0)+(P11*D18)","v":0},{"$f":"ROUND(INDEX('Dual Lookup'!$C$36:$J$40,4,'Intersecting Model'!$C$8),0)+(Q11*D18)","v":0},{"$f":"'Intersecting Model'!E6*P12+'Intersecting Model'!I6*Q12","v":0}]
[null,"Potential In-air conflict at Intersection","No",null,"Departures Acceleration Rate (avg.)",null,null,8,"ft/sec/sec",null,"Departures only capacity (Rnwy 2)",null,null,null,null,{"$f":"ROUND(INDEX('Dual Lookup'!$C$26:$J$31,5,'Intersecting Model'!$C$8),0)","v":41},{"$f":"ROUND(INDEX('Dual Lookup'!$C$36:$J$41,5,'Intersecting Model'!$C$8),0)","v":31},{"$f":"'Intersecting Model'!E6*P13+'Intersecting Model'!I6*Q13","v":40}]
[null,null,null,null,null,null,null,null,null,null,"Total Arrivals & Departures Capacity",null,null,null,null,{"$f":"IF(P13>0,P13,P12+MAX(P10:P11))+(P9+MAX(P7:P8))","v":70.599999999999994},{"$f":"IF(Q13>0,Q13,Q12+MAX(Q10:Q11))+(Q9+MAX(Q7:Q8))","v":53.400000000000006},{"$f":"'Intersecting Model'!E6*P14+'Intersecting Model'!I6*Q14","v":68.88}]
[null,"VMC-Departure-Arrival Separation",2,"nm","Arrival -Arrival Std. Dev.",null,null,18,"sec",null,"Arrivals Percentage",null,null,null,null,{"$f":"(IF(P8>P7,P8,P7)+IF(P11>P10,P11,P10))/P14","v":0.41926345609065163},{"$f":"(IF(Q8>Q7,Q8,Q7)+IF(Q11>Q10,Q11,Q10))/Q14","v":0.41947565543071158},{"$f":"(IF(R8>R7,R8,R7)+IF(R11>R10,R11,R10))/R14","v":0.41927990708478513}]
[null,"IMC-Departure-Arrival Separation",2,"nm","Departure Release Std. Dev.",null,null,6,"sec"]
[null,"Length of Common Approach",7,"nm","Z-Value, 95% Confidence",null,null,1.645,"------------"]
[null,"Operations Assumption on Touch -N- Go's",null,0,"T-Factor (Touch-N-Go's)",null,null,null,{"$f":"IF(D18>5%,(1+D18)*0.93,1)","v":1}]
[]
[null,"Aircraft Classification"]
[null,"New Category","Small - S","Small - T","Small +","Large-TP","Large-Jet","Large-757","Heavy"]
[null,"Previous FAA Category","A","B","C","C","C","C","D",null,null,null,null,null,null,null,null,null," "]
[null,"Maximum Gross Takeoff Weight (MTOW)","Less than 12,500 lbs (Single Engine)","Less than 12,500 lbs (Twin Engine)","Between 12,500 lbs and 41,000 lbs","Between 41,000 lbs and 255,000 lbs","Between 41,000 lbs and 300,000 lbs","Boeing 757 Series","More than 300,000 lbs"]
[null,"Operating Fleet Mix","Enter the actual or expected % share for each aircraft class",null,null,null,null,null,{"$f":"IF('Intersecting Model'!J25<>100%,\"(ADJUST VALUES)\",\"\")","v":""}]
[null,"Share Allocations",0,0.1,0,0.3,0.5,0.05,0.05,{"$f":"SUM('Intersecting Model'!C25:I25)","v":1}]
[]
[null,"Arrival Runway Occupancy Time","Enter the estimated time from touchdown to runway exit"]
[null,"Time in Seconds",32,40,42,45,46,51,55]
[]
[null,"Average Approach Speeds","Enter the average suggested manufacturers final approach speed under normal conditions"]
[null,"Velocity in Knots",90,100,120,130,135,140,150]
[]
[null,"Runway Exit Availability","Poor (1 Exit)",null,{"$f":"IF($C$33=$B$162,$G$163,(IF($C$33=$B$163,$G$164,(IF($C$33=$B$164,$G$165,$G$166)))))","v":0.8},"Runway Crossing Demand ",null,"No",{"$f":"IF(H33=\"Yes\",(H34*H35),0)","v":0},null," "]
[null,"Full Parallel Taxiway","Full Taxiway",null,1,"Average Crossing Delay",null,0,"sec",null,null," "]
[null,"Airport Traffic Control Tower","Yes",null,"Availability","Crossings during Peak Hour",null,0,"Frequency",null," "]
[null,null,null,null,null,"   Use Advanced Features to change ATC procedures and adjust Arrival/Departure mix and priority"]
[]
[]
[null,"Arrival Gap Spacing Buffer",0,"sec","<----OR---->","Arrival Spacing Buffer",null,0,"nmiles",null,"Method #1 for adjusting Arrival/Departure Mix (Gap Spacing)"]
[null,"Departure Hold Buffer",10,"sec",null,null,null,null,null," ","Gap Spacing allows more time between arrival pairs to permit more than one departure  between pairs."]
[]
[null,"Arrival-Arrival Separation Requirements ",null,"Distance in Nautical Miles (nm)",null,null,null,null,null,null,"Method #2 for adjusting Arrival/Departure Mix (Variable Airfield Operations)"]
[null,"Trailing Aircraft","Leading Aircraft","VMC","IMC",null,null,null,null,null,"Variable operations permits operating with different capacties (e.g. Departure Priority, and Mixed) "]
[null,"Small-S --- Heavy","Small-S, Small-T",1.9,3,2.5,"Alternate IMC Minimum ",null,null,null,"for portions of the design hour."]
[null,"Small-S --- Small+","Small +",1.9,3,2.5,"If Observed AROT < 50 Seconds,"]
[null,"Large --- Heavy","Small +",1.9,3,2.5,"2.5 nm can be used in place of 3.0 nm"]
[null,"Small-S --- Small+","Large-TP, Jet",2.7,4]
[null,"Large --- Heavy","Large-TP, Jet",1.9,3,2.5]
[null,"Small-S --- Small+","Large-757",3.7,5,null,null,null,null,null,"Arrival Percentage Variance (Portion of Capacity Hour in Mixed/Arr. Priority/Dep. Priority) "]
[null,"Large --- Heavy","Large-757",2.7,4,null,null,null,null,null,"VMC Allocations",null,0.5,"Mixed Operations",null,null,{"$f":"M50*60","v":30},"min"]
[null,"Small-S --- Small-T","Heavy",4.5999999999999996,6,null,null,null,null,null,{"$f":"IF(SUM(M50:M52)<>100%,\"ADJUST ALLOCATIONS\",\"\")","v":""},null,0.5,"Arrivals Only",null,null,{"$f":"M51*60","v":30},"min"]
[null,"Small + --- 757","Heavy",3.6,5,null,null,null,null,null,null,null,0,"Departures Only",null,null,{"$f":"M52*60","v":0},"min"]
[null,"Heavy","Heavy",2.7,4,null,null,null,null,null,null,null,{"$f":"SUM(M50:M52)","v":1},"Total",null,null,{"$f":"SUM(Q50:Q52)","v":60},"min"]
[null,null,null,2,null,null,null,null,null,null,"Calc. % Arr",{"$f":"Q55/Q57","v":1},{"$f":"(Q50/60)*(P8+P11)","v":14.8},"Arrivals  (Mixed)",null,null,null,"Average"]
[null,"Departure - Departure Separation Requirements ",null,"Time in Seconds",null,null,null,null,null,null,null,null,{"$f":"(Q51/60)*(P7+P10)","v":14.8},"Arrivals (Only)",null,null,{"$f":"M55+M54","v":29.6},"Arrivals"]
[null,"Trailing Aircraft","Leading Aircraft","VMC","IMC",null,null,null,null,null,null,null,{"$f":"(Q50/60)*(P12+P9)","v":0},"Departures (Mixed)",null,null,{"$f":"M56+M57","v":0},"Departures"]
[null,"Small-S --- Small +","Small-S- Small +",35,60,null,null,null,null,null,null,null,{"$f":"(Q52/60)*P13","v":0},"Departures (Only)",null,null,{"$f":"Q56+Q55","v":29.6},"Total"]
[null,"Large -TP --- Large 757","Small-S- Small +",45,60]
[null,"Heavy","Small-S- Small +",50,60]
[null,"Small-S --- Small+","Large TP, Large Jet",80,80]
[null,"Large --- Heavy","Large TP, Large Jet",60,60]
[null,"Small-S --- Large Jet","Large 757, Heavy",120,120]
[null,"Large 757, Heavy","Large 757, Heavy",90,90]
[]
[]
[]
[]
[]
[]
[]
[]
[]
[]
[]
[]
[]
[]
[]
[]
[]
[]
[]
[]
[]
[]
[]
[]
[]
[]
[]
[]
[]
[]
[]
[]
[]
[]
[]
[]
[]
[]
[]
[]
[]
[]
[]
[]
[]
[]
[]
[]
[]
[]
[]
[]
[]
[]
[]
[]
[]
[]
[]
[]
[]
[]
[]
[]
[]
[]
[]
[]
[]
[]
[]
[]
[]
[]
[]
[]
[]
[]
[]
[]
[]
[]
[]
[]
[]
[]
[]
[]
[]
[]
[]
[]
[null,null,null,null,null,null,null,null,null,null,null,null,"VMC"]
[null,null,null,null,null,null,null,null,null,null,null,null,"IMC"]
[null,null,null,null,null,null,null,null,null,null,null,null,"Average"]
[null,null,null,null,null,null,null,null,null,null,null,null,null,null,1,2]
[null,null,null,null,null,null,null,null,null,null,null,1,"Close Intersecting",null,"Arrivals Only","Departures Only"]
[null,null,null,null,null,null,null,null,null,null,null,2,"Close Intersecting",null,"Mixed Operations","Departures Only"]
[null,"Excellent (4 or more Exits)",null,null,null,null,"Final Calculated E-Factor Values)",null,null,null,null,3,"Far Intersecting ",null,"Arrivals Only","Departures Only"]
[null,"Good (2-3 Exits)",null,1,"reduction factor",null,1,null,null,null,null,4,"Far Intersecting ",null,"Mixed Operations","Departures Only"]
[null,"Poor (1 Exit)",null,0.85,0.98,null,{"$f":"D164+IF((SUM($E$25:$H$25)+3*$I$25)>80%,1,((SUM($E$25:$H$25)+3*$I$25)/80%))*(E164-D164)","v":0.98},null,null,null,null,5,"Open Converging",null,"Arrivals Only","Departures Only"]
[null,"Insufficient (No Exits)",null,0.7,0.8,null,{"$f":"D165+IF((SUM($E$25:$H$25)+3*$I$25)>80%,1,((SUM($E$25:$H$25)+3*$I$25)/80%))*(E165-D165)","v":0.8},null,null,null,null,6,"Open Converging",null,"Mixed Operations","Departures Only"]
[null,null,null,0.62,0.75,null,{"$f":"D166+IF((SUM($E$25:$H$25)+3*$I$25)>80%,1,((SUM($E$25:$H$25)+3*$I$25)/80%))*(E166-D166)","v":0.75},null,null,null,null,7,"Open Diverging",null,"Arrivals Only","Departures Only"]
[null,"Full Taxiway",null,null,null,null,null,null,null,null,null,8,"Open Diverging",null,"Mixed Operations","Departures Only"]
[null,"Partial Taxiway"]
[null,"No Taxiway",null,null,null,null,null,null,null,null,null,null,"Yes"]
[null,null,null,null,null,null,null,null,null,null,null,null,"No"]
[null,"Yes"]
[null,"No",null,null,null,null,null,null,null,null,null,null,"Arrivals Only"]
[null,null,null,null,null,null,null,null,null,null,null,null,"Mixed Operations"]
[null,null,null,null,null,null,null,null,null,null,null,null,"Departures Only"]
[]
[null,null,null,null,null,null,null,null,null,null,null,null,"Exit Before intersection"]
[null,null,null,null,null,null,null,null,null,null,null,null,"Exit After intersection"]

{"sheet":"Single Work Tab","index":7,"n_rows":171,"n_cols":20,"rows_kept":171,"cut":false,"hidden":true,"merged":[]}
[null,"Single Model Worksheet with working Calculated Values"]
[]
[null,"Arrivals Pairing Probability Matrix",null,"(chance of landing behind an aircraft from each class)",null,null,null,null,null,null,0,"Calculated Cells"]
[null,null,"Small - S","Small - T","Small +","Large-TP","Large-Jet","Large-757","Heavy",null,0,"Linked Input Cells"]
[null,"Small - S",{"$f":"'Single Model'!$C18*'Single Model'!C18","v":0},{"$f":"'Single Model'!$C18*'Single Model'!D18","v":0},{"$f":"'Single Model'!$C18*'Single Model'!E18","v":0},{"$f":"'Single Model'!$C18*'Single Model'!F18","v":0},{"$f":"'Single Model'!$C18*'Single Model'!G18","v":0},{"$f":"'Single Model'!$C18*'Single Model'!H18","v":0},{"$f":"'Single Model'!$C18*'Single Model'!I18","v":0},null,0,"Linked Cells (within this worksheet)"]
[null,"Small - T",{"$f":"'Single Model'!$D18*'Single Model'!C18","v":0},{"$f":"'Single Model'!$D18*'Single Model'!D18","v":0},{"$f":"'Single Model'!$D18*'Single Model'!E18","v":0},{"$f":"'Single Model'!$D18*'Single Model'!F18","v":0},{"$f":"'Single Model'!$D18*'Single Model'!G18","v":0},{"$f":"'Single Model'!$D18*'Single Model'!H18","v":0},{"$f":"'Single Model'!$D18*'Single Model'!I18","v":0}]
[null,"Small +",{"$f":"'Single Model'!$E18*'Single Model'!C18","v":0},{"$f":"'Single Model'!$E18*'Single Model'!D18","v":0},{"$f":"'Single Model'!$E18*'Single Model'!E18","v":4.0000000000000008E-2},{"$f":"'Single Model'!$E18*'Single Model'!F18","v":0.06},{"$f":"'Single Model'!$E18*'Single Model'!G18","v":0.06},{"$f":"'Single Model'!$E18*'Single Model'!H18","v":2.0000000000000004E-2},{"$f":"'Single Model'!$E18*'Single Model'!I18","v":2.0000000000000004E-2}]
[null,"Large-TP",{"$f":"'Single Model'!$F18*'Single Model'!C18","v":0},{"$f":"'Single Model'!$F18*'Single Model'!D18","v":0},{"$f":"'Single Model'!$F18*'Single Model'!E18","v":0.06},{"$f":"'Single Model'!$F18*'Single Model'!F18","v":0.09},{"$f":"'Single Model'!$F18*'Single Model'!G18","v":0.09},{"$f":"'Single Model'!$F18*'Single Model'!H18","v":0.03},{"$f":"'Single Model'!$F18*'Single Model'!I18","v":0.03}]
[null,"Large-Jet",{"$f":"'Single Model'!$G18*'Single Model'!C18","v":0},{"$f":"'Single Model'!$G18*'Single Model'!D18","v":0},{"$f":"'Single Model'!$G18*'Single Model'!E18","v":0.06},{"$f":"'Single Model'!$G18*'Single Model'!F18","v":0.09},{"$f":"'Single Model'!$G18*'Single Model'!G18","v":0.09},{"$f":"'Single Model'!$G18*'Single Model'!H18","v":0.03},{"$f":"'Single Model'!$G18*'Single Model'!I18","v":0.03}]
[null,"Large-757",{"$f":"'Single Model'!$H18*'Single Model'!C18","v":0},{"$f":"'Single Model'!$H18*'Single Model'!D18","v":0},{"$f":"'Single Model'!$H18*'Single Model'!E18","v":2.0000000000000004E-2},{"$f":"'Single Model'!$H18*'Single Model'!F18","v":0.03},{"$f":"'Single Model'!$H18*'Single Model'!G18","v":0.03},{"$f":"'Single Model'!$H18*'Single Model'!H18","v":1.0000000000000002E-2},{"$f":"'Single Model'!$H18*'Single Model'!I18","v":1.0000000000000002E-2},"Summary Check"]
[null,"Heavy",{"$f":"'Single Model'!$I18*'Single Model'!C18","v":0},{"$f":"'Single Model'!$I18*'Single Model'!D18","v":0},{"$f":"'Single Model'!$I18*'Single Model'!E18","v":2.0000000000000004E-2},{"$f":"'Single Model'!$I18*'Single Model'!F18","v":0.03},{"$f":"'Single Model'!$I18*'Single Model'!G18","v":0.03},{"$f":"'Single Model'!$I18*'Single Model'!H18","v":1.0000000000000002E-2},{"$f":"'Single Model'!$I18*'Single Model'!I18","v":1.0000000000000002E-2},"Total = ",{"$f":"SUM(C5:I11)","v":1.0000000000000002}]
[]
[null,"VMC Required Separation for arrivals following an aircraft from each class",null,null,null,"Distance in Nautical Miles",null,null,null,null,"Average separation for TNGs"]
[null,null,"Small - S","Small - T","Small +","Large-TP","Large-Jet","Large-757","Heavy",null,{"$f":"SUMPRODUCT($C$5:$C$11,K15:K21)+SUMPRODUCT($D$5:$D$11,L15:L21)+SUMPRODUCT($E$5:$E$11,M15:M21)+SUMPRODUCT($F$5:$F$11,N15:N21)+SUMPRODUCT($G$5:$G$11,O15:O21)+SUMPRODUCT($H$5:$H$11,P15:P21)+SUMPRODUCT($I$5:$I$11,Q15:Q21)","v":61.914109890109906},"seconds"]
[null,"Small - S",{"$f":"'Single Model'!D37+'Single Model'!$H$32","v":1.9},{"$f":"$C$15","v":1.9},1.9,1.9,1.9,1.9,1.9,null,{"$f":"C15*3600/'Single Model'!C$24","v":76},{"$f":"D15*3600/'Single Model'!D$24","v":68.400000000000006},{"$f":"E15*3600/'Single Model'!E$24","v":57},{"$f":"F15*3600/'Single Model'!F$24","v":52.615384615384613},{"$f":"G15*3600/'Single Model'!G$24","v":50.666666666666664},{"$f":"H15*3600/'Single Model'!H$24","v":48.857142857142854},{"$f":"I15*3600/'Single Model'!I$24","v":45.6}]
[null,"Small - T",{"$f":"$C$15","v":1.9},1.9,1.9,1.9,1.9,1.9,1.9,null,{"$f":"C16*3600/'Single Model'!C$24","v":76},{"$f":"D16*3600/'Single Model'!D$24","v":68.400000000000006},{"$f":"E16*3600/'Single Model'!E$24","v":57},{"$f":"F16*3600/'Single Model'!F$24","v":52.615384615384613},{"$f":"G16*3600/'Single Model'!G$24","v":50.666666666666664},{"$f":"H16*3600/'Single Model'!H$24","v":48.857142857142854},{"$f":"I16*3600/'Single Model'!I$24","v":45.6}]
[null,"Small +",{"$f":"'Single Model'!D38+'Single Model'!$H$32","v":1.9},{"$f":"$C$17","v":1.9},{"$f":"$C$17","v":1.9},{"$f":"'Single Model'!D39+'Single Model'!$H$32","v":1.9},{"$f":"$F$17","v":1.9},{"$f":"$F$17","v":1.9},{"$f":"$F$17","v":1.9},null,{"$f":"C17*3600/'Single Model'!C$24","v":76},{"$f":"D17*3600/'Single Model'!D$24","v":68.400000000000006},{"$f":"E17*3600/'Single Model'!E$24","v":57},{"$f":"F17*3600/'Single Model'!F$24","v":52.615384615384613},{"$f":"G17*3600/'Single Model'!G$24","v":50.666666666666664},{"$f":"H17*3600/'Single Model'!H$24","v":48.857142857142854},{"$f":"I17*3600/'Single Model'!I$24","v":45.6}]
[null,"Large-TP",{"$f":"'Single Model'!$D$40+'Single Model'!$H$32","v":2.7},{"$f":"$C$18","v":2.7},{"$f":"$C$18","v":2.7},{"$f":"'Single Model'!D41+'Single Model'!$H$32","v":1.9},{"$f":"$F$18","v":1.9},1.9,1.9,null,{"$f":"C18*3600/'Single Model'!C$24","v":108},{"$f":"D18*3600/'Single Model'!D$24","v":97.2},{"$f":"E18*3600/'Single Model'!E$24","v":81},{"$f":"F18*3600/'Single Model'!F$24","v":52.615384615384613},{"$f":"G18*3600/'Single Model'!G$24","v":50.666666666666664},{"$f":"H18*3600/'Single Model'!H$24","v":48.857142857142854},{"$f":"I18*3600/'Single Model'!I$24","v":45.6}]
[null,"Large-Jet",{"$f":"'Single Model'!$D$40+'Single Model'!$H$32","v":2.7},{"$f":"$C$19","v":2.7},{"$f":"$C$19","v":2.7},{"$f":"$F$18","v":1.9},1.9,1.9,1.9,null,{"$f":"C19*3600/'Single Model'!C$24","v":108},{"$f":"D19*3600/'Single Model'!D$24","v":97.2},{"$f":"E19*3600/'Single Model'!E$24","v":81},{"$f":"F19*3600/'Single Model'!F$24","v":52.615384615384613},{"$f":"G19*3600/'Single Model'!G$24","v":50.666666666666664},{"$f":"H19*3600/'Single Model'!H$24","v":48.857142857142854},{"$f":"I19*3600/'Single Model'!I$24","v":45.6}]
[null,"Large-757",{"$f":"'Single Model'!D42+'Single Model'!H32","v":3.7},{"$f":"$C$20","v":3.7},{"$f":"$C$20","v":3.7},{"$f":"'Single Model'!D43+'Single Model'!$H$32","v":2.7},{"$f":"$F$20","v":2.7},{"$f":"$F$20","v":2.7},{"$f":"$F$20","v":2.7},null,{"$f":"C20*3600/'Single Model'!C$24","v":148},{"$f":"D20*3600/'Single Model'!D$24","v":133.19999999999999},{"$f":"E20*3600/'Single Model'!E$24","v":111},{"$f":"F20*3600/'Single Model'!F$24","v":74.769230769230774},{"$f":"G20*3600/'Single Model'!G$24","v":72},{"$f":"H20*3600/'Single Model'!H$24","v":69.428571428571431},{"$f":"I20*3600/'Single Model'!I$24","v":64.8}]
[null,"Heavy",{"$f":"'Single Model'!D44+'Single Model'!$H$32","v":4.5999999999999996},{"$f":"$C$21","v":4.5999999999999996},{"$f":"'Single Model'!D45+'Single Model'!$H$32","v":3.6},{"$f":"$E$21","v":3.6},{"$f":"$E$21","v":3.6},{"$f":"$E$21","v":3.6},{"$f":"'Single Model'!D46+'Single Model'!$H$32","v":2.7},null,{"$f":"C21*3600/'Single Model'!C$24","v":184},{"$f":"D21*3600/'Single Model'!D$24","v":165.6},{"$f":"E21*3600/'Single Model'!E$24","v":108},{"$f":"F21*3600/'Single Model'!F$24","v":99.692307692307693},{"$f":"G21*3600/'Single Model'!G$24","v":96},{"$f":"H21*3600/'Single Model'!H$24","v":92.571428571428569},{"$f":"I21*3600/'Single Model'!I$24","v":64.8}]
[]
[null,"IMC Required Separation for arrivals following an aircraft from each class",null,null,null,"Distance in Nautical Miles"]
[null,null,"Small - S","Small - T","Small +","Large-TP","Large-Jet","Large-757","Heavy",null,{"$f":"SUMPRODUCT($C$5:$C$11,K25:K31)+SUMPRODUCT($D$5:$D$11,L25:L31)+SUMPRODUCT($E$5:$E$11,M25:M31)+SUMPRODUCT($F$5:$F$11,N25:N31)+SUMPRODUCT($G$5:$G$11,O25:O31)+SUMPRODUCT($H$5:$H$11,P25:P31)+SUMPRODUCT($I$5:$I$11,Q25:Q31)","v":93.981098901098889},"seconds"]
[null,"Small - S",{"$f":"'Single Model'!$E$37+'Single Model'!$H$32","v":3},{"$f":"$C$25","v":3},3,3,{"$f":"$C$25","v":3},3,3,null,{"$f":"C25*3600/'Single Model'!C$24","v":120},{"$f":"D25*3600/'Single Model'!D$24","v":108},{"$f":"E25*3600/'Single Model'!E$24","v":90},{"$f":"F25*3600/'Single Model'!F$24","v":83.07692307692308},{"$f":"G25*3600/'Single Model'!G$24","v":80},{"$f":"H25*3600/'Single Model'!H$24","v":77.142857142857139},{"$f":"I25*3600/'Single Model'!I$24","v":72}]
[null,"Small - T",{"$f":"$C$25","v":3},3,3,3,{"$f":"$C$25","v":3},3,3,null,{"$f":"C26*3600/'Single Model'!C$24","v":120},{"$f":"D26*3600/'Single Model'!D$24","v":108},{"$f":"E26*3600/'Single Model'!E$24","v":90},{"$f":"F26*3600/'Single Model'!F$24","v":83.07692307692308},{"$f":"G26*3600/'Single Model'!G$24","v":80},{"$f":"H26*3600/'Single Model'!H$24","v":77.142857142857139},{"$f":"I26*3600/'Single Model'!I$24","v":72}]
[null,"Small +",{"$f":"'Single Model'!$E$38+'Single Model'!$H$32","v":3},{"$f":"$C$27","v":3},{"$f":"$C$27","v":3},{"$f":"'Single Model'!$E$39+'Single Model'!$H$32","v":3},{"$f":"$F$27","v":3},{"$f":"$F$27","v":3},{"$f":"$F$27","v":3},null,{"$f":"C27*3600/'Single Model'!C$24","v":120},{"$f":"D27*3600/'Single Model'!D$24","v":108},{"$f":"E27*3600/'Single Model'!E$24","v":90},{"$f":"F27*3600/'Single Model'!F$24","v":83.07692307692308},{"$f":"G27*3600/'Single Model'!G$24","v":80},{"$f":"H27*3600/'Single Model'!H$24","v":77.142857142857139},{"$f":"I27*3600/'Single Model'!I$24","v":72}]
[null,"Large-TP",{"$f":"'Single Model'!E40+'Single Model'!$H$32","v":4},{"$f":"$C$28","v":4},{"$f":"$C$28","v":4},{"$f":"'Single Model'!$E$41+'Single Model'!$H$32","v":3},{"$f":"$F$28","v":3},3,3,null,{"$f":"C28*3600/'Single Model'!C$24","v":160},{"$f":"D28*3600/'Single Model'!D$24","v":144},{"$f":"E28*3600/'Single Model'!E$24","v":120},{"$f":"F28*3600/'Single Model'!F$24","v":83.07692307692308},{"$f":"G28*3600/'Single Model'!G$24","v":80},{"$f":"H28*3600/'Single Model'!H$24","v":77.142857142857139},{"$f":"I28*3600/'Single Model'!I$24","v":72}]
[null,"Large-Jet",{"$f":"'Single Model'!E40+'Single Model'!$H$32","v":4},{"$f":"$C$29","v":4},{"$f":"$C$29","v":4},{"$f":"$F$28","v":3},3,3,3,null,{"$f":"C29*3600/'Single Model'!C$24","v":160},{"$f":"D29*3600/'Single Model'!D$24","v":144},{"$f":"E29*3600/'Single Model'!E$24","v":120},{"$f":"F29*3600/'Single Model'!F$24","v":83.07692307692308},{"$f":"G29*3600/'Single Model'!G$24","v":80},{"$f":"H29*3600/'Single Model'!H$24","v":77.142857142857139},{"$f":"I29*3600/'Single Model'!I$24","v":72}]
[null,"Large-757",{"$f":"'Single Model'!E42+'Single Model'!$H$32","v":5},{"$f":"$C$30","v":5},{"$f":"$C$30","v":5},{"$f":"'Single Model'!E43+'Single Model'!$H$32","v":4},{"$f":"$F$30","v":4},{"$f":"$F$30","v":4},{"$f":"$F$30","v":4},null,{"$f":"C30*3600/'Single Model'!C$24","v":200},{"$f":"D30*3600/'Single Model'!D$24","v":180},{"$f":"E30*3600/'Single Model'!E$24","v":150},{"$f":"F30*3600/'Single Model'!F$24","v":110.76923076923077},{"$f":"G30*3600/'Single Model'!G$24","v":106.66666666666667},{"$f":"H30*3600/'Single Model'!H$24","v":102.85714285714286},{"$f":"I30*3600/'Single Model'!I$24","v":96}]
[null,"Heavy",{"$f":"'Single Model'!E44+'Single Model'!$H$32","v":6},{"$f":"$C$31","v":6},{"$f":"'Single Model'!E45+'Single Model'!$H$32","v":5},{"$f":"$E$31","v":5},{"$f":"$E$31","v":5},{"$f":"$E$31","v":5},{"$f":"'Single Model'!E46+'Single Model'!$H$32","v":4},null,{"$f":"C31*3600/'Single Model'!C$24","v":240},{"$f":"D31*3600/'Single Model'!D$24","v":216},{"$f":"E31*3600/'Single Model'!E$24","v":150},{"$f":"F31*3600/'Single Model'!F$24","v":138.46153846153845},{"$f":"G31*3600/'Single Model'!G$24","v":133.33333333333334},{"$f":"H31*3600/'Single Model'!H$24","v":128.57142857142858},{"$f":"I31*3600/'Single Model'!I$24","v":96}]
[]
[null,"VMC Required Separation for departures following an aircraft from each class",null,null,null,"Time in seconds"]
[null,null,"Small - S","Small - T","Small +","Large-TP","Large-Jet","Large-757","Heavy"]
[null,"Small - S",{"$f":"'Single Model'!$D$50+'Single Model'!$C$33","v":35},{"$f":"$C$35","v":35},{"$f":"$C$35","v":35},{"$f":"'Single Model'!$D$51+'Single Model'!$C$33","v":45},{"$f":"$F$35","v":45},45,{"$f":"'Single Model'!$D$52+'Single Model'!$C$33","v":50}]
[null,"Small - T",{"$f":"$C$35","v":35},35,35,{"$f":"$F$35","v":45},45,45,{"$f":"$I$35","v":50}]
[null,"Small +",35,35,35,{"$f":"$F$35","v":45},45,45,{"$f":"$I$35","v":50}]
[null,"Large-TP",{"$f":"'Single Model'!$D$53+'Single Model'!$C$33","v":80},{"$f":"$C$38","v":80},{"$f":"$C$38","v":80},{"$f":"'Single Model'!$D$54+'Single Model'!$C$33","v":60},{"$f":"$F$38","v":60},60,60]
[null,"Large-Jet",{"$f":"$C$38","v":80},{"$f":"$C$38","v":80},{"$f":"$C$38","v":80},{"$f":"$F$38","v":60},60,60,60]
[null,"Large-757",{"$f":"$C$41","v":120},120,120,120,120,120,{"$f":"$I$41","v":90}]
[null,"Heavy",{"$f":"'Single Model'!$D$55+'Single Model'!$C$33","v":120},{"$f":"$C$41","v":120},{"$f":"$C$41","v":120},{"$f":"$C$41","v":120},{"$f":"$C$41","v":120},{"$f":"$C$41","v":120},{"$f":"'Single Model'!$D$56+'Single Model'!$C$33","v":90}]
[]
[null,"IMC Required Separation for departures following an aircraft from each class",null,null,null,"Time in seconds"]
[null,null,"Small - S","Small - T","Small +","Large-TP","Large-Jet","Large-757","Heavy",null," "]
[null,"Small - S",{"$f":"'Single Model'!$E$50+'Single Model'!$C$33","v":60},{"$f":"$C$45","v":60},{"$f":"$C$45","v":60},{"$f":"'Single Model'!$E$51+'Single Model'!$C$33","v":60},{"$f":"$C$45","v":60},{"$f":"$C$45","v":60},{"$f":"'Single Model'!$E$52+'Single Model'!$C$33","v":60}]
[null,"Small - T",{"$f":"$C$45","v":60},{"$f":"$C$46","v":60},60,60,60,60,60]
[null,"Small +",{"$f":"$C$45","v":60},{"$f":"$C$47","v":60},60,60,60,60,60]
[null,"Large-TP",{"$f":"'Single Model'!$E$53+'Single Model'!$C$33","v":80},{"$f":"$C$48","v":80},80,{"$f":"'Single Model'!E54+'Single Model'!$C$33","v":60},{"$f":"$F$48","v":60},60,60]
[null,"Large-Jet",80,80,80,{"$f":"$F$48","v":60},60,60,60]
[null,"Large-757",{"$f":"$C$51","v":120},120,120,120,120,120,{"$f":"$I$51","v":90},null,null," "]
[null,"Heavy",{"$f":"'Single Model'!E55+'Single Model'!$C$33","v":120},{"$f":"$C$51","v":120},{"$f":"$C$51","v":120},{"$f":"$C$51","v":120},{"$f":"$C$51","v":120},{"$f":"$C$51","v":120},{"$f":"'Single Model'!E56+'Single Model'!$C$33","v":90}]
[]
[null,null,null," "]
[null,"VMC Required Separation for arrivals following an aircraft from each class",null,null,null,"Time in Seconds"]
[null,null,"Small - S","Small - T","Small +","Large-TP","Large-Jet","Large-757","Heavy"]
[null,"Small - S",{"$f":"MAXA(3600*C15/('Single Model'!$C$24)+'Single Model'!$H$10*'Single Model'!$H$8+MAXA(0,'Single Model'!$C$10*3600*(1/'Single Model'!$C$24-1/'Single Model'!$C$24)),'Single Model'!$C$21+'Single Model'!$H$10*SQRT('Single Model'!$H$8^2+'Single Model'!$H$9^2))+'Single Model'!$C$32","v":105.61},{"$f":"MAXA(3600*D15/('Single Model'!$D$24)+'Single Model'!$H$10*'Single Model'!$H$8+MAXA(0,'Single Model'!$C$10*3600*(1/'Single Model'!$D$24-1/'Single Model'!$C$24)),'Single Model'!$C$21+'Single Model'!$H$10*SQRT('Single Model'!$H$8^2+'Single Model'!$H$9^2))+'Single Model'!$C$32","v":98.01},{"$f":"MAXA(3600*E15/('Single Model'!$E$24)+'Single Model'!$H$10*'Single Model'!$H$8+MAXA(0,'Single Model'!$C$10*3600*(1/'Single Model'!$E$24-1/'Single Model'!$C$24)),'Single Model'!$C$21+'Single Model'!$H$10*SQRT('Single Model'!$H$8^2+'Single Model'!$H$9^2))+'Single Model'!$C$32","v":86.61},{"$f":"MAXA(3600*F15/('Single Model'!$F$24)+'Single Model'!$H$10*'Single Model'!$H$8+MAXA(0,'Single Model'!$C$10*3600*(1/'Single Model'!$F$24-1/'Single Model'!$C$24)),'Single Model'!$C$21+'Single Model'!$H$10*SQRT('Single Model'!$H$8^2+'Single Model'!$H$9^2))+'Single Model'!$C$32","v":82.225384615384613},{"$f":"MAXA(3600*G15/('Single Model'!$G$24)+'Single Model'!$H$10*'Single Model'!$H$8+MAXA(0,'Single Model'!$C$10*3600*(1/'Single Model'!$G$24-1/'Single Model'!$C$24)),'Single Model'!$C$21+'Single Model'!$H$10*SQRT('Single Model'!$H$8^2+'Single Model'!$H$9^2))+'Single Model'!$C$32","v":80.276666666666671},{"$f":"MAXA(3600*H15/('Single Model'!$H$24)+'Single Model'!$H$10*'Single Model'!$H$8+MAXA(0,'Single Model'!$C$10*3600*(1/'Single Model'!$H$24-1/'Single Model'!$C$24)),'Single Model'!$C$21+'Single Model'!$H$10*SQRT('Single Model'!$H$8^2+'Single Model'!$H$9^2))+'Single Model'!$C$32","v":78.467142857142846},{"$f":"MAXA(3600*I15/('Single Model'!$I$24)+'Single Model'!$H$10*'Single Model'!$H$8+MAXA(0,'Single Model'!$C$10*3600*(1/'Single Model'!$I$24-1/'Single Model'!$C$24)),'Single Model'!$C$21+'Single Model'!$H$10*SQRT('Single Model'!$H$8^2+'Single Model'!$H$9^2))+'Single Model'!$C$32","v":75.210000000000008}]
[null,"Small - T",{"$f":"MAXA(3600*C16/('Single Model'!$C$24)+'Single Model'!$H$10*'Single Model'!$H$8+MAXA(0,'Single Model'!$C$10*3600*(1/'Single Model'!$C$24-1/'Single Model'!$D$24)),'Single Model'!$D$21+'Single Model'!$H$10*SQRT('Single Model'!$H$8^2+'Single Model'!$H$9^2))+'Single Model'!$C$32","v":133.61000000000001},{"$f":"MAXA(3600*D16/('Single Model'!$D$24)+'Single Model'!$H$10*'Single Model'!$H$8+MAXA(0,'Single Model'!$C$10*3600*(1/'Single Model'!$D$24-1/'Single Model'!$D$24)),'Single Model'!$D$21+'Single Model'!$H$10*SQRT('Single Model'!$H$8^2+'Single Model'!$H$9^2))+'Single Model'!$C$32","v":98.01},{"$f":"MAXA(3600*E16/('Single Model'!$E$24)+'Single Model'!$H$10*'Single Model'!$H$8+MAXA(0,'Single Model'!$C$10*3600*(1/'Single Model'!$E$24-1/'Single Model'!$D$24)),'Single Model'!$D$21+'Single Model'!$H$10*SQRT('Single Model'!$H$8^2+'Single Model'!$H$9^2))+'Single Model'!$C$32","v":86.61},{"$f":"MAXA(3600*F16/('Single Model'!$F$24)+'Single Model'!$H$10*'Single Model'!$H$8+MAXA(0,'Single Model'!$C$10*3600*(1/'Single Model'!$F$24-1/'Single Model'!$D$24)),'Single Model'!$D$21+'Single Model'!$H$10*SQRT('Single Model'!$H$8^2+'Single Model'!$H$9^2))+'Single Model'!$C$32","v":82.225384615384613},{"$f":"MAXA(3600*G16/('Single Model'!$G$24)+'Single Model'!$H$10*'Single Model'!$H$8+MAXA(0,'Single Model'!$C$10*3600*(1/'Single Model'!$G$24-1/'Single Model'!$D$24)),'Single Model'!$D$21+'Single Model'!$H$10*SQRT('Single Model'!$H$8^2+'Single Model'!$H$9^2))+'Single Model'!$C$32","v":80.276666666666671},{"$f":"MAXA(3600*H16/('Single Model'!$H$24)+'Single Model'!$H$10*'Single Model'!$H$8+MAXA(0,'Single Model'!$C$10*3600*(1/'Single Model'!$H$24-1/'Single Model'!$D$24)),'Single Model'!$D$21+'Single Model'!$H$10*SQRT('Single Model'!$H$8^2+'Single Model'!$H$9^2))+'Single Model'!$C$32","v":78.467142857142846},{"$f":"MAXA(3600*I16/('Single Model'!$I$24)+'Single Model'!$H$10*'Single Model'!$H$8+MAXA(0,'Single Model'!$C$10*3600*(1/'Single Model'!$I$24-1/'Single Model'!$D$24)),'Single Model'!$D$21+'Single Model'!$H$10*SQRT('Single Model'!$H$8^2+'Single Model'!$H$9^2))+'Single Model'!$C$32","v":75.210000000000008}]
[null,"Small +",{"$f":"MAXA(3600*C17/('Single Model'!$C$24)+'Single Model'!$H$10*'Single Model'!$H$8+MAXA(0,'Single Model'!$C$10*3600*(1/'Single Model'!$C$24-1/'Single Model'!$E$24)),'Single Model'!$E$21+'Single Model'!$H$10*SQRT('Single Model'!$H$8^2+'Single Model'!$H$9^2))+'Single Model'!$C$32","v":175.61},{"$f":"MAXA(3600*D17/('Single Model'!$D$24)+'Single Model'!$H$10*'Single Model'!$H$8+MAXA(0,'Single Model'!$C$10*3600*(1/'Single Model'!$D$24-1/'Single Model'!$E$24)),'Single Model'!$E$21+'Single Model'!$H$10*SQRT('Single Model'!$H$8^2+'Single Model'!$H$9^2))+'Single Model'!$C$32","v":140.01000000000002},{"$f":"MAXA(3600*E17/('Single Model'!$E$24)+'Single Model'!$H$10*'Single Model'!$H$8+MAXA(0,'Single Model'!$C$10*3600*(1/'Single Model'!$E$24-1/'Single Model'!$E$24)),'Single Model'!$E$21+'Single Model'!$H$10*SQRT('Single Model'!$H$8^2+'Single Model'!$H$9^2))+'Single Model'!$C$32","v":86.61},{"$f":"MAXA(3600*F17/('Single Model'!$F$24)+'Single Model'!$H$10*'Single Model'!$H$8+MAXA(0,'Single Model'!$C$10*3600*(1/'Single Model'!$F$24-1/'Single Model'!$E$24)),'Single Model'!$E$21+'Single Model'!$H$10*SQRT('Single Model'!$H$8^2+'Single Model'!$H$9^2))+'Single Model'!$C$32","v":82.225384615384613},{"$f":"MAXA(3600*G17/('Single Model'!$G$24)+'Single Model'!$H$10*'Single Model'!$H$8+MAXA(0,'Single Model'!$C$10*3600*(1/'Single Model'!$G$24-1/'Single Model'!$E$24)),'Single Model'!$E$21+'Single Model'!$H$10*SQRT('Single Model'!$H$8^2+'Single Model'!$H$9^2))+'Single Model'!$C$32","v":80.276666666666671},{"$f":"MAXA(3600*H17/('Single Model'!$H$24)+'Single Model'!$H$10*'Single Model'!$H$8+MAXA(0,'Single Model'!$C$10*3600*(1/'Single Model'!$H$24-1/'Single Model'!$E$24)),'Single Model'!$E$21+'Single Model'!$H$10*SQRT('Single Model'!$H$8^2+'Single Model'!$H$9^2))+'Single Model'!$C$32","v":78.467142857142846},{"$f":"MAXA(3600*I17/('Single Model'!$I$24)+'Single Model'!$H$10*'Single Model'!$H$8+MAXA(0,'Single Model'!$C$10*3600*(1/'Single Model'!$I$24-1/'Single Model'!$E$24)),'Single Model'!$E$21+'Single Model'!$H$10*SQRT('Single Model'!$H$8^2+'Single Model'!$H$9^2))+'Single Model'!$C$32","v":75.210000000000008}]
[null,"Large-TP",{"$f":"MAXA(3600*C18/('Single Model'!$C$24)+'Single Model'!$H$10*'Single Model'!$H$8+MAXA(0,'Single Model'!$C$10*3600*(1/'Single Model'!$C$24-1/'Single Model'!$F$24)),'Single Model'!$F$21+'Single Model'!$H$10*SQRT('Single Model'!$H$8^2+'Single Model'!$H$9^2))+'Single Model'!$C$32","v":223.76384615384617},{"$f":"MAXA(3600*D18/('Single Model'!$D$24)+'Single Model'!$H$10*'Single Model'!$H$8+MAXA(0,'Single Model'!$C$10*3600*(1/'Single Model'!$D$24-1/'Single Model'!$F$24)),'Single Model'!$F$21+'Single Model'!$H$10*SQRT('Single Model'!$H$8^2+'Single Model'!$H$9^2))+'Single Model'!$C$32","v":184.96384615384613},{"$f":"MAXA(3600*E18/('Single Model'!$E$24)+'Single Model'!$H$10*'Single Model'!$H$8+MAXA(0,'Single Model'!$C$10*3600*(1/'Single Model'!$E$24-1/'Single Model'!$F$24)),'Single Model'!$F$21+'Single Model'!$H$10*SQRT('Single Model'!$H$8^2+'Single Model'!$H$9^2))+'Single Model'!$C$32","v":126.76384615384615},{"$f":"MAXA(3600*F18/('Single Model'!$F$24)+'Single Model'!$H$10*'Single Model'!$H$8+MAXA(0,'Single Model'!$C$10*3600*(1/'Single Model'!$F$24-1/'Single Model'!$F$24)),'Single Model'!$F$21+'Single Model'!$H$10*SQRT('Single Model'!$H$8^2+'Single Model'!$H$9^2))+'Single Model'!$C$32","v":82.225384615384613},{"$f":"MAXA(3600*G18/('Single Model'!$G$24)+'Single Model'!$H$10*'Single Model'!$H$8+MAXA(0,'Single Model'!$C$10*3600*(1/'Single Model'!$G$24-1/'Single Model'!$F$24)),'Single Model'!$F$21+'Single Model'!$H$10*SQRT('Single Model'!$H$8^2+'Single Model'!$H$9^2))+'Single Model'!$C$32","v":80.276666666666671},{"$f":"MAXA(3600*H18/('Single Model'!$H$24)+'Single Model'!$H$10*'Single Model'!$H$8+MAXA(0,'Single Model'!$C$10*3600*(1/'Single Model'!$H$24-1/'Single Model'!$F$24)),'Single Model'!$F$21+'Single Model'!$H$10*SQRT('Single Model'!$H$8^2+'Single Model'!$H$9^2))+'Single Model'!$C$32","v":78.467142857142846},{"$f":"MAXA(3600*I18/('Single Model'!$I$24)+'Single Model'!$H$10*'Single Model'!$H$8+MAXA(0,'Single Model'!$C$10*3600*(1/'Single Model'!$I$24-1/'Single Model'!$F$24)),'Single Model'!$F$21+'Single Model'!$H$10*SQRT('Single Model'!$H$8^2+'Single Model'!$H$9^2))+'Single Model'!$C$32","v":76.211680505861906}]
[null,"Large-Jet",{"$f":"MAXA(3600*C19/('Single Model'!C$24)+'Single Model'!$H$10*'Single Model'!$H$8+MAXA(0,'Single Model'!$C$10*3600*(1/'Single Model'!C$24-1/'Single Model'!$G$24)),'Single Model'!$G$21+'Single Model'!$H$10*SQRT('Single Model'!$H$8^2+'Single Model'!$H$9^2))+'Single Model'!$C$32","v":230.94333333333336},{"$f":"MAXA(3600*D19/('Single Model'!D$24)+'Single Model'!$H$10*'Single Model'!$H$8+MAXA(0,'Single Model'!$C$10*3600*(1/'Single Model'!D$24-1/'Single Model'!$G$24)),'Single Model'!$G$21+'Single Model'!$H$10*SQRT('Single Model'!$H$8^2+'Single Model'!$H$9^2))+'Single Model'!$C$32","v":192.14333333333332},{"$f":"MAXA(3600*E19/('Single Model'!E$24)+'Single Model'!$H$10*'Single Model'!$H$8+MAXA(0,'Single Model'!$C$10*3600*(1/'Single Model'!E$24-1/'Single Model'!$G$24)),'Single Model'!$G$21+'Single Model'!$H$10*SQRT('Single Model'!$H$8^2+'Single Model'!$H$9^2))+'Single Model'!$C$32","v":133.94333333333333},{"$f":"MAXA(3600*F19/('Single Model'!F$24)+'Single Model'!$H$10*'Single Model'!$H$8+MAXA(0,'Single Model'!$C$10*3600*(1/'Single Model'!F$24-1/'Single Model'!$G$24)),'Single Model'!$G$21+'Single Model'!$H$10*SQRT('Single Model'!$H$8^2+'Single Model'!$H$9^2))+'Single Model'!$C$32","v":89.404871794871795},{"$f":"MAXA(3600*G19/('Single Model'!G$24)+'Single Model'!$H$10*'Single Model'!$H$8+MAXA(0,'Single Model'!$C$10*3600*(1/'Single Model'!G$24-1/'Single Model'!$G$24)),'Single Model'!$G$21+'Single Model'!$H$10*SQRT('Single Model'!$H$8^2+'Single Model'!$H$9^2))+'Single Model'!$C$32","v":80.276666666666671},{"$f":"MAXA(3600*H19/('Single Model'!H$24)+'Single Model'!$H$10*'Single Model'!$H$8+MAXA(0,'Single Model'!$C$10*3600*(1/'Single Model'!H$24-1/'Single Model'!$G$24)),'Single Model'!$G$21+'Single Model'!$H$10*SQRT('Single Model'!$H$8^2+'Single Model'!$H$9^2))+'Single Model'!$C$32","v":78.467142857142846},{"$f":"MAXA(3600*I19/('Single Model'!I$24)+'Single Model'!$H$10*'Single Model'!$H$8+MAXA(0,'Single Model'!$C$10*3600*(1/'Single Model'!I$24-1/'Single Model'!$G$24)),'Single Model'!$G$21+'Single Model'!$H$10*SQRT('Single Model'!$H$8^2+'Single Model'!$H$9^2))+'Single Model'!$C$32","v":77.211680505861906}]
[null,"Large-757",{"$f":"MAXA(3600*C20/('Single Model'!$C$24)+'Single Model'!$H$10*'Single Model'!$H$8+MAXA(0,'Single Model'!$C$10*3600*(1/'Single Model'!$C$24-1/'Single Model'!$H$24)),'Single Model'!$H$21+'Single Model'!$H$10*SQRT('Single Model'!$H$8^2+'Single Model'!$H$9^2))+'Single Model'!$C$32","v":277.61},{"$f":"MAXA(3600*D20/('Single Model'!$D$24)+'Single Model'!$H$10*'Single Model'!$H$8+MAXA(0,'Single Model'!$C$10*3600*(1/'Single Model'!$D$24-1/'Single Model'!$H$24)),'Single Model'!$H$21+'Single Model'!$H$10*SQRT('Single Model'!$H$8^2+'Single Model'!$H$9^2))+'Single Model'!$C$32","v":234.81},{"$f":"MAXA(3600*E20/('Single Model'!$E$24)+'Single Model'!$H$10*'Single Model'!$H$8+MAXA(0,'Single Model'!$C$10*3600*(1/'Single Model'!$E$24-1/'Single Model'!$H$24)),'Single Model'!$H$21+'Single Model'!$H$10*SQRT('Single Model'!$H$8^2+'Single Model'!$H$9^2))+'Single Model'!$C$32","v":170.61},{"$f":"MAXA(3600*F20/('Single Model'!$F$24)+'Single Model'!$H$10*'Single Model'!$H$8+MAXA(0,'Single Model'!$C$10*3600*(1/'Single Model'!$F$24-1/'Single Model'!$H$24)),'Single Model'!$H$21+'Single Model'!$H$10*SQRT('Single Model'!$H$8^2+'Single Model'!$H$9^2))+'Single Model'!$C$32","v":118.22538461538464},{"$f":"MAXA(3600*G20/('Single Model'!$G$24)+'Single Model'!$H$10*'Single Model'!$H$8+MAXA(0,'Single Model'!$C$10*3600*(1/'Single Model'!$G$24-1/'Single Model'!$H$24)),'Single Model'!$H$21+'Single Model'!$H$10*SQRT('Single Model'!$H$8^2+'Single Model'!$H$9^2))+'Single Model'!$C$32","v":108.27666666666669},{"$f":"MAXA(3600*H20/('Single Model'!$H$24)+'Single Model'!$H$10*'Single Model'!$H$8+MAXA(0,'Single Model'!$C$10*3600*(1/'Single Model'!$H$24-1/'Single Model'!$H$24)),'Single Model'!$H$21+'Single Model'!$H$10*SQRT('Single Model'!$H$8^2+'Single Model'!$H$9^2))+'Single Model'!$C$32","v":99.03857142857143},{"$f":"MAXA(3600*I20/('Single Model'!$I$24)+'Single Model'!$H$10*'Single Model'!$H$8+MAXA(0,'Single Model'!$C$10*3600*(1/'Single Model'!$I$24-1/'Single Model'!$H$24)),'Single Model'!$H$21+'Single Model'!$H$10*SQRT('Single Model'!$H$8^2+'Single Model'!$H$9^2))+'Single Model'!$C$32","v":94.41}]
[null,"Heavy",{"$f":"MAXA(3600*C21/('Single Model'!$C$24)+'Single Model'!$H$10*'Single Model'!$H$8+MAXA(0,'Single Model'!$C$10*3600*(1/'Single Model'!$C$24-1/'Single Model'!$I$24)),'Single Model'!$I$21+'Single Model'!$H$10*SQRT('Single Model'!$H$8^2+'Single Model'!$H$9^2))+'Single Model'!$C$32","v":325.61},{"$f":"MAXA(3600*D21/('Single Model'!$D$24)+'Single Model'!$H$10*'Single Model'!$H$8+MAXA(0,'Single Model'!$C$10*3600*(1/'Single Model'!$D$24-1/'Single Model'!$I$24)),'Single Model'!$I$21+'Single Model'!$H$10*SQRT('Single Model'!$H$8^2+'Single Model'!$H$9^2))+'Single Model'!$C$32","v":279.20999999999998},{"$f":"MAXA(3600*E21/('Single Model'!$E$24)+'Single Model'!$H$10*'Single Model'!$H$8+MAXA(0,'Single Model'!$C$10*3600*(1/'Single Model'!$E$24-1/'Single Model'!$I$24)),'Single Model'!$I$21+'Single Model'!$H$10*SQRT('Single Model'!$H$8^2+'Single Model'!$H$9^2))+'Single Model'!$C$32","v":179.61},{"$f":"MAXA(3600*F21/('Single Model'!$F$24)+'Single Model'!$H$10*'Single Model'!$H$8+MAXA(0,'Single Model'!$C$10*3600*(1/'Single Model'!$F$24-1/'Single Model'!$I$24)),'Single Model'!$I$21+'Single Model'!$H$10*SQRT('Single Model'!$H$8^2+'Single Model'!$H$9^2))+'Single Model'!$C$32","v":155.14846153846153},{"$f":"MAXA(3600*G21/('Single Model'!$G$24)+'Single Model'!$H$10*'Single Model'!$H$8+MAXA(0,'Single Model'!$C$10*3600*(1/'Single Model'!$G$24-1/'Single Model'!$I$24)),'Single Model'!$I$21+'Single Model'!$H$10*SQRT('Single Model'!$H$8^2+'Single Model'!$H$9^2))+'Single Model'!$C$32","v":144.27666666666667},{"$f":"MAXA(3600*H21/('Single Model'!$H$24)+'Single Model'!$H$10*'Single Model'!$H$8+MAXA(0,'Single Model'!$C$10*3600*(1/'Single Model'!$H$24-1/'Single Model'!$I$24)),'Single Model'!$I$21+'Single Model'!$H$10*SQRT('Single Model'!$H$8^2+'Single Model'!$H$9^2))+'Single Model'!$C$32","v":134.18142857142854},{"$f":"MAXA(3600*I21/('Single Model'!$I$24)+'Single Model'!$H$10*'Single Model'!$H$8+MAXA(0,'Single Model'!$C$10*3600*(1/'Single Model'!$I$24-1/'Single Model'!$I$24)),'Single Model'!$I$21+'Single Model'!$H$10*SQRT('Single Model'!$H$8^2+'Single Model'!$H$9^2))+'Single Model'!$C$32","v":94.41}]
[]
[null,"IMC Required Separation for arrivals following an aircraft from each class",null,null,null,"Time in Seconds"]
[null,null,"Small - S","Small - T","Small +","Large-TP","Large-Jet","Large-757","Heavy"]
[null,"Small - S",{"$f":"MAXA(3600*C25/('Single Model'!$C$24)+'Single Model'!$H$10*'Single Model'!$H$8+MAXA(0,'Single Model'!$C$10*3600*(1/'Single Model'!$C$24-1/'Single Model'!$C$24)),'Single Model'!$C$21+'Single Model'!$H$10*SQRT('Single Model'!$H$8^2+'Single Model'!$H$9^2))+'Single Model'!$C$32","v":149.61000000000001},{"$f":"MAXA(3600*D25/('Single Model'!$D$24)+'Single Model'!$H$10*'Single Model'!$H$8+MAXA(0,'Single Model'!$C$10*3600*(1/'Single Model'!$D$24-1/'Single Model'!$C$24)),'Single Model'!$C$21+'Single Model'!$H$10*SQRT('Single Model'!$H$8^2+'Single Model'!$H$9^2))+'Single Model'!$C$32","v":137.61000000000001},{"$f":"MAXA(3600*E25/('Single Model'!$E$24)+'Single Model'!$H$10*'Single Model'!$H$8+MAXA(0,'Single Model'!$C$10*3600*(1/'Single Model'!$E$24-1/'Single Model'!$C$24)),'Single Model'!$C$21+'Single Model'!$H$10*SQRT('Single Model'!$H$8^2+'Single Model'!$H$9^2))+'Single Model'!$C$32","v":119.61},{"$f":"MAXA(3600*F25/('Single Model'!$F$24)+'Single Model'!$H$10*'Single Model'!$H$8+MAXA(0,'Single Model'!$C$10*3600*(1/'Single Model'!$F$24-1/'Single Model'!$C$24)),'Single Model'!$C$21+'Single Model'!$H$10*SQRT('Single Model'!$H$8^2+'Single Model'!$H$9^2))+'Single Model'!$C$32","v":112.68692307692308},{"$f":"MAXA(3600*G25/('Single Model'!$G$24)+'Single Model'!$H$10*'Single Model'!$H$8+MAXA(0,'Single Model'!$C$10*3600*(1/'Single Model'!$G$24-1/'Single Model'!$C$24)),'Single Model'!$C$21+'Single Model'!$H$10*SQRT('Single Model'!$H$8^2+'Single Model'!$H$9^2))+'Single Model'!$C$32","v":109.61},{"$f":"MAXA(3600*H25/('Single Model'!$H$24)+'Single Model'!$H$10*'Single Model'!$H$8+MAXA(0,'Single Model'!$C$10*3600*(1/'Single Model'!$H$24-1/'Single Model'!$C$24)),'Single Model'!$C$21+'Single Model'!$H$10*SQRT('Single Model'!$H$8^2+'Single Model'!$H$9^2))+'Single Model'!$C$32","v":106.75285714285714},{"$f":"MAXA(3600*I25/('Single Model'!$I$24)+'Single Model'!$H$10*'Single Model'!$H$8+MAXA(0,'Single Model'!$C$10*3600*(1/'Single Model'!$I$24-1/'Single Model'!$C$24)),'Single Model'!$C$21+'Single Model'!$H$10*SQRT('Single Model'!$H$8^2+'Single Model'!$H$9^2))+'Single Model'!$C$32","v":101.61}]
[null,"Small - T",{"$f":"MAXA(3600*C26/('Single Model'!$C$24)+'Single Model'!$H$10*'Single Model'!$H$8+MAXA(0,'Single Model'!$C$10*3600*(1/'Single Model'!$C$24-1/'Single Model'!$D$24)),'Single Model'!$D$21+'Single Model'!$H$10*SQRT('Single Model'!$H$8^2+'Single Model'!$H$9^2))+'Single Model'!$C$32","v":177.61},{"$f":"MAXA(3600*D26/('Single Model'!$D$24)+'Single Model'!$H$10*'Single Model'!$H$8+MAXA(0,'Single Model'!$C$10*3600*(1/'Single Model'!$D$24-1/'Single Model'!$D$24)),'Single Model'!$D$21+'Single Model'!$H$10*SQRT('Single Model'!$H$8^2+'Single Model'!$H$9^2))+'Single Model'!$C$32","v":137.61000000000001},{"$f":"MAXA(3600*E26/('Single Model'!$E$24)+'Single Model'!$H$10*'Single Model'!$H$8+MAXA(0,'Single Model'!$C$10*3600*(1/'Single Model'!$E$24-1/'Single Model'!$D$24)),'Single Model'!$D$21+'Single Model'!$H$10*SQRT('Single Model'!$H$8^2+'Single Model'!$H$9^2))+'Single Model'!$C$32","v":119.61},{"$f":"MAXA(3600*F26/('Single Model'!$F$24)+'Single Model'!$H$10*'Single Model'!$H$8+MAXA(0,'Single Model'!$C$10*3600*(1/'Single Model'!$F$24-1/'Single Model'!$D$24)),'Single Model'!$D$21+'Single Model'!$H$10*SQRT('Single Model'!$H$8^2+'Single Model'!$H$9^2))+'Single Model'!$C$32","v":112.68692307692308},{"$f":"MAXA(3600*G26/('Single Model'!$G$24)+'Single Model'!$H$10*'Single Model'!$H$8+MAXA(0,'Single Model'!$C$10*3600*(1/'Single Model'!$G$24-1/'Single Model'!$D$24)),'Single Model'!$D$21+'Single Model'!$H$10*SQRT('Single Model'!$H$8^2+'Single Model'!$H$9^2))+'Single Model'!$C$32","v":109.61},{"$f":"MAXA(3600*H26/('Single Model'!$H$24)+'Single Model'!$H$10*'Single Model'!$H$8+MAXA(0,'Single Model'!$C$10*3600*(1/'Single Model'!$H$24-1/'Single Model'!$D$24)),'Single Model'!$D$21+'Single Model'!$H$10*SQRT('Single Model'!$H$8^2+'Single Model'!$H$9^2))+'Single Model'!$C$32","v":106.75285714285714},{"$f":"MAXA(3600*I26/('Single Model'!$I$24)+'Single Model'!$H$10*'Single Model'!$H$8+MAXA(0,'Single Model'!$C$10*3600*(1/'Single Model'!$I$24-1/'Single Model'!$D$24)),'Single Model'!$D$21+'Single Model'!$H$10*SQRT('Single Model'!$H$8^2+'Single Model'!$H$9^2))+'Single Model'!$C$32","v":101.61}]
[null,"Small +",{"$f":"MAXA(3600*C27/('Single Model'!$C$24)+'Single Model'!$H$10*'Single Model'!$H$8+MAXA(0,'Single Model'!$C$10*3600*(1/'Single Model'!$C$24-1/'Single Model'!$E$24)),'Single Model'!$E$21+'Single Model'!$H$10*SQRT('Single Model'!$H$8^2+'Single Model'!$H$9^2))+'Single Model'!$C$32","v":219.61},{"$f":"MAXA(3600*D27/('Single Model'!$D$24)+'Single Model'!$H$10*'Single Model'!$H$8+MAXA(0,'Single Model'!$C$10*3600*(1/'Single Model'!$D$24-1/'Single Model'!$E$24)),'Single Model'!$E$21+'Single Model'!$H$10*SQRT('Single Model'!$H$8^2+'Single Model'!$H$9^2))+'Single Model'!$C$32","v":179.61},{"$f":"MAXA(3600*E27/('Single Model'!$E$24)+'Single Model'!$H$10*'Single Model'!$H$8+MAXA(0,'Single Model'!$C$10*3600*(1/'Single Model'!$E$24-1/'Single Model'!$E$24)),'Single Model'!$E$21+'Single Model'!$H$10*SQRT('Single Model'!$H$8^2+'Single Model'!$H$9^2))+'Single Model'!$C$32","v":119.61},{"$f":"MAXA(3600*F27/('Single Model'!$F$24)+'Single Model'!$H$10*'Single Model'!$H$8+MAXA(0,'Single Model'!$C$10*3600*(1/'Single Model'!$F$24-1/'Single Model'!$E$24)),'Single Model'!$E$21+'Single Model'!$H$10*SQRT('Single Model'!$H$8^2+'Single Model'!$H$9^2))+'Single Model'!$C$32","v":112.68692307692308},{"$f":"MAXA(3600*G27/('Single Model'!$G$24)+'Single Model'!$H$10*'Single Model'!$H$8+MAXA(0,'Single Model'!$C$10*3600*(1/'Single Model'!$G$24-1/'Single Model'!$E$24)),'Single Model'!$E$21+'Single Model'!$H$10*SQRT('Single Model'!$H$8^2+'Single Model'!$H$9^2))+'Single Model'!$C$32","v":109.61},{"$f":"MAXA(3600*H27/('Single Model'!$H$24)+'Single Model'!$H$10*'Single Model'!$H$8+MAXA(0,'Single Model'!$C$10*3600*(1/'Single Model'!$H$24-1/'Single Model'!$E$24)),'Single Model'!$E$21+'Single Model'!$H$10*SQRT('Single Model'!$H$8^2+'Single Model'!$H$9^2))+'Single Model'!$C$32","v":106.75285714285714},{"$f":"MAXA(3600*I27/('Single Model'!$I$24)+'Single Model'!$H$10*'Single Model'!$H$8+MAXA(0,'Single Model'!$C$10*3600*(1/'Single Model'!$I$24-1/'Single Model'!$E$24)),'Single Model'!$E$21+'Single Model'!$H$10*SQRT('Single Model'!$H$8^2+'Single Model'!$H$9^2))+'Single Model'!$C$32","v":101.61}]
[null,"Large-TP",{"$f":"MAXA(3600*C28/('Single Model'!$C$24)+'Single Model'!$H$10*'Single Model'!$H$8+MAXA(0,'Single Model'!$C$10*3600*(1/'Single Model'!$C$24-1/'Single Model'!$F$24)),'Single Model'!$F$21+'Single Model'!$H$10*SQRT('Single Model'!$H$8^2+'Single Model'!$H$9^2))+'Single Model'!$C$32","v":275.7638461538462},{"$f":"MAXA(3600*D28/('Single Model'!$D$24)+'Single Model'!$H$10*'Single Model'!$H$8+MAXA(0,'Single Model'!$C$10*3600*(1/'Single Model'!$D$24-1/'Single Model'!$F$24)),'Single Model'!$F$21+'Single Model'!$H$10*SQRT('Single Model'!$H$8^2+'Single Model'!$H$9^2))+'Single Model'!$C$32","v":231.76384615384615},{"$f":"MAXA(3600*E28/('Single Model'!$E$24)+'Single Model'!$H$10*'Single Model'!$H$8+MAXA(0,'Single Model'!$C$10*3600*(1/'Single Model'!$E$24-1/'Single Model'!$F$24)),'Single Model'!$F$21+'Single Model'!$H$10*SQRT('Single Model'!$H$8^2+'Single Model'!$H$9^2))+'Single Model'!$C$32","v":165.76384615384615},{"$f":"MAXA(3600*F28/('Single Model'!$F$24)+'Single Model'!$H$10*'Single Model'!$H$8+MAXA(0,'Single Model'!$C$10*3600*(1/'Single Model'!$F$24-1/'Single Model'!$F$24)),'Single Model'!$F$21+'Single Model'!$H$10*SQRT('Single Model'!$H$8^2+'Single Model'!$H$9^2))+'Single Model'!$C$32","v":112.68692307692308},{"$f":"MAXA(3600*G28/('Single Model'!$G$24)+'Single Model'!$H$10*'Single Model'!$H$8+MAXA(0,'Single Model'!$C$10*3600*(1/'Single Model'!$G$24-1/'Single Model'!$F$24)),'Single Model'!$F$21+'Single Model'!$H$10*SQRT('Single Model'!$H$8^2+'Single Model'!$H$9^2))+'Single Model'!$C$32","v":109.61},{"$f":"MAXA(3600*H28/('Single Model'!$H$24)+'Single Model'!$H$10*'Single Model'!$H$8+MAXA(0,'Single Model'!$C$10*3600*(1/'Single Model'!$H$24-1/'Single Model'!$F$24)),'Single Model'!$F$21+'Single Model'!$H$10*SQRT('Single Model'!$H$8^2+'Single Model'!$H$9^2))+'Single Model'!$C$32","v":106.75285714285714},{"$f":"MAXA(3600*I28/('Single Model'!$I$24)+'Single Model'!$H$10*'Single Model'!$H$8+MAXA(0,'Single Model'!$C$10*3600*(1/'Single Model'!$I$24-1/'Single Model'!$F$24)),'Single Model'!$F$21+'Single Model'!$H$10*SQRT('Single Model'!$H$8^2+'Single Model'!$H$9^2))+'Single Model'!$C$32","v":101.61}]
[null,"Large-Jet",{"$f":"MAXA(3600*C29/('Single Model'!C$24)+'Single Model'!$H$10*'Single Model'!$H$8+MAXA(0,'Single Model'!$C$10*3600*(1/'Single Model'!C$24-1/'Single Model'!$G$24)),'Single Model'!$G$21+'Single Model'!$H$10*SQRT('Single Model'!$H$8^2+'Single Model'!$H$9^2))+'Single Model'!$C$32","v":282.94333333333338},{"$f":"MAXA(3600*D29/('Single Model'!D$24)+'Single Model'!$H$10*'Single Model'!$H$8+MAXA(0,'Single Model'!$C$10*3600*(1/'Single Model'!D$24-1/'Single Model'!$G$24)),'Single Model'!$G$21+'Single Model'!$H$10*SQRT('Single Model'!$H$8^2+'Single Model'!$H$9^2))+'Single Model'!$C$32","v":238.94333333333333},{"$f":"MAXA(3600*E29/('Single Model'!E$24)+'Single Model'!$H$10*'Single Model'!$H$8+MAXA(0,'Single Model'!$C$10*3600*(1/'Single Model'!E$24-1/'Single Model'!$G$24)),'Single Model'!$G$21+'Single Model'!$H$10*SQRT('Single Model'!$H$8^2+'Single Model'!$H$9^2))+'Single Model'!$C$32","v":172.94333333333333},{"$f":"MAXA(3600*F29/('Single Model'!F$24)+'Single Model'!$H$10*'Single Model'!$H$8+MAXA(0,'Single Model'!$C$10*3600*(1/'Single Model'!F$24-1/'Single Model'!$G$24)),'Single Model'!$G$21+'Single Model'!$H$10*SQRT('Single Model'!$H$8^2+'Single Model'!$H$9^2))+'Single Model'!$C$32","v":119.86641025641026},{"$f":"MAXA(3600*G29/('Single Model'!G$24)+'Single Model'!$H$10*'Single Model'!$H$8+MAXA(0,'Single Model'!$C$10*3600*(1/'Single Model'!G$24-1/'Single Model'!$G$24)),'Single Model'!$G$21+'Single Model'!$H$10*SQRT('Single Model'!$H$8^2+'Single Model'!$H$9^2))+'Single Model'!$C$32","v":109.61},{"$f":"MAXA(3600*H29/('Single Model'!H$24)+'Single Model'!$H$10*'Single Model'!$H$8+MAXA(0,'Single Model'!$C$10*3600*(1/'Single Model'!H$24-1/'Single Model'!$G$24)),'Single Model'!$G$21+'Single Model'!$H$10*SQRT('Single Model'!$H$8^2+'Single Model'!$H$9^2))+'Single Model'!$C$32","v":106.75285714285714},{"$f":"MAXA(3600*I29/('Single Model'!I$24)+'Single Model'!$H$10*'Single Model'!$H$8+MAXA(0,'Single Model'!$C$10*3600*(1/'Single Model'!I$24-1/'Single Model'!$G$24)),'Single Model'!$G$21+'Single Model'!$H$10*SQRT('Single Model'!$H$8^2+'Single Model'!$H$9^2))+'Single Model'!$C$32","v":101.61}]
[null,"Large-757",{"$f":"MAXA(3600*C30/('Single Model'!$C$24)+'Single Model'!$H$10*'Single Model'!$H$8+MAXA(0,'Single Model'!$C$10*3600*(1/'Single Model'!$C$24-1/'Single Model'!$H$24)),'Single Model'!$H$21+'Single Model'!$H$10*SQRT('Single Model'!$H$8^2+'Single Model'!$H$9^2))+'Single Model'!$C$32","v":329.61},{"$f":"MAXA(3600*D30/('Single Model'!$D$24)+'Single Model'!$H$10*'Single Model'!$H$8+MAXA(0,'Single Model'!$C$10*3600*(1/'Single Model'!$D$24-1/'Single Model'!$H$24)),'Single Model'!$H$21+'Single Model'!$H$10*SQRT('Single Model'!$H$8^2+'Single Model'!$H$9^2))+'Single Model'!$C$32","v":281.61},{"$f":"MAXA(3600*E30/('Single Model'!$E$24)+'Single Model'!$H$10*'Single Model'!$H$8+MAXA(0,'Single Model'!$C$10*3600*(1/'Single Model'!$E$24-1/'Single Model'!$H$24)),'Single Model'!$H$21+'Single Model'!$H$10*SQRT('Single Model'!$H$8^2+'Single Model'!$H$9^2))+'Single Model'!$C$32","v":209.61},{"$f":"MAXA(3600*F30/('Single Model'!$F$24)+'Single Model'!$H$10*'Single Model'!$H$8+MAXA(0,'Single Model'!$C$10*3600*(1/'Single Model'!$F$24-1/'Single Model'!$H$24)),'Single Model'!$H$21+'Single Model'!$H$10*SQRT('Single Model'!$H$8^2+'Single Model'!$H$9^2))+'Single Model'!$C$32","v":154.22538461538466},{"$f":"MAXA(3600*G30/('Single Model'!G$24)+'Single Model'!$H$10*'Single Model'!$H$8+MAXA(0,'Single Model'!$C$10*3600*(1/'Single Model'!G$24-1/'Single Model'!$H$24)),'Single Model'!$H$21+'Single Model'!$H$10*SQRT('Single Model'!$H$8^2+'Single Model'!$H$9^2))+'Single Model'!$C$32","v":142.94333333333336},{"$f":"MAXA(3600*H30/('Single Model'!$H$24)+'Single Model'!$H$10*'Single Model'!$H$8+MAXA(0,'Single Model'!$C$10*3600*(1/'Single Model'!$H$24-1/'Single Model'!$H$24)),'Single Model'!$H$21+'Single Model'!$H$10*SQRT('Single Model'!$H$8^2+'Single Model'!$H$9^2))+'Single Model'!$C$32","v":132.46714285714285},{"$f":"MAXA(3600*I30/('Single Model'!$I$24)+'Single Model'!$H$10*'Single Model'!$H$8+MAXA(0,'Single Model'!$C$10*3600*(1/'Single Model'!$I$24-1/'Single Model'!$H$24)),'Single Model'!$H$21+'Single Model'!$H$10*SQRT('Single Model'!$H$8^2+'Single Model'!$H$9^2))+'Single Model'!$C$32","v":125.61}]
[null,"Heavy",{"$f":"MAXA(3600*C31/('Single Model'!$C$24)+'Single Model'!$H$10*'Single Model'!$H$8+MAXA(0,'Single Model'!$C$10*3600*(1/'Single Model'!$C$24-1/'Single Model'!$I$24)),'Single Model'!$I$21+'Single Model'!$H$10*SQRT('Single Model'!$H$8^2+'Single Model'!$H$9^2))+'Single Model'!$C$32","v":381.61},{"$f":"MAXA(3600*D31/('Single Model'!$D$24)+'Single Model'!$H$10*'Single Model'!$H$8+MAXA(0,'Single Model'!$C$10*3600*(1/'Single Model'!$D$24-1/'Single Model'!$I$24)),'Single Model'!$I$21+'Single Model'!$H$10*SQRT('Single Model'!$H$8^2+'Single Model'!$H$9^2))+'Single Model'!$C$32","v":329.61},{"$f":"MAXA(3600*E31/('Single Model'!$E$24)+'Single Model'!$H$10*'Single Model'!$H$8+MAXA(0,'Single Model'!$C$10*3600*(1/'Single Model'!$E$24-1/'Single Model'!$I$24)),'Single Model'!$I$21+'Single Model'!$H$10*SQRT('Single Model'!$H$8^2+'Single Model'!$H$9^2))+'Single Model'!$C$32","v":221.61},{"$f":"MAXA(3600*F31/('Single Model'!$F$24)+'Single Model'!$H$10*'Single Model'!$H$8+MAXA(0,'Single Model'!$C$10*3600*(1/'Single Model'!$F$24-1/'Single Model'!$I$24)),'Single Model'!$I$21+'Single Model'!$H$10*SQRT('Single Model'!$H$8^2+'Single Model'!$H$9^2))+'Single Model'!$C$32","v":193.91769230769231},{"$f":"MAXA(3600*G31/('Single Model'!G$24)+'Single Model'!$H$10*'Single Model'!$H$8+MAXA(0,'Single Model'!$C$10*3600*(1/'Single Model'!G$24-1/'Single Model'!$I$24)),'Single Model'!$I$21+'Single Model'!$H$10*SQRT('Single Model'!$H$8^2+'Single Model'!$H$9^2))+'Single Model'!$C$32","v":181.60999999999999},{"$f":"MAXA(3600*H31/('Single Model'!$H$24)+'Single Model'!$H$10*'Single Model'!$H$8+MAXA(0,'Single Model'!$C$10*3600*(1/'Single Model'!$H$24-1/'Single Model'!$I$24)),'Single Model'!$I$21+'Single Model'!$H$10*SQRT('Single Model'!$H$8^2+'Single Model'!$H$9^2))+'Single Model'!$C$32","v":170.18142857142854},{"$f":"MAXA(3600*I31/('Single Model'!$I$24)+'Single Model'!$H$10*'Single Model'!$H$8+MAXA(0,'Single Model'!$C$10*3600*(1/'Single Model'!$I$24-1/'Single Model'!$I$24)),'Single Model'!$I$21+'Single Model'!$H$10*SQRT('Single Model'!$H$8^2+'Single Model'!$H$9^2))+'Single Model'!$C$32","v":125.61}]
[]
[null,"VMC Average time between Arrivals",null,null,null,"Time in Seconds"]
[null,null,"Small - S","Small - T","Small +","Large-TP","Large-Jet","Large-757","Heavy"]
[null,"Small - S",{"$f":"C5*C56","v":0},0,0,{"$f":"F5*F56","v":0},{"$f":"G5*G56","v":0},{"$f":"H5*H56","v":0},0,null,"Average VMC Arr. -Arr. separation"]
[null,"Small - T",0,0,0,0,0,0,0,null,{"$f":"SUM($C$76:$I$82)","v":98.140364566615474},"seconds"]
[null,"Small +",0,0,3.4644000000000008,4.9335230769230769,4.8166000000000002,1.5693428571428572,1.5042000000000004,null,{"$f":"SUM($C$76:$I$82)-'Single Model'!$C$32","v":98.140364566615474},"NO gap spacing buffer (Use for Pure AP)"]
[null,"Large-TP",0,0,7.6058307692307681,7.4002846153846145,7.2248999999999999,2.3540142857142854,2.2863504151758569,null,{"$f":"3600/K78","v":36.682154339832323}]
[null,"Large-Jet",0,0,8.0366,8.046438461538461,7.2248999999999999,2.3540142857142854,2.3163504151758572]
[null,"Large-757",0,0,3.4122000000000008,3.546761538461539,3.2483000000000004,{"$f":"H10*H61","v":0.99038571428571454},{"$f":"I10*I61","v":0.94410000000000016}]
[null,"Heavy",0,0,3.5922000000000009,4.6544538461538458,4.3282999999999996,{"$f":"H11*H62","v":1.3418142857142856},{"$f":"I11*I62","v":0.94410000000000016}]
[]
[null,"VMC Average time between Departures",null,null,null,"Time in Seconds"]
[null,null,"Small - S","Small - T","Small +","Large-TP","Large-Jet","Large-757","Heavy"]
[null,"Small - S",{"$f":"C5*C35","v":0},{"$f":"D5*D35","v":0},0,0,0,0,0,null,"Average VMC Dep.-Dep. separation"]
[null,"Small - T",0,0,0,0,0,0,0,null,{"$f":"SUM($C$86:$I$92)","v":70.499999999999986},"seconds"]
[null,"Small +",0,0,1.4000000000000004,2.6999999999999997,2.6999999999999997,0.90000000000000013,1.0000000000000002]
[null,"Large-TP",0,0,4.8,5.3999999999999995,5.3999999999999995,1.7999999999999998,1.7999999999999998]
[null,"Large-Jet",0,0,4.8,5.3999999999999995,5.3999999999999995,1.7999999999999998,1.7999999999999998]
[null,"Large-757",0,0,2.4000000000000004,3.5999999999999996,3.5999999999999996,1.2000000000000002,0.90000000000000013]
[null,"Heavy",0,0,2.4000000000000004,3.5999999999999996,3.5999999999999996,1.2000000000000002,0.90000000000000013]
[]
[null,"IMC Average time between Arrivals",null,null,null,"Time in Seconds"]
[null,null,"Small - S","Small - T","Small +","Large-TP","Large-Jet","Large-757","Heavy"]
[null,"Small - S",{"$f":"C5*C66","v":0},0,0,0,0,0,0,null,"Average IMC Arr. -Arr. separation"]
[null,"Small - T",0,0,0,0,0,0,0,null,{"$f":"SUM(C96:I102)","v":130.11725274725276},"seconds"]
[null,"Small +",0,0,4.7844000000000007,6.7612153846153848,6.5766,2.1350571428571432,2.0322000000000005,null,{"$f":"SUM($C$96:$I$102)-'Single Model'!$C$32","v":130.11725274725276},"NO gap spacing buffer (Use for Pure AP)"]
[null,"Large-TP",0,0,9.9458307692307688,10.141823076923076,9.8649000000000004,3.2025857142857141,3.0482999999999998,null,{"$f":"3600/K98","v":27.667353283217924}]
[null,"Large-Jet",0,0,10.3766,10.787976923076924,9.8649000000000004,3.2025857142857141,3.0482999999999998]
[null,"Large-757",0,0,4.1922000000000015,4.6267615384615395,4.2883000000000004,1.3246714285714287,1.2561000000000002]
[null,"Heavy",0,0,4.4322000000000008,5.8175307692307694,5.4482999999999997,1.7018142857142857,1.2561000000000002]
[]
[null,"IMC Average time between Departures",null,null,null,"Time in Seconds"]
[null,null,"Small - S","Small - T","Small +","Large-TP","Large-Jet","Large-757","Heavy"]
[null,"Small - S",{"$f":"C5*C45","v":0},0,0,0,0,0,0,null,"Average IMC Dep.-Dep. separation"]
[null,"Small - T",0,0,0,0,0,0,0,null,{"$f":"SUM(C106:I112)","v":73.8},"seconds"]
[null,"Small +",0,0,2.4000000000000004,3.5999999999999996,3.5999999999999996,1.2000000000000002,1.2000000000000002]
[null,"Large-TP",0,0,4.8,5.3999999999999995,5.3999999999999995,1.7999999999999998,1.7999999999999998]
[null,"Large-Jet",0,0,4.8,5.3999999999999995,5.3999999999999995,1.7999999999999998,1.7999999999999998]
[null,"Large-757",0,0,2.4000000000000004,3.5999999999999996,3.5999999999999996,{"$f":"H10*H50","v":1.2000000000000002},{"$f":"I10*I50","v":0.90000000000000013}]
[null,"Heavy",0,0,2.4000000000000004,3.5999999999999996,3.5999999999999996,{"$f":"H11*H51","v":1.2000000000000002},{"$f":"I11*I51","v":0.90000000000000013}]
[]
[null,"VMC Average Time Required for Departure between Arrivals",null,null,null,"Time in Seconds"]
[null,null,"Small - S","Small - T","Small +","Large-TP","Large-Jet","Large-757","Heavy"]
[null,"Small - S",{"$f":"'Single Model'!$C$21+MAXA((3600*'Single Model'!$C$8/('Single Model'!C$24)),C$155)","v":112},{"$f":"'Single Model'!$C$21+MAXA((3600*'Single Model'!$C$8/('Single Model'!D$24)),D$155)","v":104},{"$f":"'Single Model'!$C$21+MAXA((3600*'Single Model'!$C$8/('Single Model'!E$24)),E$155)","v":92},{"$f":"'Single Model'!$C$21+MAXA((3600*'Single Model'!$C$8/('Single Model'!F$24)),F$155)","v":87.384615384615387},{"$f":"'Single Model'!$C$21+MAXA((3600*'Single Model'!$C$8/('Single Model'!G$24)),G$155)","v":85.333333333333343},{"$f":"'Single Model'!$C$21+MAXA((3600*'Single Model'!$C$8/('Single Model'!H$24)),H$155)","v":83.428571428571431},{"$f":"'Single Model'!$C$21+MAXA((3600*'Single Model'!$C$8/('Single Model'!I$24)),I$155)","v":83}]
[null,"Small - T",{"$f":"'Single Model'!$D$21+MAXA((3600*'Single Model'!$C$8/('Single Model'!C$24)),C$155)","v":120},{"$f":"'Single Model'!$D$21+MAXA((3600*'Single Model'!$C$8/('Single Model'!D$24)),D$155)","v":112},{"$f":"'Single Model'!$D$21+MAXA((3600*'Single Model'!$C$8/('Single Model'!E$24)),E$155)","v":100},{"$f":"'Single Model'!$D$21+MAXA((3600*'Single Model'!$C$8/('Single Model'!F$24)),F$155)","v":95.384615384615387},{"$f":"'Single Model'!$D$21+MAXA((3600*'Single Model'!$C$8/('Single Model'!G$24)),G$155)","v":93.333333333333343},{"$f":"'Single Model'!$D$21+MAXA((3600*'Single Model'!$C$8/('Single Model'!H$24)),H$155)","v":91.428571428571431},{"$f":"'Single Model'!$D$21+MAXA((3600*'Single Model'!$C$8/('Single Model'!I$24)),I$155)","v":91}]
[null,"Small +",{"$f":"'Single Model'!$E$21+MAXA((3600*'Single Model'!$C$8/('Single Model'!C$24)),C$155)","v":122},{"$f":"'Single Model'!$E$21+MAXA((3600*'Single Model'!$C$8/('Single Model'!D$24)),D$155)","v":114},{"$f":"'Single Model'!$E$21+MAXA((3600*'Single Model'!$C$8/('Single Model'!E$24)),E$155)","v":102},{"$f":"'Single Model'!$E$21+MAXA((3600*'Single Model'!$C$8/('Single Model'!F$24)),F$155)","v":97.384615384615387},{"$f":"'Single Model'!$E$21+MAXA((3600*'Single Model'!$C$8/('Single Model'!G$24)),G$155)","v":95.333333333333343},{"$f":"'Single Model'!$E$21+MAXA((3600*'Single Model'!$C$8/('Single Model'!H$24)),H$155)","v":93.428571428571431},{"$f":"'Single Model'!$E$21+MAXA((3600*'Single Model'!$C$8/('Single Model'!I$24)),I$155)","v":93}]
[null,"Large-TP",{"$f":"'Single Model'!$F$21+MAXA((3600*'Single Model'!$C$8/('Single Model'!C$24)),C$155)","v":125},{"$f":"'Single Model'!$F$21+MAXA((3600*'Single Model'!$C$8/('Single Model'!D$24)),D$155)","v":117},{"$f":"'Single Model'!$F$21+MAXA((3600*'Single Model'!$C$8/('Single Model'!E$24)),E$155)","v":105},{"$f":"'Single Model'!$F$21+MAXA((3600*'Single Model'!$C$8/('Single Model'!F$24)),F$155)","v":100.38461538461539},{"$f":"'Single Model'!$F$21+MAXA((3600*'Single Model'!$C$8/('Single Model'!G$24)),G$155)","v":98.333333333333343},{"$f":"'Single Model'!$F$21+MAXA((3600*'Single Model'!$C$8/('Single Model'!H$24)),H$155)","v":96.428571428571431},{"$f":"'Single Model'!$F$21+MAXA((3600*'Single Model'!$C$8/('Single Model'!I$24)),I$155)","v":96}]
[null,"Large-Jet",{"$f":"'Single Model'!$G$21+MAXA((3600*'Single Model'!$C$8/('Single Model'!C$24)),C$155)","v":126},{"$f":"'Single Model'!$G$21+MAXA((3600*'Single Model'!$C$8/('Single Model'!D$24)),D$155)","v":118},{"$f":"'Single Model'!$G$21+MAXA((3600*'Single Model'!$C$8/('Single Model'!E$24)),E$155)","v":106},{"$f":"'Single Model'!$G$21+MAXA((3600*'Single Model'!$C$8/('Single Model'!F$24)),F$155)","v":101.38461538461539},{"$f":"'Single Model'!$G$21+MAXA((3600*'Single Model'!$C$8/('Single Model'!G$24)),G$155)","v":99.333333333333343},{"$f":"'Single Model'!$G$21+MAXA((3600*'Single Model'!$C$8/('Single Model'!H$24)),H$155)","v":97.428571428571431},{"$f":"'Single Model'!$G$21+MAXA((3600*'Single Model'!$C$8/('Single Model'!I$24)),I$155)","v":97}]
[null,"Large-757",{"$f":"'Single Model'!$H$21+MAXA((3600*'Single Model'!$C$8/('Single Model'!C$24)),C$155)","v":131},{"$f":"'Single Model'!$H$21+MAXA((3600*'Single Model'!$C$8/('Single Model'!D$24)),D$155)","v":123},{"$f":"'Single Model'!$H$21+MAXA((3600*'Single Model'!$C$8/('Single Model'!E$24)),E$155)","v":111},{"$f":"'Single Model'!$H$21+MAXA((3600*'Single Model'!$C$8/('Single Model'!F$24)),F$155)","v":106.38461538461539},{"$f":"'Single Model'!$H$21+MAXA((3600*'Single Model'!$C$8/('Single Model'!G$24)),G$155)","v":104.33333333333334},{"$f":"'Single Model'!$H$21+MAXA((3600*'Single Model'!$C$8/('Single Model'!H$24)),H$155)","v":102.42857142857143},{"$f":"'Single Model'!$H$21+MAXA((3600*'Single Model'!$C$8/('Single Model'!I$24)),I$155)","v":102}]
[null,"Heavy",{"$f":"'Single Model'!$I$21+MAXA((3600*'Single Model'!$C$8/('Single Model'!C$24)),C$155)","v":135},{"$f":"'Single Model'!$I$21+MAXA((3600*'Single Model'!$C$8/('Single Model'!D$24)),D$155)","v":127},{"$f":"'Single Model'!$I$21+MAXA((3600*'Single Model'!$C$8/('Single Model'!E$24)),E$155)","v":115},{"$f":"'Single Model'!$I$21+MAXA((3600*'Single Model'!$C$8/('Single Model'!F$24)),F$155)","v":110.38461538461539},{"$f":"'Single Model'!$I$21+MAXA((3600*'Single Model'!$C$8/('Single Model'!G$24)),G$155)","v":108.33333333333334},{"$f":"'Single Model'!$I$21+MAXA((3600*'Single Model'!$C$8/('Single Model'!H$24)),H$155)","v":106.42857142857143},{"$f":"'Single Model'!$I$21+MAXA((3600*'Single Model'!$C$8/('Single Model'!I$24)),I$155)","v":106}]
[null,"  "]
[null,"IMC Average Time Required for Departure between Arrivals",null,null,null,"Time in Seconds"]
[null,null,"Small - S","Small - T","Small +","Large-TP","Large-Jet","Large-757","Heavy"]
[" ","Small - S",{"$f":"'Single Model'!$C$21+MAXA((3600*'Single Model'!$C$9/('Single Model'!C$24)),C$155)","v":112},{"$f":"'Single Model'!$C$21+MAXA((3600*'Single Model'!$C$9/('Single Model'!D$24)),D$155)","v":104},{"$f":"'Single Model'!$C$21+MAXA((3600*'Single Model'!$C$9/('Single Model'!E$24)),E$155)","v":92},{"$f":"'Single Model'!$C$21+MAXA((3600*'Single Model'!$C$9/('Single Model'!F$24)),F$155)","v":87.384615384615387},{"$f":"'Single Model'!$C$21+MAXA((3600*'Single Model'!$C$9/('Single Model'!G$24)),G$155)","v":85.333333333333343},{"$f":"'Single Model'!$C$21+MAXA((3600*'Single Model'!$C$9/('Single Model'!H$24)),H$155)","v":83.428571428571431},{"$f":"'Single Model'!$C$21+MAXA((3600*'Single Model'!$C$9/('Single Model'!I$24)),I$155)","v":83}]
[null,"Small - T",{"$f":"'Single Model'!$D$21+MAXA((3600*'Single Model'!$C$9/('Single Model'!C$24)),C$155)","v":120},{"$f":"'Single Model'!$D$21+MAXA((3600*'Single Model'!$C$9/('Single Model'!D$24)),D$155)","v":112},{"$f":"'Single Model'!$D$21+MAXA((3600*'Single Model'!$C$9/('Single Model'!E$24)),E$155)","v":100},{"$f":"'Single Model'!$D$21+MAXA((3600*'Single Model'!$C$9/('Single Model'!F$24)),F$155)","v":95.384615384615387},{"$f":"'Single Model'!$D$21+MAXA((3600*'Single Model'!$C$9/('Single Model'!G$24)),G$155)","v":93.333333333333343},{"$f":"'Single Model'!$D$21+MAXA((3600*'Single Model'!$C$9/('Single Model'!H$24)),H$155)","v":91.428571428571431},{"$f":"'Single Model'!$D$21+MAXA((3600*'Single Model'!$C$9/('Single Model'!I$24)),I$155)","v":91}]
[null,"Small +",{"$f":"'Single Model'!$E$21+MAXA((3600*'Single Model'!$C$9/('Single Model'!C$24)),C$155)","v":122},{"$f":"'Single Model'!$E$21+MAXA((3600*'Single Model'!$C$9/('Single Model'!D$24)),D$155)","v":114},{"$f":"'Single Model'!$E$21+MAXA((3600*'Single Model'!$C$9/('Single Model'!E$24)),E$155)","v":102},{"$f":"'Single Model'!$E$21+MAXA((3600*'Single Model'!$C$9/('Single Model'!F$24)),F$155)","v":97.384615384615387},{"$f":"'Single Model'!$E$21+MAXA((3600*'Single Model'!$C$9/('Single Model'!G$24)),G$155)","v":95.333333333333343},{"$f":"'Single Model'!$E$21+MAXA((3600*'Single Model'!$C$9/('Single Model'!H$24)),H$155)","v":93.428571428571431},{"$f":"'Single Model'!$E$21+MAXA((3600*'Single Model'!$C$9/('Single Model'!I$24)),I$155)","v":93}]
[null,"Large-TP",{"$f":"'Single Model'!$F$21+MAXA((3600*'Single Model'!$C$9/('Single Model'!C$24)),C$155)","v":125},{"$f":"'Single Model'!$F$21+MAXA((3600*'Single Model'!$C$9/('Single Model'!D$24)),D$155)","v":117},{"$f":"'Single Model'!$F$21+MAXA((3600*'Single Model'!$C$9/('Single Model'!E$24)),E$155)","v":105},{"$f":"'Single Model'!$F$21+MAXA((3600*'Single Model'!$C$9/('Single Model'!F$24)),F$155)","v":100.38461538461539},{"$f":"'Single Model'!$F$21+MAXA((3600*'Single Model'!$C$9/('Single Model'!G$24)),G$155)","v":98.333333333333343},{"$f":"'Single Model'!$F$21+MAXA((3600*'Single Model'!$C$9/('Single Model'!H$24)),H$155)","v":96.428571428571431},{"$f":"'Single Model'!$F$21+MAXA((3600*'Single Model'!$C$9/('Single Model'!I$24)),I$155)","v":96}]
[null,"Large-Jet",{"$f":"'Single Model'!$G$21+MAXA((3600*'Single Model'!$C$9/('Single Model'!C$24)),C$155)","v":126},{"$f":"'Single Model'!$G$21+MAXA((3600*'Single Model'!$C$9/('Single Model'!D$24)),D$155)","v":118},{"$f":"'Single Model'!$G$21+MAXA((3600*'Single Model'!$C$9/('Single Model'!E$24)),E$155)","v":106},{"$f":"'Single Model'!$G$21+MAXA((3600*'Single Model'!$C$9/('Single Model'!F$24)),F$155)","v":101.38461538461539},{"$f":"'Single Model'!$G$21+MAXA((3600*'Single Model'!$C$9/('Single Model'!G$24)),G$155)","v":99.333333333333343},{"$f":"'Single Model'!$G$21+MAXA((3600*'Single Model'!$C$9/('Single Model'!H$24)),H$155)","v":97.428571428571431},{"$f":"'Single Model'!$G$21+MAXA((3600*'Single Model'!$C$9/('Single Model'!I$24)),I$155)","v":97}]
[null,"Large-757",{"$f":"'Single Model'!$H$21+MAXA((3600*'Single Model'!$C$9/('Single Model'!C$24)),C$155)","v":131},{"$f":"'Single Model'!$H$21+MAXA((3600*'Single Model'!$C$9/('Single Model'!D$24)),D$155)","v":123},{"$f":"'Single Model'!$H$21+MAXA((3600*'Single Model'!$C$9/('Single Model'!E$24)),E$155)","v":111},{"$f":"'Single Model'!$H$21+MAXA((3600*'Single Model'!$C$9/('Single Model'!F$24)),F$155)","v":106.38461538461539},{"$f":"'Single Model'!$H$21+MAXA((3600*'Single Model'!$C$9/('Single Model'!G$24)),G$155)","v":104.33333333333334},{"$f":"'Single Model'!$H$21+MAXA((3600*'Single Model'!$C$9/('Single Model'!H$24)),H$155)","v":102.42857142857143},{"$f":"'Single Model'!$H$21+MAXA((3600*'Single Model'!$C$9/('Single Model'!I$24)),I$155)","v":102}]
[null,"Heavy",{"$f":"'Single Model'!$I$21+MAXA((3600*'Single Model'!$C$9/('Single Model'!C$24)),C$155)","v":135},{"$f":"'Single Model'!$I$21+MAXA((3600*'Single Model'!$C$9/('Single Model'!D$24)),D$155)","v":127},{"$f":"'Single Model'!$I$21+MAXA((3600*'Single Model'!$C$9/('Single Model'!E$24)),E$155)","v":115},{"$f":"'Single Model'!$I$21+MAXA((3600*'Single Model'!$C$9/('Single Model'!F$24)),F$155)","v":110.38461538461539},{"$f":"'Single Model'!$I$21+MAXA((3600*'Single Model'!$C$9/('Single Model'!G$24)),G$155)","v":108.33333333333334},{"$f":"'Single Model'!$I$21+MAXA((3600*'Single Model'!$C$9/('Single Model'!H$24)),H$155)","v":106.42857142857143},{"$f":"'Single Model'!$I$21+MAXA((3600*'Single Model'!$C$9/('Single Model'!I$24)),I$155)","v":106}]
[]
[null,"VMC Average Required for Departure between Arrivals",null,null,null,"Time in Seconds",null,null,null,null,"Departures between Arrivals in VMC"]
[null,null,"Small - S","Small - T","Small +","Large-TP","Large-Jet","Large-757","Heavy",null,{"$f":"SUMPRODUCT(K136:K142,C5:C11)+SUMPRODUCT(L136:L142,D5:D11)+SUMPRODUCT(M136:M142,E5:E11)+SUMPRODUCT(N136:N142,F5:F11)+SUMPRODUCT(P136:P142,H5:H11)+SUMPRODUCT(Q136:Q142,I5:I11)+SUMPRODUCT(O136:O142,G5:G11)","v":0.29000000000000004},{"$f":"K135*(3600-'Single Model'!$I$26)/K77","v":10.637824758551375}]
[null,"Small - S",{"$f":"C56-C116","v":-6.3900000000000006},-5.9899999999999949,-5.3900000000000006,-5.1592307692307742,-5.056666666666672,-4.9614285714285842,-7.789999999999992,null,{"$f":"IF(C136>=0,TRUNC(C136/$K$87,0)+1,0)","v":0},0,0,0,0,0,0]
[null,"Small - T",13.610000000000014,-13.989999999999995,-13.39,-13.159230769230774,-13.056666666666672,-12.961428571428584,-15.789999999999992,null,1,0,0,0,0,0,0]
[null,"Small +",53.610000000000014,26.010000000000019,-15.39,-15.159230769230774,-15.056666666666672,-14.961428571428584,-17.789999999999992,null,1,1,0,0,0,0,0]
[null,"Large-TP",98.763846153846174,67.963846153846134,21.763846153846146,-18.159230769230774,-18.056666666666672,-17.961428571428584,-19.788319494138094,null,2,1,1,0,0,0,0]
[null,"Large-Jet",104.94333333333336,74.143333333333317,27.943333333333328,-11.979743589743592,-19.056666666666672,-18.961428571428584,-19.788319494138094,null,2,2,1,0,0,{"$f":"IF(G140>=0,TRUNC(G140/$K$87,0)+1,0)","v":0},{"$f":"IF(H140>=0,TRUNC(H140/$K$87,0)+1,0)","v":0}]
[null,"Large-757",146.61000000000001,111.81,59.610000000000014,11.840769230769254,3.9433333333333422,{"$f":"H61-H121","v":-3.3900000000000006},{"$f":"I61-I121","v":-7.5900000000000034},null,3,2,1,1,1,{"$f":"IF(H141>=0,TRUNC(H141/$K$87,0)+1,0)","v":0},{"$f":"IF(I141>=0,TRUNC(I141/$K$87,0)+1,0)","v":0}]
[null,"Heavy",190.61,152.20999999999998,64.610000000000014,44.763846153846146,35.943333333333328,{"$f":"H62-H122","v":27.75285714285711},{"$f":"I62-I122","v":-11.590000000000003},null,3,3,1,1,1,{"$f":"IF(H142>=0,TRUNC(H142/$K$87,0)+1,0)","v":1},{"$f":"IF(I142>=0,TRUNC(I142/$K$87,0)+1,0)","v":0}]
[]
[null,"IMC Average Required for Departure between Arrivals",null,null,null,"Time in Seconds",null,null,null,null,"Departures between Arrivals in IMC"]
[null,null,"Small - S","Small - T","Small +","Large-TP","Large-Jet","Large-757","Heavy",null,{"$f":"SUMPRODUCT(K146:K152,C5:C11)+SUMPRODUCT(L146:L152,D5:D11)+SUMPRODUCT(M146:M152,E5:E11)+SUMPRODUCT(N146:N152,F5:F11)+SUMPRODUCT(P146:P152,H5:H11)+SUMPRODUCT(Q146:Q152,I5:I11)+SUMPRODUCT(O146:O152,G5:G11)","v":1.07},{"$f":"K145*(3600-'Single Model'!$I$26)/K97","v":29.604068013043179}]
[null,"Small - S",{"$f":"C66-C126","v":37.610000000000014},33.610000000000014,27.61,25.302307692307693,24.276666666666657,23.324285714285708,18.61,null,{"$f":"IF(C146>=0,TRUNC(C146/$K$107,0)+1,0)","v":1},1,1,1,1,1,1]
[null,"Small - T",57.610000000000014,25.610000000000014,19.61,17.302307692307693,16.276666666666657,15.324285714285708,10.61,null,1,1,1,1,1,1,1]
[null,"Small +",97.610000000000014,65.610000000000014,17.61,15.302307692307693,14.276666666666657,13.324285714285708,8.61,null,2,1,1,1,1,1,1]
[null,"Large-TP",150.7638461538462,114.76384615384615,60.763846153846146,12.302307692307693,11.276666666666657,10.324285714285708,5.6099999999999994,null,3,2,1,1,1,1,1]
[null,"Large-Jet",156.94333333333338,120.94333333333333,66.943333333333328,18.481794871794875,10.276666666666657,9.3242857142857076,4.6099999999999994,null,3,2,1,1,1,{"$f":"IF(G150>=0,TRUNC(G150/$K$107,0)+1,0)","v":1},{"$f":"IF(H150>=0,TRUNC(H150/$K$107,0)+1,0)","v":1}]
[null,"Large-757",198.61,158.61000000000001,98.610000000000014,47.840769230769268,38.610000000000014,30.038571428571416,23.61,null,3,3,2,1,1,{"$f":"IF(H151>=0,TRUNC(H151/$K$107,0)+1,0)","v":1},{"$f":"IF(I151>=0,TRUNC(I151/$K$107,0)+1,0)","v":1}]
[null,"Heavy",246.61,202.61,106.61000000000001,83.533076923076919,73.276666666666642,63.75285714285711,19.61,null,4,3,2,2,1,{"$f":"IF(H152>=0,TRUNC(H152/$K$107,0)+1,0)","v":1},{"$f":"IF(I152>=0,TRUNC(I152/$K$107,0)+1,0)","v":1}]
[]
[null,null,"Small - S","Small - T","Small +","Large-TP","Large-Jet","Large-757","Heavy"]
[null,"Average Dep. Runway Occ. Times (sec)",34,42,34,34,46,38,51]
[]
[null,null,"linked to all work tabs"]
[]
[null,null,23,22,27,30,34,38,39]
[]
[]
[]
[]
[]
[]
[]
[]
[]
[]
[]
[null,null,null,null,null,null,null,null,null,null,null,null,null,null,null,null,null,null,null," "]

{"sheet":"Default Values1","index":8,"n_rows":66,"n_cols":5,"rows_kept":66,"cut":false,"hidden":true,"merged":[]}
["SAVE!!!","These default values and cell links are used when the Reset Inputs Button on the model is chosen."]
[]
[null,"Default Variable Description",null,"Value","Cell Location for RESET BUTTON"]
["v1","VMC-Arrival/Departure Separation",null,2,{"$f":"CELL(\"address\",'Single Model'!C8)","v":"'[Planilla-Runway capacity (2).xlsm]Single Model'!$C$8"}]
["v2","IMC-Arrival/Departure Separation",null,2,{"$f":"CELL(\"address\",'Single Model'!C9)","v":"'[Planilla-Runway capacity (2).xlsm]Single Model'!$C$9"}]
["v3","Length of Common Approach",null,7,{"$f":"CELL(\"address\",'Single Model'!C10)","v":"'[Planilla-Runway capacity (2).xlsm]Single Model'!$C$10"}]
["v4","Arrival - Arrival Std. Dev.",null,18,{"$f":"CELL(\"address\",'Single Model'!H8)","v":"'[Planilla-Runway capacity (2).xlsm]Single Model'!$H$8"}]
["v5","Departure ROT Std. Dev.",null,6,{"$f":"CELL(\"address\",'Single Model'!H9)","v":"'[Planilla-Runway capacity (2).xlsm]Single Model'!$H$9"}]
["v6","Z-Value, 95% Confidence Level (5% miss)",null,1.645,{"$f":"CELL(\"address\",'Single Model'!H10)","v":"'[Planilla-Runway capacity (2).xlsm]Single Model'!$H$10"}]
["v7","AROT, Small-S",null,32,{"$f":"CELL(\"address\",'Single Model'!C21)","v":"'[Planilla-Runway capacity (2).xlsm]Single Model'!$C$21"}]
["v8","AROT, Small-T",null,40,{"$f":"CELL(\"address\",'Single Model'!D21)","v":"'[Planilla-Runway capacity (2).xlsm]Single Model'!$D$21"}]
["v9","AROT, Small+",null,42,{"$f":"CELL(\"address\",'Single Model'!E21)","v":"'[Planilla-Runway capacity (2).xlsm]Single Model'!$E$21"}]
["v10","AROT, Large-TP",null,45,{"$f":"CELL(\"address\",'Single Model'!F21)","v":"'[Planilla-Runway capacity (2).xlsm]Single Model'!$F$21"}]
["v11","AROT, Large-Jet",null,46,{"$f":"CELL(\"address\",'Single Model'!G21)","v":"'[Planilla-Runway capacity (2).xlsm]Single Model'!$G$21"}]
["v12","AROT, Large-757",null,51,{"$f":"CELL(\"address\",'Single Model'!H21)","v":"'[Planilla-Runway capacity (2).xlsm]Single Model'!$H$21"}]
["v13","AROT, Heavy",null,55,{"$f":"CELL(\"address\",'Single Model'!I21)","v":"'[Planilla-Runway capacity (2).xlsm]Single Model'!$I$21"}]
["v14","Avg. Approach Speed, Small-S",null,90,{"$f":"CELL(\"address\",'Single Model'!C24)","v":"'[Planilla-Runway capacity (2).xlsm]Single Model'!$C$24"}]
["v15","Avg. Approach Speed, Small-T",null,100,{"$f":"CELL(\"address\",'Single Model'!D24)","v":"'[Planilla-Runway capacity (2).xlsm]Single Model'!$D$24"}]
["v16","Avg. Approach Speed, Small+",null,120,{"$f":"CELL(\"address\",'Single Model'!E24)","v":"'[Planilla-Runway capacity (2).xlsm]Single Model'!$E$24"}]
["v17","Avg. Approach Speed, Large-TP",null,130,{"$f":"CELL(\"address\",'Single Model'!F24)","v":"'[Planilla-Runway capacity (2).xlsm]Single Model'!$F$24"}]
["v18","Avg. Approach Speed, Large-Jet",null,135,{"$f":"CELL(\"address\",'Single Model'!G24)","v":"'[Planilla-Runway capacity (2).xlsm]Single Model'!$G$24"}]
["v19","Avg. Approach Speed, Large-757",null,140,{"$f":"CELL(\"address\",'Single Model'!H24)","v":"'[Planilla-Runway capacity (2).xlsm]Single Model'!$H$24"}]
["v20","Avg. Approach Speed, Heavy",null,150,{"$f":"CELL(\"address\",'Single Model'!I24)","v":"'[Planilla-Runway capacity (2).xlsm]Single Model'!$I$24"}]
["v21","Gap Spacing Buffer (sec)",null,0,{"$f":"CELL(\"address\",'Single Model'!C32)","v":"'[Planilla-Runway capacity (2).xlsm]Single Model'!$C$32"}]
["v22","Departure Hold Buffer (sec)",null,10,{"$f":"CELL(\"address\",'Single Model'!C33)","v":"'[Planilla-Runway capacity (2).xlsm]Single Model'!$C$33"}]
["v23","Gap Spacing Buffer (nm)",null,0,{"$f":"CELL(\"address\",'Single Model'!H32)","v":"'[Planilla-Runway capacity (2).xlsm]Single Model'!$H$32"}]
[null,"Trailing Aircraft","Leading Aircraft","VMC"]
["v24","Small-S --- Heavy","Small-S, Small-T",1.9,{"$f":"CELL(\"address\",'Single Model'!D37)","v":"'[Planilla-Runway capacity (2).xlsm]Single Model'!$D$37"}]
["v25","Small-S --- Small+","Small +",1.9,{"$f":"CELL(\"address\",'Single Model'!D38)","v":"'[Planilla-Runway capacity (2).xlsm]Single Model'!$D$38"}]
["v26","Large --- Heavy","Small +",1.9,{"$f":"CELL(\"address\",'Single Model'!D39)","v":"'[Planilla-Runway capacity (2).xlsm]Single Model'!$D$39"}]
["v27","Small-S --- Small+","Large-TP, Jet",2.7,{"$f":"CELL(\"address\",'Single Model'!D40)","v":"'[Planilla-Runway capacity (2).xlsm]Single Model'!$D$40"}]
["v28","Large --- Heavy","Large-TP, Jet",1.9,{"$f":"CELL(\"address\",'Single Model'!D41)","v":"'[Planilla-Runway capacity (2).xlsm]Single Model'!$D$41"}]
["v29","Small-S --- Small+","Large-757",3.7,{"$f":"CELL(\"address\",'Single Model'!D42)","v":"'[Planilla-Runway capacity (2).xlsm]Single Model'!$D$42"}]
["v30","Large --- Heavy","Large-757",2.7,{"$f":"CELL(\"address\",'Single Model'!D43)","v":"'[Planilla-Runway capacity (2).xlsm]Single Model'!$D$43"}]
["v31","Small-S --- Small-T","Heavy",4.5999999999999996,{"$f":"CELL(\"address\",'Single Model'!D44)","v":"'[Planilla-Runway capacity (2).xlsm]Single Model'!$D$44"}]
["v32","Small + --- 757","Heavy",3.6,{"$f":"CELL(\"address\",'Single Model'!D45)","v":"'[Planilla-Runway capacity (2).xlsm]Single Model'!$D$45"}]
["v33","Heavy","Heavy",2.7,{"$f":"CELL(\"address\",'Single Model'!D46)","v":"'[Planilla-Runway capacity (2).xlsm]Single Model'!$D$46"}]
[null,"Trailing Aircraft","Leading Aircraft","IMC"]
["v34","Small-S --- Heavy","Small-S, Small-T",3,{"$f":"CELL(\"address\",'Single Model'!E37)","v":"'[Planilla-Runway capacity (2).xlsm]Single Model'!$E$37"}]
["v35","Small-S --- Small+","Small +",3,{"$f":"CELL(\"address\",'Single Model'!E38)","v":"'[Planilla-Runway capacity (2).xlsm]Single Model'!$E$38"}]
["v36","Large --- Heavy","Small +",3,{"$f":"CELL(\"address\",'Single Model'!E39)","v":"'[Planilla-Runway capacity (2).xlsm]Single Model'!$E$39"}]
["v37","Small-S --- Small+","Large-TP, Jet",4,{"$f":"CELL(\"address\",'Single Model'!E40)","v":"'[Planilla-Runway capacity (2).xlsm]Single Model'!$E$40"}]
["v38","Large --- Heavy","Large-TP, Jet",3,{"$f":"CELL(\"address\",'Single Model'!E41)","v":"'[Planilla-Runway capacity (2).xlsm]Single Model'!$E$41"}]
["v39","Small-S --- Small+","Large-757",5,{"$f":"CELL(\"address\",'Single Model'!E42)","v":"'[Planilla-Runway capacity (2).xlsm]Single Model'!$E$42"}]
["v40","Large --- Heavy","Large-757",4,{"$f":"CELL(\"address\",'Single Model'!E43)","v":"'[Planilla-Runway capacity (2).xlsm]Single Model'!$E$43"}]
["v41","Small-S --- Small-T","Heavy",6,{"$f":"CELL(\"address\",'Single Model'!E44)","v":"'[Planilla-Runway capacity (2).xlsm]Single Model'!$E$44"}]
["v42","Small + --- 757","Heavy",5,{"$f":"CELL(\"address\",'Single Model'!E45)","v":"'[Planilla-Runway capacity (2).xlsm]Single Model'!$E$45"}]
["v43","Heavy","Heavy",4,{"$f":"CELL(\"address\",'Single Model'!E46)","v":"'[Planilla-Runway capacity (2).xlsm]Single Model'!$E$46"}]
[null,"Trailing Aircraft","Leading Aircraft","VMC"]
["v44","Small-S --- Small +","Small-S- Small +",35,{"$f":"CELL(\"address\",'Single Model'!D50)","v":"'[Planilla-Runway capacity (2).xlsm]Single Model'!$D$50"}]
["v45","Large -TP --- Large 757","Small-S- Small +",45,{"$f":"CELL(\"address\",'Single Model'!D51)","v":"'[Planilla-Runway capacity (2).xlsm]Single Model'!$D$51"}]
["v46","Heavy","Small-S- Small +",50,{"$f":"CELL(\"address\",'Single Model'!D52)","v":"'[Planilla-Runway capacity (2).xlsm]Single Model'!$D$52"}]
["v47","Small-S --- Small+","Large TP, Large Jet",80,{"$f":"CELL(\"address\",'Single Model'!D53)","v":"'[Planilla-Runway capacity (2).xlsm]Single Model'!$D$53"}]
["v48","Large --- Heavy","Large TP, Large Jet",60,{"$f":"CELL(\"address\",'Single Model'!D54)","v":"'[Planilla-Runway capacity (2).xlsm]Single Model'!$D$54"}]
["v49","Small-S --- Large Jet","Large 757, Heavy",120,{"$f":"CELL(\"address\",'Single Model'!D55)","v":"'[Planilla-Runway capacity (2).xlsm]Single Model'!$D$55"}]
["v50","Large 757, Heavy","Large 757, Heavy",90,{"$f":"CELL(\"address\",'Single Model'!D56)","v":"'[Planilla-Runway capacity (2).xlsm]Single Model'!$D$56"}]
[null,"Trailing Aircraft","Leading Aircraft","IMC"]
["v51","Small-S --- Small +","Small-S- Small +",60,{"$f":"CELL(\"address\",'Single Model'!E50)","v":"'[Planilla-Runway capacity (2).xlsm]Single Model'!$E$50"}]
["v52","Large -TP --- Large 757","Small-S- Small +",60,{"$f":"CELL(\"address\",'Single Model'!E51)","v":"'[Planilla-Runway capacity (2).xlsm]Single Model'!$E$51"}]
["v53","Heavy","Small-S- Small +",60,{"$f":"CELL(\"address\",'Single Model'!E52)","v":"'[Planilla-Runway capacity (2).xlsm]Single Model'!$E$52"}]
["v54","Small-S --- Small+","Large TP, Large Jet",80,{"$f":"CELL(\"address\",'Single Model'!E53)","v":"'[Planilla-Runway capacity (2).xlsm]Single Model'!$E$53"}]
["v55","Large --- Heavy","Large TP, Large Jet",60,{"$f":"CELL(\"address\",'Single Model'!E54)","v":"'[Planilla-Runway capacity (2).xlsm]Single Model'!$E$54"}]
["v56","Small-S --- Large Jet","Large 757, Heavy",120,{"$f":"CELL(\"address\",'Single Model'!E55)","v":"'[Planilla-Runway capacity (2).xlsm]Single Model'!$E$55"}]
["v57","Large 757, Heavy","Large 757, Heavy",90,{"$f":"CELL(\"address\",'Single Model'!E56)","v":"'[Planilla-Runway capacity (2).xlsm]Single Model'!$E$56"}]
[]
["v58","% Touch and Go",null,0,{"$f":"CELL(\"address\",'Single Model'!D11)","v":"'[Planilla-Runway capacity (2).xlsm]Single Model'!$D$11"}]

{"sheet":"Dual Work Tab (1)","index":9,"n_rows":171,"n_cols":20,"rows_kept":171,"cut":false,"hidden":true,"merged":[]}
[null,"Dual Model Worksheet #1 with working Calculated Values"]
[]
[null,"Arrivals Pairing Probability Matrix",null,"(chance of landing behind an aircraft from each class)",null,null,null,null,null,null,0,"Calculated Cells"]
[null,null,"Small - S","Small - T","Small +","Large-TP","Large-Jet","Large-757","Heavy",null,0,"Linked Input Cells"]
[null,"Small - S",{"$f":"'Dual Model'!$C22*'Dual Model'!C22","v":0},{"$f":"'Dual Model'!$C22*'Dual Model'!D22","v":0},{"$f":"'Dual Model'!$C22*'Dual Model'!E22","v":0},{"$f":"'Dual Model'!$C22*'Dual Model'!F22","v":0},{"$f":"'Dual Model'!$C22*'Dual Model'!G22","v":0},{"$f":"'Dual Model'!$C22*'Dual Model'!H22","v":0},{"$f":"'Dual Model'!$C22*'Dual Model'!I22","v":0},null,0,"Linked Cells (within this worksheet)"]
[null,"Small - T",{"$f":"'Dual Model'!$D22*'Dual Model'!C22","v":0},{"$f":"'Dual Model'!$D22*'Dual Model'!D22","v":1.0000000000000002E-2},{"$f":"'Dual Model'!$D22*'Dual Model'!E22","v":0},{"$f":"'Dual Model'!$D22*'Dual Model'!F22","v":0.03},{"$f":"'Dual Model'!$D22*'Dual Model'!G22","v":0.05},{"$f":"'Dual Model'!$D22*'Dual Model'!H22","v":5.000000000000001E-3},{"$f":"'Dual Model'!$D22*'Dual Model'!I22","v":5.000000000000001E-3}]
[null,"Small +",{"$f":"'Dual Model'!$E22*'Dual Model'!C22","v":0},{"$f":"'Dual Model'!$E22*'Dual Model'!D22","v":0},{"$f":"'Dual Model'!$E22*'Dual Model'!E22","v":0},{"$f":"'Dual Model'!$E22*'Dual Model'!F22","v":0},{"$f":"'Dual Model'!$E22*'Dual Model'!G22","v":0},{"$f":"'Dual Model'!$E22*'Dual Model'!H22","v":0},{"$f":"'Dual Model'!$E22*'Dual Model'!I22","v":0}]
[null,"Large-TP",{"$f":"'Dual Model'!$F22*'Dual Model'!C22","v":0},{"$f":"'Dual Model'!$F22*'Dual Model'!D22","v":0.03},{"$f":"'Dual Model'!$F22*'Dual Model'!E22","v":0},{"$f":"'Dual Model'!$F22*'Dual Model'!F22","v":0.09},{"$f":"'Dual Model'!$F22*'Dual Model'!G22","v":0.15},{"$f":"'Dual Model'!$F22*'Dual Model'!H22","v":1.4999999999999999E-2},{"$f":"'Dual Model'!$F22*'Dual Model'!I22","v":1.4999999999999999E-2}]
[null,"Large-Jet",{"$f":"'Dual Model'!$G22*'Dual Model'!C22","v":0},{"$f":"'Dual Model'!$G22*'Dual Model'!D22","v":0.05},{"$f":"'Dual Model'!$G22*'Dual Model'!E22","v":0},{"$f":"'Dual Model'!$G22*'Dual Model'!F22","v":0.15},{"$f":"'Dual Model'!$G22*'Dual Model'!G22","v":0.25},{"$f":"'Dual Model'!$G22*'Dual Model'!H22","v":2.5000000000000001E-2},{"$f":"'Dual Model'!$G22*'Dual Model'!I22","v":2.5000000000000001E-2}]
[null,"Large-757",{"$f":"'Dual Model'!$H22*'Dual Model'!C22","v":0},{"$f":"'Dual Model'!$H22*'Dual Model'!D22","v":5.000000000000001E-3},{"$f":"'Dual Model'!$H22*'Dual Model'!E22","v":0},{"$f":"'Dual Model'!$H22*'Dual Model'!F22","v":1.4999999999999999E-2},{"$f":"'Dual Model'!$H22*'Dual Model'!G22","v":2.5000000000000001E-2},{"$f":"'Dual Model'!$H22*'Dual Model'!H22","v":2.5000000000000005E-3},{"$f":"'Dual Model'!$H22*'Dual Model'!I22","v":2.5000000000000005E-3},"Summary Check"]
[null,"Heavy",{"$f":"'Dual Model'!$I22*'Dual Model'!C22","v":0},{"$f":"'Dual Model'!$I22*'Dual Model'!D22","v":5.000000000000001E-3},{"$f":"'Dual Model'!$I22*'Dual Model'!E22","v":0},{"$f":"'Dual Model'!$I22*'Dual Model'!F22","v":1.4999999999999999E-2},{"$f":"'Dual Model'!$I22*'Dual Model'!G22","v":2.5000000000000001E-2},{"$f":"'Dual Model'!$I22*'Dual Model'!H22","v":2.5000000000000005E-3},{"$f":"'Dual Model'!$I22*'Dual Model'!I22","v":2.5000000000000005E-3},"Total = ",{"$f":"SUM(C5:I11)","v":0.99999999999999989}]
[]
[null,"VMC Required Separation for arrivals following an aircraft from each class",null,null,null,"Distance in Nautical Miles"]
[null,null,"Small - S","Small - T","Small +","Large-TP","Large-Jet","Large-757","Heavy"]
[null,"Small - S",{"$f":"'Dual Model'!D41+'Dual Model'!$H$36","v":1.9},{"$f":"$C$15","v":1.9},1.9,1.9,1.9,1.9,1.9]
[null,"Small - T",{"$f":"$C$15","v":1.9},1.9,1.9,1.9,1.9,1.9,1.9]
[null,"Small +",{"$f":"'Dual Model'!D42+'Dual Model'!$H$36","v":1.9},{"$f":"$C$17","v":1.9},{"$f":"$C$17","v":1.9},{"$f":"'Dual Model'!D43+'Dual Model'!$H$36","v":1.9},{"$f":"$F$17","v":1.9},{"$f":"$F$17","v":1.9},{"$f":"$F$17","v":1.9}]
[null,"Large-TP",{"$f":"'Dual Model'!D44+'Dual Model'!$H$36","v":2.7},{"$f":"$C$18","v":2.7},{"$f":"$C$18","v":2.7},{"$f":"'Dual Model'!D45+'Dual Model'!$H$36","v":1.9},{"$f":"$F$18","v":1.9},1.9,1.9]
[null,"Large-Jet",{"$f":"'Dual Model'!D44+'Dual Model'!$H$36","v":2.7},{"$f":"$C$18","v":2.7},{"$f":"$C$18","v":2.7},{"$f":"'Dual Model'!D45+'Dual Model'!$H$36","v":1.9},1.9,1.9,1.9]
[null,"Large-757",{"$f":"'Dual Model'!D46+'Dual Model'!$H$36","v":3.7},{"$f":"$C$20","v":3.7},{"$f":"$C$20","v":3.7},{"$f":"'Dual Model'!D47+'Dual Model'!$H$36","v":2.7},{"$f":"$F$20","v":2.7},{"$f":"$F$20","v":2.7},{"$f":"$F$20","v":2.7}]
[null,"Heavy",{"$f":"'Dual Model'!D48+'Dual Model'!$H$36","v":4.5999999999999996},{"$f":"$C$21","v":4.5999999999999996},{"$f":"'Dual Model'!D49+'Dual Model'!$H$36","v":3.6},{"$f":"$E$21","v":3.6},{"$f":"E21","v":3.6},{"$f":"F21","v":3.6},{"$f":"'Dual Model'!D50+'Dual Model'!$H$36","v":2.7}]
[]
[null,"IMC Required Separation for arrivals following an aircraft from each class",null,null,null,"Distance in Nautical Miles"]
[null,null,"Small - S","Small - T","Small +","Large-TP","Large-Jet","Large-757","Heavy"]
[null,"Small - S",{"$f":"'Dual Model'!E41+'Dual Model'!$H$36","v":3},{"$f":"$C$25","v":3},3,3,3,3,3]
[null,"Small - T",{"$f":"$C$25","v":3},3,3,3,3,3,3]
[null,"Small +",{"$f":"'Dual Model'!E42+'Dual Model'!$H$36","v":3},{"$f":"$C$27","v":3},{"$f":"$C$27","v":3},{"$f":"'Dual Model'!E43+'Dual Model'!$H$36","v":3},{"$f":"$F$27","v":3},{"$f":"$F$27","v":3},{"$f":"$F$27","v":3}]
[null,"Large-TP",{"$f":"'Dual Model'!E44+'Dual Model'!$H$36","v":4},{"$f":"$C$28","v":4},{"$f":"$C$28","v":4},{"$f":"'Dual Model'!E45+'Dual Model'!$H$36","v":3},{"$f":"$F$28","v":3},3,3]
[null,"Large-Jet",{"$f":"'Dual Model'!E44+'Dual Model'!$H$36","v":4},{"$f":"$C$28","v":4},{"$f":"$C$28","v":4},{"$f":"'Dual Model'!E45+'Dual Model'!$H$36","v":3},3,3,3]
[null,"Large-757",{"$f":"'Dual Model'!E46+'Dual Model'!$H$36","v":5},{"$f":"$C$30","v":5},{"$f":"$C$30","v":5},{"$f":"'Dual Model'!E47+'Dual Model'!$H$36","v":4},{"$f":"$F$30","v":4},{"$f":"$F$30","v":4},{"$f":"$F$30","v":4}]
[null,"Heavy",{"$f":"'Dual Model'!E48+'Dual Model'!$H$36","v":6},{"$f":"$C$31","v":6},{"$f":"'Dual Model'!E49+'Dual Model'!$H$36","v":5},{"$f":"$E$31","v":5},{"$f":"$E$31","v":5},{"$f":"$E$31","v":5},{"$f":"'Dual Model'!E50+'Dual Model'!$H$36","v":4}]
[]
[null,"VMC Required Separation for departures following an aircraft from each class",null,null,null,"Time in seconds"]
[null,null,"Small - S","Small - T","Small +","Large-TP","Large-Jet","Large-757","Heavy"]
[null,"Small - S",{"$f":"'Dual Model'!$D$54+'Dual Model'!$C$37","v":45},{"$f":"$C$35","v":45},{"$f":"$C$35","v":45},{"$f":"'Dual Model'!$D$55+'Dual Model'!$C$37","v":55},{"$f":"$F$35","v":55},55,{"$f":"'Dual Model'!$D$56+'Dual Model'!$C$37","v":60}]
[null,"Small - T",{"$f":"$C$35","v":45},45,45,{"$f":"$F$35","v":55},55,55,{"$f":"$I$35","v":60}]
[null,"Small +",45,45,45,{"$f":"$F$35","v":55},55,55,{"$f":"$I$35","v":60}]
[null,"Large-TP",{"$f":"'Dual Model'!$D$57+'Dual Model'!$C$37","v":90},{"$f":"$C$38","v":90},90,{"$f":"'Dual Model'!$D$58+'Dual Model'!$C$37","v":70},{"$f":"$F$38","v":70},70,70]
[null,"Large-Jet",{"$f":"$C$38","v":90},90,90,{"$f":"$F$38","v":70},70,70,70]
[null,"Large-757",{"$f":"$C$38","v":90},90,90,{"$f":"$F$38","v":70},70,70,70]
[null,"Heavy",{"$f":"'Dual Model'!$D$59+'Dual Model'!$C$37","v":130},{"$f":"$C$41","v":130},{"$f":"$C$41","v":130},{"$f":"$C$41","v":130},{"$f":"$C$41","v":130},{"$f":"$C$41","v":130},{"$f":"'Dual Model'!$D$60+'Dual Model'!$C$37","v":100}]
[]
[null,"IMC Required Separation for departures following an aircraft from each class",null,null,null,"Time in seconds"]
[null,null,"Small - S","Small - T","Small +","Large-TP","Large-Jet","Large-757","Heavy"]
[null,"Small - S",{"$f":"'Dual Model'!$E$54+'Dual Model'!$C$37","v":70},{"$f":"$C$45","v":70},70,{"$f":"'Dual Model'!$E$55+'Dual Model'!$C$37","v":70},{"$f":"$F$45","v":70},70,{"$f":"'Dual Model'!$E$56+'Dual Model'!$C$37","v":70}]
[null,"Small - T",{"$f":"$C$45","v":70},70,70,{"$f":"$F$45","v":70},70,70,{"$f":"$I$45","v":70}]
[null,"Small +",{"$f":"$C$45","v":70},70,70,{"$f":"$F$45","v":70},70,70,{"$f":"$I$45","v":70}]
[null,"Large-TP",{"$f":"'Dual Model'!$E$57+'Dual Model'!$C$37","v":90},{"$f":"$C$48","v":90},90,{"$f":"'Dual Model'!$E$58+'Dual Model'!$C$37","v":70},{"$f":"$F$48","v":70},70,70]
[null,"Large-Jet",{"$f":"$C$48","v":90},90,90,{"$f":"$F$48","v":70},70,70,70]
[null,"Large-757",{"$f":"$C$48","v":90},90,90,{"$f":"$F$48","v":70},70,70,70]
[null,"Heavy",{"$f":"'Dual Model'!$E$59+'Dual Model'!$C$37","v":130},{"$f":"$C$51","v":130},{"$f":"$C$51","v":130},{"$f":"$C$51","v":130},{"$f":"$C$51","v":130},{"$f":"$C$51","v":130},{"$f":"'Dual Model'!$E$60+'Dual Model'!$C$37","v":100}]
[]
[null,null,null," "]
[null,"VMC Required Separation for arrivals following an aircraft from each class",null,null,null,"Time in Seconds"]
[null,null,"Small - S","Small - T","Small +","Large-TP","Large-Jet","Large-757","Heavy"]
[null,"Small - S",{"$f":"MAXA(3600*C15/('Dual Model'!$C$28)+'Dual Model'!$H$14*'Dual Model'!$H$12+MAXA(0,'Dual Model'!$C$14*3600*(1/'Dual Model'!$C$28-1/'Dual Model'!$C$28)),'Dual Model'!$C$25+'Dual Model'!$H$14*SQRT('Dual Model'!$H$12^2+'Dual Model'!$H$13^2))+'Dual Model'!$C$36","v":105.61},{"$f":"MAXA(3600*D15/('Dual Model'!$D$28)+'Dual Model'!$H$14*'Dual Model'!$H$12+MAXA(0,'Dual Model'!$C$14*3600*(1/'Dual Model'!$D$28-1/'Dual Model'!$C$28)),'Dual Model'!$C$25+'Dual Model'!$H$14*SQRT('Dual Model'!$H$12^2+'Dual Model'!$H$13^2))+'Dual Model'!$C$36","v":98.01},{"$f":"MAXA(3600*E15/('Dual Model'!$E$28)+'Dual Model'!$H$14*'Dual Model'!$H$12+MAXA(0,'Dual Model'!$C$14*3600*(1/'Dual Model'!$E$28-1/'Dual Model'!$C$28)),'Dual Model'!$C$25+'Dual Model'!$H$14*SQRT('Dual Model'!$H$12^2+'Dual Model'!$H$13^2))+'Dual Model'!$C$36","v":86.61},{"$f":"MAXA(3600*F15/('Dual Model'!$F$28)+'Dual Model'!$H$14*'Dual Model'!$H$12+MAXA(0,'Dual Model'!$C$14*3600*(1/'Dual Model'!$F$28-1/'Dual Model'!$C$28)),'Dual Model'!$C$25+'Dual Model'!$H$14*SQRT('Dual Model'!$H$12^2+'Dual Model'!$H$13^2))+'Dual Model'!$C$36","v":82.225384615384613},{"$f":"MAXA(3600*G15/('Dual Model'!$G$28)+'Dual Model'!$H$14*'Dual Model'!$H$12+MAXA(0,'Dual Model'!$C$14*3600*(1/'Dual Model'!$G$28-1/'Dual Model'!$C$28)),'Dual Model'!$C$25+'Dual Model'!$H$14*SQRT('Dual Model'!$H$12^2+'Dual Model'!$H$13^2))+'Dual Model'!$C$36","v":80.276666666666671},{"$f":"MAXA(3600*H15/('Dual Model'!$H$28)+'Dual Model'!$H$14*'Dual Model'!$H$12+MAXA(0,'Dual Model'!$C$14*3600*(1/'Dual Model'!$H$28-1/'Dual Model'!$C$28)),'Dual Model'!$C$25+'Dual Model'!$H$14*SQRT('Dual Model'!$H$12^2+'Dual Model'!$H$13^2))+'Dual Model'!$C$36","v":78.467142857142846},{"$f":"MAXA(3600*I15/('Dual Model'!$I$28)+'Dual Model'!$H$14*'Dual Model'!$H$12+MAXA(0,'Dual Model'!$C$14*3600*(1/'Dual Model'!$I$28-1/'Dual Model'!$C$28)),'Dual Model'!$C$25+'Dual Model'!$H$14*SQRT('Dual Model'!$H$12^2+'Dual Model'!$H$13^2))+'Dual Model'!$C$36","v":75.210000000000008}]
[null,"Small - T",{"$f":"MAXA(3600*C16/('Dual Model'!$C$28)+'Dual Model'!$H$14*'Dual Model'!$H$12+MAXA(0,'Dual Model'!$C$14*3600*(1/'Dual Model'!$C$28-1/'Dual Model'!$D$28)),'Dual Model'!$D$25+'Dual Model'!$H$14*SQRT('Dual Model'!$H$12^2+'Dual Model'!$H$13^2))+'Dual Model'!$C$36","v":133.61000000000001},{"$f":"MAXA(3600*D16/('Dual Model'!$D$28)+'Dual Model'!$H$14*'Dual Model'!$H$12+MAXA(0,'Dual Model'!$C$14*3600*(1/'Dual Model'!$D$28-1/'Dual Model'!$D$28)),'Dual Model'!$D$25+'Dual Model'!$H$14*SQRT('Dual Model'!$H$12^2+'Dual Model'!$H$13^2))+'Dual Model'!$C$36","v":98.01},{"$f":"MAXA(3600*E16/('Dual Model'!$E$28)+'Dual Model'!$H$14*'Dual Model'!$H$12+MAXA(0,'Dual Model'!$C$14*3600*(1/'Dual Model'!$E$28-1/'Dual Model'!$D$28)),'Dual Model'!$D$25+'Dual Model'!$H$14*SQRT('Dual Model'!$H$12^2+'Dual Model'!$H$13^2))+'Dual Model'!$C$36","v":86.61},{"$f":"MAXA(3600*F16/('Dual Model'!$F$28)+'Dual Model'!$H$14*'Dual Model'!$H$12+MAXA(0,'Dual Model'!$C$14*3600*(1/'Dual Model'!$F$28-1/'Dual Model'!$D$28)),'Dual Model'!$D$25+'Dual Model'!$H$14*SQRT('Dual Model'!$H$12^2+'Dual Model'!$H$13^2))+'Dual Model'!$C$36","v":82.225384615384613},{"$f":"MAXA(3600*G16/('Dual Model'!$G$28)+'Dual Model'!$H$14*'Dual Model'!$H$12+MAXA(0,'Dual Model'!$C$14*3600*(1/'Dual Model'!$G$28-1/'Dual Model'!$D$28)),'Dual Model'!$D$25+'Dual Model'!$H$14*SQRT('Dual Model'!$H$12^2+'Dual Model'!$H$13^2))+'Dual Model'!$C$36","v":80.276666666666671},{"$f":"MAXA(3600*H16/('Dual Model'!$H$28)+'Dual Model'!$H$14*'Dual Model'!$H$12+MAXA(0,'Dual Model'!$C$14*3600*(1/'Dual Model'!$H$28-1/'Dual Model'!$D$28)),'Dual Model'!$D$25+'Dual Model'!$H$14*SQRT('Dual Model'!$H$12^2+'Dual Model'!$H$13^2))+'Dual Model'!$C$36","v":78.467142857142846},{"$f":"MAXA(3600*I16/('Dual Model'!$I$28)+'Dual Model'!$H$14*'Dual Model'!$H$12+MAXA(0,'Dual Model'!$C$14*3600*(1/'Dual Model'!$I$28-1/'Dual Model'!$D$28)),'Dual Model'!$D$25+'Dual Model'!$H$14*SQRT('Dual Model'!$H$12^2+'Dual Model'!$H$13^2))+'Dual Model'!$C$36","v":75.210000000000008}]
[null,"Small +",{"$f":"MAXA(3600*C17/('Dual Model'!$C$28)+'Dual Model'!$H$14*'Dual Model'!$H$12+MAXA(0,'Dual Model'!$C$14*3600*(1/'Dual Model'!$C$28-1/'Dual Model'!$E$28)),'Dual Model'!$E$25+'Dual Model'!$H$14*SQRT('Dual Model'!$H$12^2+'Dual Model'!$H$13^2))+'Dual Model'!$C$36","v":175.61},{"$f":"MAXA(3600*D17/('Dual Model'!$D$28)+'Dual Model'!$H$14*'Dual Model'!$H$12+MAXA(0,'Dual Model'!$C$14*3600*(1/'Dual Model'!$D$28-1/'Dual Model'!$E$28)),'Dual Model'!$E$25+'Dual Model'!$H$14*SQRT('Dual Model'!$H$12^2+'Dual Model'!$H$13^2))+'Dual Model'!$C$36","v":140.01000000000002},{"$f":"MAXA(3600*E17/('Dual Model'!$E$28)+'Dual Model'!$H$14*'Dual Model'!$H$12+MAXA(0,'Dual Model'!$C$14*3600*(1/'Dual Model'!$E$28-1/'Dual Model'!$E$28)),'Dual Model'!$E$25+'Dual Model'!$H$14*SQRT('Dual Model'!$H$12^2+'Dual Model'!$H$13^2))+'Dual Model'!$C$36","v":86.61},{"$f":"MAXA(3600*F17/('Dual Model'!$F$28)+'Dual Model'!$H$14*'Dual Model'!$H$12+MAXA(0,'Dual Model'!$C$14*3600*(1/'Dual Model'!$F$28-1/'Dual Model'!$E$28)),'Dual Model'!$E$25+'Dual Model'!$H$14*SQRT('Dual Model'!$H$12^2+'Dual Model'!$H$13^2))+'Dual Model'!$C$36","v":82.225384615384613},{"$f":"MAXA(3600*G17/('Dual Model'!$G$28)+'Dual Model'!$H$14*'Dual Model'!$H$12+MAXA(0,'Dual Model'!$C$14*3600*(1/'Dual Model'!$G$28-1/'Dual Model'!$E$28)),'Dual Model'!$E$25+'Dual Model'!$H$14*SQRT('Dual Model'!$H$12^2+'Dual Model'!$H$13^2))+'Dual Model'!$C$36","v":80.276666666666671},{"$f":"MAXA(3600*H17/('Dual Model'!$H$28)+'Dual Model'!$H$14*'Dual Model'!$H$12+MAXA(0,'Dual Model'!$C$14*3600*(1/'Dual Model'!$H$28-1/'Dual Model'!$E$28)),'Dual Model'!$E$25+'Dual Model'!$H$14*SQRT('Dual Model'!$H$12^2+'Dual Model'!$H$13^2))+'Dual Model'!$C$36","v":78.467142857142846},{"$f":"MAXA(3600*I17/('Dual Model'!$I$28)+'Dual Model'!$H$14*'Dual Model'!$H$12+MAXA(0,'Dual Model'!$C$14*3600*(1/'Dual Model'!$I$28-1/'Dual Model'!$E$28)),'Dual Model'!$E$25+'Dual Model'!$H$14*SQRT('Dual Model'!$H$12^2+'Dual Model'!$H$13^2))+'Dual Model'!$C$36","v":75.210000000000008}]
[null,"Large-TP",{"$f":"MAXA(3600*C18/('Dual Model'!$C$28)+'Dual Model'!$H$14*'Dual Model'!$H$12+MAXA(0,'Dual Model'!$C$14*3600*(1/'Dual Model'!$C$28-1/'Dual Model'!$F$28)),'Dual Model'!$F$25+'Dual Model'!$H$14*SQRT('Dual Model'!$H$12^2+'Dual Model'!$H$13^2))+'Dual Model'!$C$36","v":223.76384615384617},{"$f":"MAXA(3600*D18/('Dual Model'!$D$28)+'Dual Model'!$H$14*'Dual Model'!$H$12+MAXA(0,'Dual Model'!$C$14*3600*(1/'Dual Model'!$D$28-1/'Dual Model'!$F$28)),'Dual Model'!$F$25+'Dual Model'!$H$14*SQRT('Dual Model'!$H$12^2+'Dual Model'!$H$13^2))+'Dual Model'!$C$36","v":184.96384615384613},{"$f":"MAXA(3600*E18/('Dual Model'!$E$28)+'Dual Model'!$H$14*'Dual Model'!$H$12+MAXA(0,'Dual Model'!$C$14*3600*(1/'Dual Model'!$E$28-1/'Dual Model'!$F$28)),'Dual Model'!$F$25+'Dual Model'!$H$14*SQRT('Dual Model'!$H$12^2+'Dual Model'!$H$13^2))+'Dual Model'!$C$36","v":126.76384615384615},{"$f":"MAXA(3600*F18/('Dual Model'!$F$28)+'Dual Model'!$H$14*'Dual Model'!$H$12+MAXA(0,'Dual Model'!$C$14*3600*(1/'Dual Model'!$F$28-1/'Dual Model'!$F$28)),'Dual Model'!$F$25+'Dual Model'!$H$14*SQRT('Dual Model'!$H$12^2+'Dual Model'!$H$13^2))+'Dual Model'!$C$36","v":82.225384615384613},{"$f":"MAXA(3600*G18/('Dual Model'!$G$28)+'Dual Model'!$H$14*'Dual Model'!$H$12+MAXA(0,'Dual Model'!$C$14*3600*(1/'Dual Model'!$G$28-1/'Dual Model'!$F$28)),'Dual Model'!$F$25+'Dual Model'!$H$14*SQRT('Dual Model'!$H$12^2+'Dual Model'!$H$13^2))+'Dual Model'!$C$36","v":80.276666666666671},{"$f":"MAXA(3600*H18/('Dual Model'!$H$28)+'Dual Model'!$H$14*'Dual Model'!$H$12+MAXA(0,'Dual Model'!$C$14*3600*(1/'Dual Model'!$H$28-1/'Dual Model'!$F$28)),'Dual Model'!$F$25+'Dual Model'!$H$14*SQRT('Dual Model'!$H$12^2+'Dual Model'!$H$13^2))+'Dual Model'!$C$36","v":78.467142857142846},{"$f":"MAXA(3600*I18/('Dual Model'!$I$28)+'Dual Model'!$H$14*'Dual Model'!$H$12+MAXA(0,'Dual Model'!$C$14*3600*(1/'Dual Model'!$I$28-1/'Dual Model'!$F$28)),'Dual Model'!$F$25+'Dual Model'!$H$14*SQRT('Dual Model'!$H$12^2+'Dual Model'!$H$13^2))+'Dual Model'!$C$36","v":76.211680505861906}]
[null,"Large-Jet",{"$f":"MAXA(3600*C19/('Dual Model'!$C$28)+'Dual Model'!$H$14*'Dual Model'!$H$12+MAXA(0,'Dual Model'!$C$14*3600*(1/'Dual Model'!$C$28-1/'Dual Model'!$G$28)),'Dual Model'!$G$25+'Dual Model'!$H$14*SQRT('Dual Model'!$H$12^2+'Dual Model'!$H$13^2))+'Dual Model'!$C$36","v":230.94333333333336},{"$f":"MAXA(3600*D19/('Dual Model'!$D$28)+'Dual Model'!$H$14*'Dual Model'!$H$12+MAXA(0,'Dual Model'!$C$14*3600*(1/'Dual Model'!$D$28-1/'Dual Model'!$G$28)),'Dual Model'!$G$25+'Dual Model'!$H$14*SQRT('Dual Model'!$H$12^2+'Dual Model'!$H$13^2))+'Dual Model'!$C$36","v":192.14333333333332},{"$f":"MAXA(3600*E19/('Dual Model'!$E$28)+'Dual Model'!$H$14*'Dual Model'!$H$12+MAXA(0,'Dual Model'!$C$14*3600*(1/'Dual Model'!$E$28-1/'Dual Model'!$G$28)),'Dual Model'!$G$25+'Dual Model'!$H$14*SQRT('Dual Model'!$H$12^2+'Dual Model'!$H$13^2))+'Dual Model'!$C$36","v":133.94333333333333},{"$f":"MAXA(3600*F19/('Dual Model'!$F$28)+'Dual Model'!$H$14*'Dual Model'!$H$12+MAXA(0,'Dual Model'!$C$14*3600*(1/'Dual Model'!$F$28-1/'Dual Model'!$G$28)),'Dual Model'!$G$25+'Dual Model'!$H$14*SQRT('Dual Model'!$H$12^2+'Dual Model'!$H$13^2))+'Dual Model'!$C$36","v":89.404871794871795},{"$f":"MAXA(3600*G19/('Dual Model'!$G$28)+'Dual Model'!$H$14*'Dual Model'!$H$12+MAXA(0,'Dual Model'!$C$14*3600*(1/'Dual Model'!$G$28-1/'Dual Model'!$G$28)),'Dual Model'!$G$25+'Dual Model'!$H$14*SQRT('Dual Model'!$H$12^2+'Dual Model'!$H$13^2))+'Dual Model'!$C$36","v":80.276666666666671},{"$f":"MAXA(3600*H19/('Dual Model'!$H$28)+'Dual Model'!$H$14*'Dual Model'!$H$12+MAXA(0,'Dual Model'!$C$14*3600*(1/'Dual Model'!$H$28-1/'Dual Model'!$G$28)),'Dual Model'!$G$25+'Dual Model'!$H$14*SQRT('Dual Model'!$H$12^2+'Dual Model'!$H$13^2))+'Dual Model'!$C$36","v":78.467142857142846},{"$f":"MAXA(3600*I19/('Dual Model'!$I$28)+'Dual Model'!$H$14*'Dual Model'!$H$12+MAXA(0,'Dual Model'!$C$14*3600*(1/'Dual Model'!$I$28-1/'Dual Model'!$G$28)),'Dual Model'!$G$25+'Dual Model'!$H$14*SQRT('Dual Model'!$H$12^2+'Dual Model'!$H$13^2))+'Dual Model'!$C$36","v":77.211680505861906}]
[null,"Large-757",{"$f":"MAXA(3600*C20/('Dual Model'!$C$28)+'Dual Model'!$H$14*'Dual Model'!$H$12+MAXA(0,'Dual Model'!$C$14*3600*(1/'Dual Model'!$C$28-1/'Dual Model'!$H$28)),'Dual Model'!$H$25+'Dual Model'!$H$14*SQRT('Dual Model'!$H$12^2+'Dual Model'!$H$13^2))+'Dual Model'!$C$36","v":277.61},{"$f":"MAXA(3600*D20/('Dual Model'!$D$28)+'Dual Model'!$H$14*'Dual Model'!$H$12+MAXA(0,'Dual Model'!$C$14*3600*(1/'Dual Model'!$D$28-1/'Dual Model'!$H$28)),'Dual Model'!$H$25+'Dual Model'!$H$14*SQRT('Dual Model'!$H$12^2+'Dual Model'!$H$13^2))+'Dual Model'!$C$36","v":234.81},{"$f":"MAXA(3600*E20/('Dual Model'!$E$28)+'Dual Model'!$H$14*'Dual Model'!$H$12+MAXA(0,'Dual Model'!$C$14*3600*(1/'Dual Model'!$E$28-1/'Dual Model'!$H$28)),'Dual Model'!$H$25+'Dual Model'!$H$14*SQRT('Dual Model'!$H$12^2+'Dual Model'!$H$13^2))+'Dual Model'!$C$36","v":170.61},{"$f":"MAXA(3600*F20/('Dual Model'!$F$28)+'Dual Model'!$H$14*'Dual Model'!$H$12+MAXA(0,'Dual Model'!$C$14*3600*(1/'Dual Model'!$F$28-1/'Dual Model'!$H$28)),'Dual Model'!$H$25+'Dual Model'!$H$14*SQRT('Dual Model'!$H$12^2+'Dual Model'!$H$13^2))+'Dual Model'!$C$36","v":118.22538461538464},{"$f":"MAXA(3600*G20/('Dual Model'!$G$28)+'Dual Model'!$H$14*'Dual Model'!$H$12+MAXA(0,'Dual Model'!$C$14*3600*(1/'Dual Model'!$G$28-1/'Dual Model'!$H$28)),'Dual Model'!$H$25+'Dual Model'!$H$14*SQRT('Dual Model'!$H$12^2+'Dual Model'!$H$13^2))+'Dual Model'!$C$36","v":108.27666666666669},{"$f":"MAXA(3600*H20/('Dual Model'!$H$28)+'Dual Model'!$H$14*'Dual Model'!$H$12+MAXA(0,'Dual Model'!$C$14*3600*(1/'Dual Model'!$H$28-1/'Dual Model'!$H$28)),'Dual Model'!$H$25+'Dual Model'!$H$14*SQRT('Dual Model'!$H$12^2+'Dual Model'!$H$13^2))+'Dual Model'!$C$36","v":99.03857142857143},{"$f":"MAXA(3600*I20/('Dual Model'!$I$28)+'Dual Model'!$H$14*'Dual Model'!$H$12+MAXA(0,'Dual Model'!$C$14*3600*(1/'Dual Model'!$I$28-1/'Dual Model'!$H$28)),'Dual Model'!$H$25+'Dual Model'!$H$14*SQRT('Dual Model'!$H$12^2+'Dual Model'!$H$13^2))+'Dual Model'!$C$36","v":94.41}]
[null,"Heavy",{"$f":"MAXA(3600*C21/('Dual Model'!$C$28)+'Dual Model'!$H$14*'Dual Model'!$H$12+MAXA(0,'Dual Model'!$C$14*3600*(1/'Dual Model'!$C$28-1/'Dual Model'!$I$28)),'Dual Model'!$I$25+'Dual Model'!$H$14*SQRT('Dual Model'!$H$12^2+'Dual Model'!$H$13^2))+'Dual Model'!$C$36","v":325.61},{"$f":"MAXA(3600*D21/('Dual Model'!$D$28)+'Dual Model'!$H$14*'Dual Model'!$H$12+MAXA(0,'Dual Model'!$C$14*3600*(1/'Dual Model'!$D$28-1/'Dual Model'!$I$28)),'Dual Model'!$I$25+'Dual Model'!$H$14*SQRT('Dual Model'!$H$12^2+'Dual Model'!$H$13^2))+'Dual Model'!$C$36","v":279.20999999999998},{"$f":"MAXA(3600*E21/('Dual Model'!$E$28)+'Dual Model'!$H$14*'Dual Model'!$H$12+MAXA(0,'Dual Model'!$C$14*3600*(1/'Dual Model'!$E$28-1/'Dual Model'!$I$28)),'Dual Model'!$I$25+'Dual Model'!$H$14*SQRT('Dual Model'!$H$12^2+'Dual Model'!$H$13^2))+'Dual Model'!$C$36","v":179.61},{"$f":"MAXA(3600*F21/('Dual Model'!$F$28)+'Dual Model'!$H$14*'Dual Model'!$H$12+MAXA(0,'Dual Model'!$C$14*3600*(1/'Dual Model'!$F$28-1/'Dual Model'!$I$28)),'Dual Model'!$I$25+'Dual Model'!$H$14*SQRT('Dual Model'!$H$12^2+'Dual Model'!$H$13^2))+'Dual Model'!$C$36","v":155.14846153846153},{"$f":"MAXA(3600*G21/('Dual Model'!$G$28)+'Dual Model'!$H$14*'Dual Model'!$H$12+MAXA(0,'Dual Model'!$C$14*3600*(1/'Dual Model'!$G$28-1/'Dual Model'!$I$28)),'Dual Model'!$I$25+'Dual Model'!$H$14*SQRT('Dual Model'!$H$12^2+'Dual Model'!$H$13^2))+'Dual Model'!$C$36","v":144.27666666666667},{"$f":"MAXA(3600*H21/('Dual Model'!$H$28)+'Dual Model'!$H$14*'Dual Model'!$H$12+MAXA(0,'Dual Model'!$C$14*3600*(1/'Dual Model'!$H$28-1/'Dual Model'!$I$28)),'Dual Model'!$I$25+'Dual Model'!$H$14*SQRT('Dual Model'!$H$12^2+'Dual Model'!$H$13^2))+'Dual Model'!$C$36","v":134.18142857142854},{"$f":"MAXA(3600*I21/('Dual Model'!$I$28)+'Dual Model'!$H$14*'Dual Model'!$H$12+MAXA(0,'Dual Model'!$C$14*3600*(1/'Dual Model'!$I$28-1/'Dual Model'!$I$28)),'Dual Model'!$I$25+'Dual Model'!$H$14*SQRT('Dual Model'!$H$12^2+'Dual Model'!$H$13^2))+'Dual Model'!$C$36","v":94.41}]
[]
[null,"IMC Required Separation for arrivals following an aircraft from each class",null,null,null,"Time in Seconds"]
[null,null,"Small - S","Small - T","Small +","Large-TP","Large-Jet","Large-757","Heavy"]
[null,"Small - S",{"$f":"MAXA(3600*C25/('Dual Model'!$C$28)+'Dual Model'!$H$14*'Dual Model'!$H$12+MAXA(0,'Dual Model'!$C$14*3600*(1/'Dual Model'!$C$28-1/'Dual Model'!$C$28)),'Dual Model'!$C$25+'Dual Model'!$H$14*SQRT('Dual Model'!$H$12^2+'Dual Model'!$H$13^2))+'Dual Model'!$C$36","v":149.61000000000001},{"$f":"MAXA(3600*D25/('Dual Model'!$D$28)+'Dual Model'!$H$14*'Dual Model'!$H$12+MAXA(0,'Dual Model'!$C$14*3600*(1/'Dual Model'!$D$28-1/'Dual Model'!$C$28)),'Dual Model'!$C$25+'Dual Model'!$H$14*SQRT('Dual Model'!$H$12^2+'Dual Model'!$H$13^2))+'Dual Model'!$C$36","v":137.61000000000001},{"$f":"MAXA(3600*E25/('Dual Model'!$E$28)+'Dual Model'!$H$14*'Dual Model'!$H$12+MAXA(0,'Dual Model'!$C$14*3600*(1/'Dual Model'!$E$28-1/'Dual Model'!$C$28)),'Dual Model'!$C$25+'Dual Model'!$H$14*SQRT('Dual Model'!$H$12^2+'Dual Model'!$H$13^2))+'Dual Model'!$C$36","v":119.61},{"$f":"MAXA(3600*F25/('Dual Model'!$F$28)+'Dual Model'!$H$14*'Dual Model'!$H$12+MAXA(0,'Dual Model'!$C$14*3600*(1/'Dual Model'!$F$28-1/'Dual Model'!$C$28)),'Dual Model'!$C$25+'Dual Model'!$H$14*SQRT('Dual Model'!$H$12^2+'Dual Model'!$H$13^2))+'Dual Model'!$C$36","v":112.68692307692308},{"$f":"MAXA(3600*G25/('Dual Model'!$G$28)+'Dual Model'!$H$14*'Dual Model'!$H$12+MAXA(0,'Dual Model'!$C$14*3600*(1/'Dual Model'!$G$28-1/'Dual Model'!$C$28)),'Dual Model'!$C$25+'Dual Model'!$H$14*SQRT('Dual Model'!$H$12^2+'Dual Model'!$H$13^2))+'Dual Model'!$C$36","v":109.61},{"$f":"MAXA(3600*H25/('Dual Model'!$H$28)+'Dual Model'!$H$14*'Dual Model'!$H$12+MAXA(0,'Dual Model'!$C$14*3600*(1/'Dual Model'!$H$28-1/'Dual Model'!$C$28)),'Dual Model'!$C$25+'Dual Model'!$H$14*SQRT('Dual Model'!$H$12^2+'Dual Model'!$H$13^2))+'Dual Model'!$C$36","v":106.75285714285714},{"$f":"MAXA(3600*I25/('Dual Model'!$I$28)+'Dual Model'!$H$14*'Dual Model'!$H$12+MAXA(0,'Dual Model'!$C$14*3600*(1/'Dual Model'!$I$28-1/'Dual Model'!$C$28)),'Dual Model'!$C$25+'Dual Model'!$H$14*SQRT('Dual Model'!$H$12^2+'Dual Model'!$H$13^2))+'Dual Model'!$C$36","v":101.61}]
[null,"Small - T",{"$f":"MAXA(3600*C26/('Dual Model'!$C$28)+'Dual Model'!$H$14*'Dual Model'!$H$12+MAXA(0,'Dual Model'!$C$14*3600*(1/'Dual Model'!$C$28-1/'Dual Model'!$D$28)),'Dual Model'!$D$25+'Dual Model'!$H$14*SQRT('Dual Model'!$H$12^2+'Dual Model'!$H$13^2))+'Dual Model'!$C$36","v":177.61},{"$f":"MAXA(3600*D26/('Dual Model'!$D$28)+'Dual Model'!$H$14*'Dual Model'!$H$12+MAXA(0,'Dual Model'!$C$14*3600*(1/'Dual Model'!$D$28-1/'Dual Model'!$D$28)),'Dual Model'!$D$25+'Dual Model'!$H$14*SQRT('Dual Model'!$H$12^2+'Dual Model'!$H$13^2))+'Dual Model'!$C$36","v":137.61000000000001},{"$f":"MAXA(3600*E26/('Dual Model'!$E$28)+'Dual Model'!$H$14*'Dual Model'!$H$12+MAXA(0,'Dual Model'!$C$14*3600*(1/'Dual Model'!$E$28-1/'Dual Model'!$D$28)),'Dual Model'!$D$25+'Dual Model'!$H$14*SQRT('Dual Model'!$H$12^2+'Dual Model'!$H$13^2))+'Dual Model'!$C$36","v":119.61},{"$f":"MAXA(3600*F26/('Dual Model'!$F$28)+'Dual Model'!$H$14*'Dual Model'!$H$12+MAXA(0,'Dual Model'!$C$14*3600*(1/'Dual Model'!$F$28-1/'Dual Model'!$D$28)),'Dual Model'!$D$25+'Dual Model'!$H$14*SQRT('Dual Model'!$H$12^2+'Dual Model'!$H$13^2))+'Dual Model'!$C$36","v":112.68692307692308},{"$f":"MAXA(3600*G26/('Dual Model'!$G$28)+'Dual Model'!$H$14*'Dual Model'!$H$12+MAXA(0,'Dual Model'!$C$14*3600*(1/'Dual Model'!$G$28-1/'Dual Model'!$D$28)),'Dual Model'!$D$25+'Dual Model'!$H$14*SQRT('Dual Model'!$H$12^2+'Dual Model'!$H$13^2))+'Dual Model'!$C$36","v":109.61},{"$f":"MAXA(3600*H26/('Dual Model'!$H$28)+'Dual Model'!$H$14*'Dual Model'!$H$12+MAXA(0,'Dual Model'!$C$14*3600*(1/'Dual Model'!$H$28-1/'Dual Model'!$D$28)),'Dual Model'!$C$25+'Dual Model'!$H$14*SQRT('Dual Model'!$H$12^2+'Dual Model'!$H$13^2))+'Dual Model'!$C$36","v":106.75285714285714},{"$f":"MAXA(3600*I26/('Dual Model'!$I$28)+'Dual Model'!$H$14*'Dual Model'!$H$12+MAXA(0,'Dual Model'!$C$14*3600*(1/'Dual Model'!$I$28-1/'Dual Model'!$D$28)),'Dual Model'!$D$25+'Dual Model'!$H$14*SQRT('Dual Model'!$H$12^2+'Dual Model'!$H$13^2))+'Dual Model'!$C$36","v":101.61}]
[null,"Small +",{"$f":"MAXA(3600*C27/('Dual Model'!$C$28)+'Dual Model'!$H$14*'Dual Model'!$H$12+MAXA(0,'Dual Model'!$C$14*3600*(1/'Dual Model'!$C$28-1/'Dual Model'!$E$28)),'Dual Model'!$E$25+'Dual Model'!$H$14*SQRT('Dual Model'!$H$12^2+'Dual Model'!$H$13^2))+'Dual Model'!$C$36","v":219.61},{"$f":"MAXA(3600*D27/('Dual Model'!$D$28)+'Dual Model'!$H$14*'Dual Model'!$H$12+MAXA(0,'Dual Model'!$C$14*3600*(1/'Dual Model'!$D$28-1/'Dual Model'!$E$28)),'Dual Model'!$E$25+'Dual Model'!$H$14*SQRT('Dual Model'!$H$12^2+'Dual Model'!$H$13^2))+'Dual Model'!$C$36","v":179.61},{"$f":"MAXA(3600*E27/('Dual Model'!$E$28)+'Dual Model'!$H$14*'Dual Model'!$H$12+MAXA(0,'Dual Model'!$C$14*3600*(1/'Dual Model'!$E$28-1/'Dual Model'!$E$28)),'Dual Model'!$E$25+'Dual Model'!$H$14*SQRT('Dual Model'!$H$12^2+'Dual Model'!$H$13^2))+'Dual Model'!$C$36","v":119.61},{"$f":"MAXA(3600*F27/('Dual Model'!$F$28)+'Dual Model'!$H$14*'Dual Model'!$H$12+MAXA(0,'Dual Model'!$C$14*3600*(1/'Dual Model'!$F$28-1/'Dual Model'!$E$28)),'Dual Model'!$E$25+'Dual Model'!$H$14*SQRT('Dual Model'!$H$12^2+'Dual Model'!$H$13^2))+'Dual Model'!$C$36","v":112.68692307692308},{"$f":"MAXA(3600*G27/('Dual Model'!$G$28)+'Dual Model'!$H$14*'Dual Model'!$H$12+MAXA(0,'Dual Model'!$C$14*3600*(1/'Dual Model'!$G$28-1/'Dual Model'!$E$28)),'Dual Model'!$E$25+'Dual Model'!$H$14*SQRT('Dual Model'!$H$12^2+'Dual Model'!$H$13^2))+'Dual Model'!$C$36","v":109.61},{"$f":"MAXA(3600*H27/('Dual Model'!$H$28)+'Dual Model'!$H$14*'Dual Model'!$H$12+MAXA(0,'Dual Model'!$C$14*3600*(1/'Dual Model'!$H$28-1/'Dual Model'!$E$28)),'Dual Model'!$C$25+'Dual Model'!$H$14*SQRT('Dual Model'!$H$12^2+'Dual Model'!$H$13^2))+'Dual Model'!$C$36","v":106.75285714285714},{"$f":"MAXA(3600*I27/('Dual Model'!$I$28)+'Dual Model'!$H$14*'Dual Model'!$H$12+MAXA(0,'Dual Model'!$C$14*3600*(1/'Dual Model'!$I$28-1/'Dual Model'!$E$28)),'Dual Model'!$E$25+'Dual Model'!$H$14*SQRT('Dual Model'!$H$12^2+'Dual Model'!$H$13^2))+'Dual Model'!$C$36","v":101.61}]
[null,"Large-TP",{"$f":"MAXA(3600*C28/('Dual Model'!$C$28)+'Dual Model'!$H$14*'Dual Model'!$H$12+MAXA(0,'Dual Model'!$C$14*3600*(1/'Dual Model'!$C$28-1/'Dual Model'!$F$28)),'Dual Model'!$F$25+'Dual Model'!$H$14*SQRT('Dual Model'!$H$12^2+'Dual Model'!$H$13^2))+'Dual Model'!$C$36","v":275.7638461538462},{"$f":"MAXA(3600*D28/('Dual Model'!$D$28)+'Dual Model'!$H$14*'Dual Model'!$H$12+MAXA(0,'Dual Model'!$C$14*3600*(1/'Dual Model'!$D$28-1/'Dual Model'!$F$28)),'Dual Model'!$F$25+'Dual Model'!$H$14*SQRT('Dual Model'!$H$12^2+'Dual Model'!$H$13^2))+'Dual Model'!$C$36","v":231.76384615384615},{"$f":"MAXA(3600*E28/('Dual Model'!$E$28)+'Dual Model'!$H$14*'Dual Model'!$H$12+MAXA(0,'Dual Model'!$C$14*3600*(1/'Dual Model'!$E$28-1/'Dual Model'!$F$28)),'Dual Model'!$F$25+'Dual Model'!$H$14*SQRT('Dual Model'!$H$12^2+'Dual Model'!$H$13^2))+'Dual Model'!$C$36","v":165.76384615384615},{"$f":"MAXA(3600*F28/('Dual Model'!$F$28)+'Dual Model'!$H$14*'Dual Model'!$H$12+MAXA(0,'Dual Model'!$C$14*3600*(1/'Dual Model'!$F$28-1/'Dual Model'!$F$28)),'Dual Model'!$F$25+'Dual Model'!$H$14*SQRT('Dual Model'!$H$12^2+'Dual Model'!$H$13^2))+'Dual Model'!$C$36","v":112.68692307692308},{"$f":"MAXA(3600*G28/('Dual Model'!$G$28)+'Dual Model'!$H$14*'Dual Model'!$H$12+MAXA(0,'Dual Model'!$C$14*3600*(1/'Dual Model'!$G$28-1/'Dual Model'!$F$28)),'Dual Model'!$F$25+'Dual Model'!$H$14*SQRT('Dual Model'!$H$12^2+'Dual Model'!$H$13^2))+'Dual Model'!$C$36","v":109.61},{"$f":"MAXA(3600*H28/('Dual Model'!$H$28)+'Dual Model'!$H$14*'Dual Model'!$H$12+MAXA(0,'Dual Model'!$C$14*3600*(1/'Dual Model'!$H$28-1/'Dual Model'!$F$28)),'Dual Model'!$C$25+'Dual Model'!$H$14*SQRT('Dual Model'!$H$12^2+'Dual Model'!$H$13^2))+'Dual Model'!$C$36","v":106.75285714285714},{"$f":"MAXA(3600*I28/('Dual Model'!$I$28)+'Dual Model'!$H$14*'Dual Model'!$H$12+MAXA(0,'Dual Model'!$C$14*3600*(1/'Dual Model'!$I$28-1/'Dual Model'!$F$28)),'Dual Model'!$F$25+'Dual Model'!$H$14*SQRT('Dual Model'!$H$12^2+'Dual Model'!$H$13^2))+'Dual Model'!$C$36","v":101.61}]
[null,"Large-Jet",{"$f":"MAXA(3600*C29/('Dual Model'!$C$28)+'Dual Model'!$H$14*'Dual Model'!$H$12+MAXA(0,'Dual Model'!$C$14*3600*(1/'Dual Model'!$C$28-1/'Dual Model'!$G$28)),'Dual Model'!$G$25+'Dual Model'!$H$14*SQRT('Dual Model'!$H$12^2+'Dual Model'!$H$13^2))+'Dual Model'!$C$36","v":282.94333333333338},{"$f":"MAXA(3600*D29/('Dual Model'!$D$28)+'Dual Model'!$H$14*'Dual Model'!$H$12+MAXA(0,'Dual Model'!$C$14*3600*(1/'Dual Model'!$D$28-1/'Dual Model'!$G$28)),'Dual Model'!$G$25+'Dual Model'!$H$14*SQRT('Dual Model'!$H$12^2+'Dual Model'!$H$13^2))+'Dual Model'!$C$36","v":238.94333333333333},{"$f":"MAXA(3600*E29/('Dual Model'!$E$28)+'Dual Model'!$H$14*'Dual Model'!$H$12+MAXA(0,'Dual Model'!$C$14*3600*(1/'Dual Model'!$E$28-1/'Dual Model'!$G$28)),'Dual Model'!$G$25+'Dual Model'!$H$14*SQRT('Dual Model'!$H$12^2+'Dual Model'!$H$13^2))+'Dual Model'!$C$36","v":172.94333333333333},{"$f":"MAXA(3600*F29/('Dual Model'!$F$28)+'Dual Model'!$H$14*'Dual Model'!$H$12+MAXA(0,'Dual Model'!$C$14*3600*(1/'Dual Model'!$F$28-1/'Dual Model'!$G$28)),'Dual Model'!$G$25+'Dual Model'!$H$14*SQRT('Dual Model'!$H$12^2+'Dual Model'!$H$13^2))+'Dual Model'!$C$36","v":119.86641025641026},{"$f":"MAXA(3600*G29/('Dual Model'!$G$28)+'Dual Model'!$H$14*'Dual Model'!$H$12+MAXA(0,'Dual Model'!$C$14*3600*(1/'Dual Model'!$G$28-1/'Dual Model'!$G$28)),'Dual Model'!$G$25+'Dual Model'!$H$14*SQRT('Dual Model'!$H$12^2+'Dual Model'!$H$13^2))+'Dual Model'!$C$36","v":109.61},{"$f":"MAXA(3600*H29/('Dual Model'!$H$28)+'Dual Model'!$H$14*'Dual Model'!$H$12+MAXA(0,'Dual Model'!$C$14*3600*(1/'Dual Model'!$H$28-1/'Dual Model'!$G$28)),'Dual Model'!$C$25+'Dual Model'!$H$14*SQRT('Dual Model'!$H$12^2+'Dual Model'!$H$13^2))+'Dual Model'!$C$36","v":106.75285714285714},{"$f":"MAXA(3600*I29/('Dual Model'!$I$28)+'Dual Model'!$H$14*'Dual Model'!$H$12+MAXA(0,'Dual Model'!$C$14*3600*(1/'Dual Model'!$I$28-1/'Dual Model'!$G$28)),'Dual Model'!$G$25+'Dual Model'!$H$14*SQRT('Dual Model'!$H$12^2+'Dual Model'!$H$13^2))+'Dual Model'!$C$36","v":101.61}]
[null,"Large-757",{"$f":"MAXA(3600*C30/('Dual Model'!$C$28)+'Dual Model'!$H$14*'Dual Model'!$H$12+MAXA(0,'Dual Model'!$C$14*3600*(1/'Dual Model'!$C$28-1/'Dual Model'!$H$28)),'Dual Model'!$G$25+'Dual Model'!$H$14*SQRT('Dual Model'!$H$12^2+'Dual Model'!$H$13^2))+'Dual Model'!$C$36","v":329.61},{"$f":"MAXA(3600*D30/('Dual Model'!$D$28)+'Dual Model'!$H$14*'Dual Model'!$H$12+MAXA(0,'Dual Model'!$C$14*3600*(1/'Dual Model'!$D$28-1/'Dual Model'!$H$28)),'Dual Model'!$G$25+'Dual Model'!$H$14*SQRT('Dual Model'!$H$12^2+'Dual Model'!$H$13^2))+'Dual Model'!$C$36","v":281.61},{"$f":"MAXA(3600*E30/('Dual Model'!$E$28)+'Dual Model'!$H$14*'Dual Model'!$H$12+MAXA(0,'Dual Model'!$C$14*3600*(1/'Dual Model'!$E$28-1/'Dual Model'!$H$28)),'Dual Model'!$G$25+'Dual Model'!$H$14*SQRT('Dual Model'!$H$12^2+'Dual Model'!$H$13^2))+'Dual Model'!$C$36","v":209.61},{"$f":"MAXA(3600*F30/('Dual Model'!$F$28)+'Dual Model'!$H$14*'Dual Model'!$H$12+MAXA(0,'Dual Model'!$C$14*3600*(1/'Dual Model'!$F$28-1/'Dual Model'!$H$28)),'Dual Model'!$G$25+'Dual Model'!$H$14*SQRT('Dual Model'!$H$12^2+'Dual Model'!$H$13^2))+'Dual Model'!$C$36","v":154.22538461538466},{"$f":"MAXA(3600*G30/('Dual Model'!$G$28)+'Dual Model'!$H$14*'Dual Model'!$H$12+MAXA(0,'Dual Model'!$C$14*3600*(1/'Dual Model'!$G$28-1/'Dual Model'!$H$28)),'Dual Model'!$G$25+'Dual Model'!$H$14*SQRT('Dual Model'!$H$12^2+'Dual Model'!$H$13^2))+'Dual Model'!$C$36","v":142.94333333333336},{"$f":"MAXA(3600*H30/('Dual Model'!$H$28)+'Dual Model'!$H$14*'Dual Model'!$H$12+MAXA(0,'Dual Model'!$C$14*3600*(1/'Dual Model'!$H$28-1/'Dual Model'!$H$28)),'Dual Model'!$C$25+'Dual Model'!$H$14*SQRT('Dual Model'!$H$12^2+'Dual Model'!$H$13^2))+'Dual Model'!$C$36","v":132.46714285714285},{"$f":"MAXA(3600*I30/('Dual Model'!$I$28)+'Dual Model'!$H$14*'Dual Model'!$H$12+MAXA(0,'Dual Model'!$C$14*3600*(1/'Dual Model'!$I$28-1/'Dual Model'!$H$28)),'Dual Model'!$C$25+'Dual Model'!$H$14*SQRT('Dual Model'!$H$12^2+'Dual Model'!$H$13^2))+'Dual Model'!$C$36","v":125.61}]
[null,"Heavy",{"$f":"MAXA(3600*C31/('Dual Model'!$C$28)+'Dual Model'!$H$14*'Dual Model'!$H$12+MAXA(0,'Dual Model'!$C$14*3600*(1/'Dual Model'!$C$28-1/'Dual Model'!$I$28)),'Dual Model'!$I$25+'Dual Model'!$H$14*SQRT('Dual Model'!$H$12^2+'Dual Model'!$H$13^2))+'Dual Model'!$C$36","v":381.61},{"$f":"MAXA(3600*D31/('Dual Model'!$D$28)+'Dual Model'!$H$14*'Dual Model'!$H$12+MAXA(0,'Dual Model'!$C$14*3600*(1/'Dual Model'!$D$28-1/'Dual Model'!$I$28)),'Dual Model'!$I$25+'Dual Model'!$H$14*SQRT('Dual Model'!$H$12^2+'Dual Model'!$H$13^2))+'Dual Model'!$C$36","v":329.61},{"$f":"MAXA(3600*E31/('Dual Model'!$E$28)+'Dual Model'!$H$14*'Dual Model'!$H$12+MAXA(0,'Dual Model'!$C$14*3600*(1/'Dual Model'!$E$28-1/'Dual Model'!$I$28)),'Dual Model'!$I$25+'Dual Model'!$H$14*SQRT('Dual Model'!$H$12^2+'Dual Model'!$H$13^2))+'Dual Model'!$C$36","v":221.61},{"$f":"MAXA(3600*F31/('Dual Model'!$F$28)+'Dual Model'!$H$14*'Dual Model'!$H$12+MAXA(0,'Dual Model'!$C$14*3600*(1/'Dual Model'!$F$28-1/'Dual Model'!$I$28)),'Dual Model'!$I$25+'Dual Model'!$H$14*SQRT('Dual Model'!$H$12^2+'Dual Model'!$H$13^2))+'Dual Model'!$C$36","v":193.91769230769231},{"$f":"MAXA(3600*G31/('Dual Model'!$G$28)+'Dual Model'!$H$14*'Dual Model'!$H$12+MAXA(0,'Dual Model'!$C$14*3600*(1/'Dual Model'!$G$28-1/'Dual Model'!$I$28)),'Dual Model'!$I$25+'Dual Model'!$H$14*SQRT('Dual Model'!$H$12^2+'Dual Model'!$H$13^2))+'Dual Model'!$C$36","v":181.60999999999999},{"$f":"MAXA(3600*H31/('Dual Model'!$H$28)+'Dual Model'!$H$14*'Dual Model'!$H$12+MAXA(0,'Dual Model'!$C$14*3600*(1/'Dual Model'!$H$28-1/'Dual Model'!$I$28)),'Dual Model'!$C$25+'Dual Model'!$H$14*SQRT('Dual Model'!$H$12^2+'Dual Model'!$H$13^2))+'Dual Model'!$C$36","v":170.18142857142854},{"$f":"MAXA(3600*I31/('Dual Model'!$I$28)+'Dual Model'!$H$14*'Dual Model'!$H$12+MAXA(0,'Dual Model'!$C$14*3600*(1/'Dual Model'!$I$28-1/'Dual Model'!$I$28)),'Dual Model'!$I$25+'Dual Model'!$H$14*SQRT('Dual Model'!$H$12^2+'Dual Model'!$H$13^2))+'Dual Model'!$C$36","v":125.61}]
[]
[null,"VMC Average time between Arrivals",null,null,null,"Time in Seconds"]
[null,null,"Small - S","Small - T","Small +","Large-TP","Large-Jet","Large-757","Heavy"]
[null,"Small - S",{"$f":"C5*C56","v":0},{"$f":"D5*D56","v":0},0,0,0,0,0,null,"Average Arrival separation"]
[null,"Small - T",{"$f":"C6*C57","v":0},0.98010000000000019,0,2.4667615384615384,4.0138333333333334,0.39233571428571429,0.37605000000000011,null,{"$f":"SUM(C76:I82)","v":96.558638648805896},"seconds",{"$f":"(3600-'Dual Model'!$I$30)/K77","v":37.283044276272214}]
[null,"Small +",{"$f":"C7*C58","v":0},0,0,0,0,0,0]
[null,"Large-TP",{"$f":"C8*C59","v":0},5.548915384615384,0,7.4002846153846145,12.041500000000001,1.1770071428571427,1.1431752075879285]
[null,"Large-Jet",{"$f":"C9*C60","v":0},9.6071666666666662,0,13.410730769230769,20.069166666666668,1.9616785714285712,1.9302920126465477]
[null,"Large-757",{"$f":"C10*C61","v":0},1.1740500000000003,0,1.7733807692307695,2.7069166666666673,0.24759642857142863,0.23602500000000004]
[null,"Heavy",{"$f":"C11*C62","v":0},1.3960500000000002,0,2.3272269230769229,3.6069166666666668,0.33545357142857141,0.23602500000000004]
[]
[null,"VMC Average time between Departures",null,null,null,"Time in Seconds"]
[null,null,"Small - S","Small - T","Small +","Large-TP","Large-Jet","Large-757","Heavy"]
[null,"Small - S",{"$f":"C5*C35","v":0},{"$f":"D5*D35","v":0},0,0,0,0,0,null,"Average Departure separation"]
[null,"Small - T",{"$f":"C6*C36","v":0},0.45000000000000007,0,1.65,2.75,0.27500000000000008,0.30000000000000004,null,{"$f":"SUM(C86:I92)","v":73.050000000000011},"seconds",{"$f":"(3600-'Dual Model'!$I$30)/K87","v":49.281314168377818}]
[null,"Small +",{"$f":"C7*C37","v":0},0,0,0,0,0,0]
[null,"Large-TP",{"$f":"C8*C38","v":0},2.6999999999999997,0,6.3,10.5,1.05,1.05]
[null,"Large-Jet",{"$f":"C9*C39","v":0},4.5,0,10.5,17.5,1.75,1.75]
[null,"Large-757",{"$f":"C10*C40","v":0},0.45000000000000007,0,1.05,1.75,0.17500000000000004,0.17500000000000004]
[null,"Heavy",{"$f":"C11*C41","v":0},0.65000000000000013,0,1.95,3.25,0.32500000000000007,0.25000000000000006]
[]
[null,"IMC Average time between Arrivals",null,null,null,"Time in Seconds"]
[null,null,"Small - S","Small - T","Small +","Large-TP","Large-Jet","Large-757","Heavy"]
[null,"Small - S",{"$f":"C5*C66","v":0},{"$f":"D5*D66","v":0},0,0,0,0,0,null,"Average Arrival separation"]
[null,"Small - T",{"$f":"C6*C67","v":0},1.3761000000000003,0,3.3806076923076924,5.4805000000000001,0.5337642857142858,0.50805000000000011,null,{"$f":"SUM(C96:I102)","v":128.25615384615384},"seconds",{"$f":"(3600-'Dual Model'!$I$30)/K97","v":28.06882860621473}]
[null,"Small +",{"$f":"C7*C68","v":0},0,0,0,0,0,0]
[null,"Large-TP",{"$f":"C8*C69","v":0},6.9529153846153839,0,10.141823076923076,16.441499999999998,1.6012928571428571,1.5241499999999999]
[null,"Large-Jet",{"$f":"C9*C70","v":0},11.947166666666668,0,17.979961538461538,27.4025,2.6688214285714285,2.5402500000000003]
[null,"Large-757",{"$f":"C10*C71","v":0},1.4080500000000002,0,2.3133807692307697,3.573583333333334,0.33116785714285718,0.31402500000000005]
[null,"Heavy",{"$f":"C11*C72","v":0},1.6480500000000005,0,2.9087653846153847,4.5402499999999995,0.42545357142857143,0.31402500000000005]
[]
[null,"IMC Average time between Departures",null,null,null,"Time in Seconds"]
[null,null,"Small - S","Small - T","Small +","Large-TP","Large-Jet","Large-757","Heavy"]
[null,"Small - S",{"$f":"C5*C45","v":0},{"$f":"D5*D45","v":0},0,0,0,0,0,null,"Average Departure separation"]
[null,"Small - T",{"$f":"C6*C46","v":0},0.70000000000000018,0,2.1,3.5,0.35000000000000009,0.35000000000000009,null,{"$f":"SUM(C106:I112)","v":74.625},"seconds",{"$f":"(3600-'Dual Model'!$I$30)/K107","v":48.241206030150757}]
[null,"Small +",{"$f":"C7*C47","v":0},0,0,0,0,0,0]
[null,"Large-TP",{"$f":"C8*C48","v":0},2.6999999999999997,0,6.3,10.5,1.05,1.05]
[null,"Large-Jet",{"$f":"C9*C49","v":0},4.5,0,10.5,17.5,1.75,1.75]
[null,"Large-757",{"$f":"C10*C50","v":0},0.45000000000000007,0,1.05,1.75,0.17500000000000004,0.17500000000000004]
[null,"Heavy",{"$f":"C11*C51","v":0},0.65000000000000013,0,1.95,3.25,0.32500000000000007,0.25000000000000006]
[]
[null,"VMC Average Time Required for Departure between Arrivals",null,null,null,"Time in Seconds"]
[null,null,"Small - S","Small - T","Small +","Large-TP","Large-Jet","Large-757","Heavy"," AROT is exluded from the Equation for this layout configuration, Non-simultaneaous runway use"]
[null,"Small - S",{"$f":"MAXA((3600*'Dual Model'!$C$12/('Dual Model'!C$28)),C$156)","v":80},{"$f":"MAXA((3600*'Dual Model'!$C$12/('Dual Model'!D$28)),D$156)","v":72},{"$f":"MAXA((3600*'Dual Model'!$C$12/('Dual Model'!E$28)),E$156)","v":60},{"$f":"MAXA((3600*'Dual Model'!$C$12/('Dual Model'!F$28)),F$156)","v":55.384615384615387},{"$f":"MAXA((3600*'Dual Model'!$C$12/('Dual Model'!G$28)),G$156)","v":53.333333333333336},{"$f":"MAXA((3600*'Dual Model'!$C$12/('Dual Model'!H$28)),H$156)","v":51.428571428571431},{"$f":"MAXA((3600*'Dual Model'!$C$12/('Dual Model'!I$28)),I$156)","v":51}]
[null,"Small - T",{"$f":"MAXA((3600*'Dual Model'!$C$12/('Dual Model'!C$28)),C$156)","v":80},{"$f":"MAXA((3600*'Dual Model'!$C$12/('Dual Model'!D$28)),D$156)","v":72},{"$f":"MAXA((3600*'Dual Model'!$C$12/('Dual Model'!E$28)),E$156)","v":60},{"$f":"MAXA((3600*'Dual Model'!$C$12/('Dual Model'!F$28)),F$156)","v":55.384615384615387},{"$f":"MAXA((3600*'Dual Model'!$C$12/('Dual Model'!G$28)),G$156)","v":53.333333333333336},{"$f":"MAXA((3600*'Dual Model'!$C$12/('Dual Model'!H$28)),H$156)","v":51.428571428571431},{"$f":"MAXA((3600*'Dual Model'!$C$12/('Dual Model'!I$28)),I$156)","v":51}]
[null,"Small +",{"$f":"MAXA((3600*'Dual Model'!$C$12/('Dual Model'!C$28)),C$156)","v":80},{"$f":"MAXA((3600*'Dual Model'!$C$12/('Dual Model'!D$28)),D$156)","v":72},{"$f":"MAXA((3600*'Dual Model'!$C$12/('Dual Model'!E$28)),E$156)","v":60},{"$f":"MAXA((3600*'Dual Model'!$C$12/('Dual Model'!F$28)),F$156)","v":55.384615384615387},{"$f":"MAXA((3600*'Dual Model'!$C$12/('Dual Model'!G$28)),G$156)","v":53.333333333333336},{"$f":"MAXA((3600*'Dual Model'!$C$12/('Dual Model'!H$28)),H$156)","v":51.428571428571431},{"$f":"MAXA((3600*'Dual Model'!$C$12/('Dual Model'!I$28)),I$156)","v":51}]
[null,"Large-TP",{"$f":"MAXA((3600*'Dual Model'!$C$12/('Dual Model'!C$28)),C$156)","v":80},{"$f":"MAXA((3600*'Dual Model'!$C$12/('Dual Model'!D$28)),D$156)","v":72},{"$f":"MAXA((3600*'Dual Model'!$C$12/('Dual Model'!E$28)),E$156)","v":60},{"$f":"MAXA((3600*'Dual Model'!$C$12/('Dual Model'!F$28)),F$156)","v":55.384615384615387},{"$f":"MAXA((3600*'Dual Model'!$C$12/('Dual Model'!G$28)),G$156)","v":53.333333333333336},{"$f":"MAXA((3600*'Dual Model'!$C$12/('Dual Model'!H$28)),H$156)","v":51.428571428571431},{"$f":"MAXA((3600*'Dual Model'!$C$12/('Dual Model'!I$28)),I$156)","v":51}]
[null,"Large-Jet",{"$f":"MAXA((3600*'Dual Model'!$C$12/('Dual Model'!C$28)),C$156)","v":80},{"$f":"MAXA((3600*'Dual Model'!$C$12/('Dual Model'!D$28)),D$156)","v":72},{"$f":"MAXA((3600*'Dual Model'!$C$12/('Dual Model'!E$28)),E$156)","v":60},{"$f":"MAXA((3600*'Dual Model'!$C$12/('Dual Model'!F$28)),F$156)","v":55.384615384615387},{"$f":"MAXA((3600*'Dual Model'!$C$12/('Dual Model'!G$28)),G$156)","v":53.333333333333336},{"$f":"MAXA((3600*'Dual Model'!$C$12/('Dual Model'!H$28)),H$156)","v":51.428571428571431},{"$f":"MAXA((3600*'Dual Model'!$C$12/('Dual Model'!I$28)),I$156)","v":51}]
[null,"Large-757",{"$f":"MAXA((3600*'Dual Model'!$C$12/('Dual Model'!C$28)),C$156)","v":80},{"$f":"MAXA((3600*'Dual Model'!$C$12/('Dual Model'!D$28)),D$156)","v":72},{"$f":"MAXA((3600*'Dual Model'!$C$12/('Dual Model'!E$28)),E$156)","v":60},{"$f":"MAXA((3600*'Dual Model'!$C$12/('Dual Model'!F$28)),F$156)","v":55.384615384615387},{"$f":"MAXA((3600*'Dual Model'!$C$12/('Dual Model'!G$28)),G$156)","v":53.333333333333336},{"$f":"MAXA((3600*'Dual Model'!$C$12/('Dual Model'!H$28)),H$156)","v":51.428571428571431},{"$f":"MAXA((3600*'Dual Model'!$C$12/('Dual Model'!I$28)),I$156)","v":51}]
[null,"Heavy",{"$f":"MAXA((3600*'Dual Model'!$C$12/('Dual Model'!C$28)),C$156)","v":80},{"$f":"MAXA((3600*'Dual Model'!$C$12/('Dual Model'!D$28)),D$156)","v":72},{"$f":"MAXA((3600*'Dual Model'!$C$12/('Dual Model'!E$28)),E$156)","v":60},{"$f":"MAXA((3600*'Dual Model'!$C$12/('Dual Model'!F$28)),F$156)","v":55.384615384615387},{"$f":"MAXA((3600*'Dual Model'!$C$12/('Dual Model'!G$28)),G$156)","v":53.333333333333336},{"$f":"MAXA((3600*'Dual Model'!$C$12/('Dual Model'!H$28)),H$156)","v":51.428571428571431},{"$f":"MAXA((3600*'Dual Model'!$C$12/('Dual Model'!I$28)),I$156)","v":51}]
[]
[null,"IMC Average Time Required for Departure between Arrivals",null,null,null,"Time in Seconds"]
[null,null,"Small - S","Small - T","Small +","Large-TP","Large-Jet","Large-757","Heavy"," AROT is exluded from the Equation for this layout configuration, Non-simultaneaous runway use"]
[null,"Small - S",{"$f":"MAXA((3600*'Dual Model'!$C$13/('Dual Model'!C$28)),C$156)","v":80},{"$f":"MAXA((3600*'Dual Model'!$C$13/('Dual Model'!D$28)),D$156)","v":72},{"$f":"MAXA((3600*'Dual Model'!$C$13/('Dual Model'!E$28)),E$156)","v":60},{"$f":"MAXA((3600*'Dual Model'!$C$13/('Dual Model'!F$28)),F$156)","v":55.384615384615387},{"$f":"MAXA((3600*'Dual Model'!$C$13/('Dual Model'!G$28)),G$156)","v":53.333333333333336},{"$f":"MAXA((3600*'Dual Model'!$C$13/('Dual Model'!H$28)),H$156)","v":51.428571428571431},{"$f":"MAXA((3600*'Dual Model'!$C$13/('Dual Model'!I$28)),I$156)","v":51}]
[null,"Small - T",{"$f":"MAXA((3600*'Dual Model'!$C$13/('Dual Model'!C$28)),C$156)","v":80},{"$f":"MAXA((3600*'Dual Model'!$C$13/('Dual Model'!D$28)),D$156)","v":72},{"$f":"MAXA((3600*'Dual Model'!$C$13/('Dual Model'!E$28)),E$156)","v":60},{"$f":"MAXA((3600*'Dual Model'!$C$13/('Dual Model'!F$28)),F$156)","v":55.384615384615387},{"$f":"MAXA((3600*'Dual Model'!$C$13/('Dual Model'!G$28)),G$156)","v":53.333333333333336},{"$f":"MAXA((3600*'Dual Model'!$C$13/('Dual Model'!H$28)),H$156)","v":51.428571428571431},{"$f":"MAXA((3600*'Dual Model'!$C$13/('Dual Model'!I$28)),I$156)","v":51}]
[null,"Small +",{"$f":"MAXA((3600*'Dual Model'!$C$13/('Dual Model'!C$28)),C$156)","v":80},{"$f":"MAXA((3600*'Dual Model'!$C$13/('Dual Model'!D$28)),D$156)","v":72},{"$f":"MAXA((3600*'Dual Model'!$C$13/('Dual Model'!E$28)),E$156)","v":60},{"$f":"MAXA((3600*'Dual Model'!$C$13/('Dual Model'!F$28)),F$156)","v":55.384615384615387},{"$f":"MAXA((3600*'Dual Model'!$C$13/('Dual Model'!G$28)),G$156)","v":53.333333333333336},{"$f":"MAXA((3600*'Dual Model'!$C$13/('Dual Model'!H$28)),H$156)","v":51.428571428571431},{"$f":"MAXA((3600*'Dual Model'!$C$13/('Dual Model'!I$28)),I$156)","v":51}]
[null,"Large-TP",{"$f":"MAXA((3600*'Dual Model'!$C$13/('Dual Model'!C$28)),C$156)","v":80},{"$f":"MAXA((3600*'Dual Model'!$C$13/('Dual Model'!D$28)),D$156)","v":72},{"$f":"MAXA((3600*'Dual Model'!$C$13/('Dual Model'!E$28)),E$156)","v":60},{"$f":"MAXA((3600*'Dual Model'!$C$13/('Dual Model'!F$28)),F$156)","v":55.384615384615387},{"$f":"MAXA((3600*'Dual Model'!$C$13/('Dual Model'!G$28)),G$156)","v":53.333333333333336},{"$f":"MAXA((3600*'Dual Model'!$C$13/('Dual Model'!H$28)),H$156)","v":51.428571428571431},{"$f":"MAXA((3600*'Dual Model'!$C$13/('Dual Model'!I$28)),I$156)","v":51}]
[null,"Large-Jet",{"$f":"MAXA((3600*'Dual Model'!$C$13/('Dual Model'!C$28)),C$156)","v":80},{"$f":"MAXA((3600*'Dual Model'!$C$13/('Dual Model'!D$28)),D$156)","v":72},{"$f":"MAXA((3600*'Dual Model'!$C$13/('Dual Model'!E$28)),E$156)","v":60},{"$f":"MAXA((3600*'Dual Model'!$C$13/('Dual Model'!F$28)),F$156)","v":55.384615384615387},{"$f":"MAXA((3600*'Dual Model'!$C$13/('Dual Model'!G$28)),G$156)","v":53.333333333333336},{"$f":"MAXA((3600*'Dual Model'!$C$13/('Dual Model'!H$28)),H$156)","v":51.428571428571431},{"$f":"MAXA((3600*'Dual Model'!$C$13/('Dual Model'!I$28)),I$156)","v":51}]
[null,"Large-757",{"$f":"MAXA((3600*'Dual Model'!$C$13/('Dual Model'!C$28)),C$156)","v":80},{"$f":"MAXA((3600*'Dual Model'!$C$13/('Dual Model'!D$28)),D$156)","v":72},{"$f":"MAXA((3600*'Dual Model'!$C$13/('Dual Model'!E$28)),E$156)","v":60},{"$f":"MAXA((3600*'Dual Model'!$C$13/('Dual Model'!F$28)),F$156)","v":55.384615384615387},{"$f":"MAXA((3600*'Dual Model'!$C$13/('Dual Model'!G$28)),G$156)","v":53.333333333333336},{"$f":"MAXA((3600*'Dual Model'!$C$13/('Dual Model'!H$28)),H$156)","v":51.428571428571431},{"$f":"MAXA((3600*'Dual Model'!$C$13/('Dual Model'!I$28)),I$156)","v":51}]
[null,"Heavy",{"$f":"MAXA((3600*'Dual Model'!$C$13/('Dual Model'!C$28)),C$156)","v":80},{"$f":"MAXA((3600*'Dual Model'!$C$13/('Dual Model'!D$28)),D$156)","v":72},{"$f":"MAXA((3600*'Dual Model'!$C$13/('Dual Model'!E$28)),E$156)","v":60},{"$f":"MAXA((3600*'Dual Model'!$C$13/('Dual Model'!F$28)),F$156)","v":55.384615384615387},{"$f":"MAXA((3600*'Dual Model'!$C$13/('Dual Model'!G$28)),G$156)","v":53.333333333333336},{"$f":"MAXA((3600*'Dual Model'!$C$13/('Dual Model'!H$28)),H$156)","v":51.428571428571431},{"$f":"MAXA((3600*'Dual Model'!$C$13/('Dual Model'!I$28)),I$156)","v":51}]
[null,"  "]
[null,"VMC Average Required for Departure between Arrivals",null,null,null,"Time in Seconds"]
[null,null,"Small - S","Small - T","Small +","Large-TP","Large-Jet","Large-757","Heavy",null,null,"Departures between Arrivals",null,"VMC"]
[null,"Small - S",{"$f":"C56-C116","v":25.61},{"$f":"D56-D116","v":26.010000000000005},26.61,26.840769230769226,26.943333333333335,27.038571428571416,24.210000000000008,null,null,{"$f":"SUMPRODUCT(L137:L143,C5:C11)+SUMPRODUCT(M137:M143,D5:D11)+SUMPRODUCT(N137:N143,E5:E11)+SUMPRODUCT(O137:O143,F5:F11)+SUMPRODUCT(P137:P143,G5:G11)+SUMPRODUCT(Q137:Q143,H5:H11)+SUMPRODUCT(R137:R143,I5:I11)","v":1.1425000000000001},{"$f":"L136*M77","v":42.595878085641004}]
[null,"Small - T",{"$f":"C57-C117","v":53.610000000000014},26.010000000000005,26.61,26.840769230769226,26.943333333333335,27.038571428571416,24.210000000000008,null,null,{"$f":"IF(C136>=0,TRUNC(C136/$K$87,0)+1,0)","v":1},{"$f":"IF(D136>=0,TRUNC(D136/$K$87,0)+1,0)","v":1},1,1,1,1,1]
[null,"Small +",{"$f":"C58-C118","v":95.610000000000014},68.010000000000019,26.61,26.840769230769226,26.943333333333335,27.038571428571416,24.210000000000008,null,null,{"$f":"IF(C137>=0,TRUNC(C137/$K$87,0)+1,0)","v":1},{"$f":"IF(D137>=0,TRUNC(D137/$K$87,0)+1,0)","v":1},{"$f":"IF(E137>=0,TRUNC(E137/$K$87,0)+1,0)","v":1},{"$f":"IF(F137>=0,TRUNC(F137/$K$87,0)+1,0)","v":1},{"$f":"IF(G137>=0,TRUNC(G137/$K$87,0)+1,0)","v":1},{"$f":"IF(H137>=0,TRUNC(H137/$K$87,0)+1,0)","v":1},{"$f":"IF(I137>=0,TRUNC(I137/$K$87,0)+1,0)","v":1}]
[null,"Large-TP",{"$f":"C59-C119","v":143.76384615384617},112.96384615384613,66.763846153846146,26.840769230769226,26.943333333333335,27.038571428571416,25.211680505861906,null,null,2,1,1,1,1,1,1]
[null,"Large-Jet",{"$f":"C60-C120","v":150.94333333333336},120.14333333333332,73.943333333333328,34.020256410256408,26.943333333333335,27.038571428571416,26.211680505861906,null,null,2,2,1,1,1,1,1]
[null,"Large-757",{"$f":"C61-C121","v":197.61},162.81,110.61000000000001,62.840769230769254,54.943333333333349,47.61,43.41,null,null,3,2,2,1,1,1,1]
[null,"Heavy",{"$f":"C62-C122","v":245.61},207.20999999999998,119.61000000000001,99.763846153846146,90.943333333333328,82.75285714285711,43.41,null,null,3,3,2,1,1,1,1]
[null,null,null,null,null,null,null,null,null,null,null,4,3,2,2,2,2,1]
[null,"IMC Average Required for Departure between Arrivals",null,null,null,"Time in Seconds"]
[null,null,"Small - S","Small - T","Small +","Large-TP","Large-Jet","Large-757","Heavy",null,null,"Departures between Arrivals",null,"IMC"]
[null,"Small - S",{"$f":"C66-C126","v":69.610000000000014},{"$f":"D66-D126","v":65.610000000000014},59.61,57.302307692307693,56.276666666666664,55.324285714285708,50.61,null,null,{"$f":"SUMPRODUCT(L147:L153,C5:C11)+SUMPRODUCT(M147:M153,D5:D11)+SUMPRODUCT(N147:N153,E5:E11)+SUMPRODUCT(O147:O153,F5:F11)+SUMPRODUCT(P147:P153,G5:G11)+SUMPRODUCT(Q147:Q153,H5:H11)+SUMPRODUCT(R147:R153,I5:I11)","v":1.27},{"$f":"L146*M97","v":35.64741232989271}]
[null,"Small - T",{"$f":"C67-C127","v":97.610000000000014},65.610000000000014,59.61,57.302307692307693,56.276666666666664,55.324285714285708,50.61,null,null,{"$f":"IF(C146>=0,TRUNC(C146/$K$107,0)+1,0)","v":1},{"$f":"IF(D146>=0,TRUNC(D146/$K$107,0)+1,0)","v":1},1,1,1,1,1]
[null,"Small +",{"$f":"C68-C128","v":139.61000000000001},107.61000000000001,59.61,57.302307692307693,56.276666666666664,55.324285714285708,50.61,null,null,{"$f":"IF(C147>=0,TRUNC(C147/$K$107,0)+1,0)","v":2},{"$f":"IF(D147>=0,TRUNC(D147/$K$107,0)+1,0)","v":1},{"$f":"IF(E147>=0,TRUNC(E147/$K$107,0)+1,0)","v":1},{"$f":"IF(F147>=0,TRUNC(F147/$K$107,0)+1,0)","v":1},{"$f":"IF(G147>=0,TRUNC(G147/$K$107,0)+1,0)","v":1},{"$f":"IF(H147>=0,TRUNC(H147/$K$107,0)+1,0)","v":1},{"$f":"IF(I147>=0,TRUNC(I147/$K$107,0)+1,0)","v":1}]
[null,"Large-TP",{"$f":"C69-C129","v":195.7638461538462},159.76384615384615,105.76384615384615,57.302307692307693,56.276666666666664,55.324285714285708,50.61,null,null,2,2,1,1,1,1,1]
[null,"Large-Jet",{"$f":"C70-C130","v":202.94333333333338},166.94333333333333,112.94333333333333,64.481794871794875,56.276666666666664,55.324285714285708,50.61,null,null,3,3,2,1,1,1,1]
[null,"Large-757",{"$f":"C71-C131","v":249.61},209.61,149.61000000000001,98.840769230769268,89.610000000000014,81.038571428571416,74.61,null,null,3,3,2,1,1,1,1]
[null,"Heavy",{"$f":"C72-C132","v":301.61},257.61,161.61000000000001,138.53307692307692,128.27666666666664,118.75285714285711,74.61,null,null,4,3,3,2,2,2,1]
[null,null,null,null,null,null,null,null,null,null,null,5,4,3,2,2,2,1]
[]
[null,null,"Small - S","Small - T","Small +","Large-TP","Large-Jet","Large-757","Heavy"]
[null,"Average Dep. Runway Occ. Times (sec)",{"$f":"'Single Work Tab'!$C$155","v":34},{"$f":"'Single Work Tab'!$D$155","v":42},{"$f":"'Single Work Tab'!$E$155","v":34},{"$f":"'Single Work Tab'!$F$155","v":34},{"$f":"'Single Work Tab'!$G$155","v":46},{"$f":"'Single Work Tab'!$H$155","v":38},{"$f":"'Single Work Tab'!$I$155","v":51}]
[null,null,"linked to Single Work Tab inputs"]
[]
[]
[]
[]
[]
[]
[]
[]
[]
[]
[]
[]
[]
[null,null,null,null,null,null,null,null,null,null,null,null,null,null,null,null,null,null,null," "]

{"sheet":"Dual Work Tab (2)","index":10,"n_rows":159,"n_cols":18,"rows_kept":159,"cut":false,"hidden":true,"merged":[]}
[null,"Dual Model Worksheet #2 with working Calculated Values"]
[]
[null,"Arrivals Pairing Probability Matrix",null,"(chance of landing behind an aircraft from each class)",null,null,null,null,null,null,0,"Calculated Cells"]
[null,null,"Small - S","Small - T","Small +","Large-TP","Large-Jet","Large-757","Heavy",null,0,"Linked Input Cells"]
[null,"Small - S",{"$f":"'Dual Model'!$C22*'Dual Model'!C22","v":0},{"$f":"'Dual Model'!$C22*'Dual Model'!D22","v":0},{"$f":"'Dual Model'!$C22*'Dual Model'!E22","v":0},{"$f":"'Dual Model'!$C22*'Dual Model'!F22","v":0},{"$f":"'Dual Model'!$C22*'Dual Model'!G22","v":0},{"$f":"'Dual Model'!$C22*'Dual Model'!H22","v":0},{"$f":"'Dual Model'!$C22*'Dual Model'!I22","v":0},null,0,"Linked Cells (within this worksheet)"]
[null,"Small - T",{"$f":"'Dual Model'!$D22*'Dual Model'!C22","v":0},{"$f":"'Dual Model'!$D22*'Dual Model'!D22","v":1.0000000000000002E-2},{"$f":"'Dual Model'!$D22*'Dual Model'!E22","v":0},{"$f":"'Dual Model'!$D22*'Dual Model'!F22","v":0.03},{"$f":"'Dual Model'!$D22*'Dual Model'!G22","v":0.05},{"$f":"'Dual Model'!$D22*'Dual Model'!H22","v":5.000000000000001E-3},{"$f":"'Dual Model'!$D22*'Dual Model'!I22","v":5.000000000000001E-3}]
[null,"Small +",{"$f":"'Dual Model'!$E22*'Dual Model'!C22","v":0},{"$f":"'Dual Model'!$E22*'Dual Model'!D22","v":0},{"$f":"'Dual Model'!$E22*'Dual Model'!E22","v":0},{"$f":"'Dual Model'!$E22*'Dual Model'!F22","v":0},{"$f":"'Dual Model'!$E22*'Dual Model'!G22","v":0},{"$f":"'Dual Model'!$E22*'Dual Model'!H22","v":0},{"$f":"'Dual Model'!$E22*'Dual Model'!I22","v":0}]
[null,"Large-TP",{"$f":"'Dual Model'!$F22*'Dual Model'!C22","v":0},{"$f":"'Dual Model'!$F22*'Dual Model'!D22","v":0.03},{"$f":"'Dual Model'!$F22*'Dual Model'!E22","v":0},{"$f":"'Dual Model'!$F22*'Dual Model'!F22","v":0.09},{"$f":"'Dual Model'!$F22*'Dual Model'!G22","v":0.15},{"$f":"'Dual Model'!$F22*'Dual Model'!H22","v":1.4999999999999999E-2},{"$f":"'Dual Model'!$F22*'Dual Model'!I22","v":1.4999999999999999E-2}]
[null,"Large-Jet",{"$f":"'Dual Model'!$G22*'Dual Model'!C22","v":0},{"$f":"'Dual Model'!$G22*'Dual Model'!D22","v":0.05},{"$f":"'Dual Model'!$G22*'Dual Model'!E22","v":0},{"$f":"'Dual Model'!$G22*'Dual Model'!F22","v":0.15},{"$f":"'Dual Model'!$G22*'Dual Model'!G22","v":0.25},{"$f":"'Dual Model'!$G22*'Dual Model'!H22","v":2.5000000000000001E-2},{"$f":"'Dual Model'!$G22*'Dual Model'!I22","v":2.5000000000000001E-2}]
[null,"Large-757",{"$f":"'Dual Model'!$H22*'Dual Model'!C22","v":0},{"$f":"'Dual Model'!$H22*'Dual Model'!D22","v":5.000000000000001E-3},{"$f":"'Dual Model'!$H22*'Dual Model'!E22","v":0},{"$f":"'Dual Model'!$H22*'Dual Model'!F22","v":1.4999999999999999E-2},{"$f":"'Dual Model'!$H22*'Dual Model'!G22","v":2.5000000000000001E-2},{"$f":"'Dual Model'!$H22*'Dual Model'!H22","v":2.5000000000000005E-3},{"$f":"'Dual Model'!$H22*'Dual Model'!I22","v":2.5000000000000005E-3},"Summary Check"]
[null,"Heavy",{"$f":"'Dual Model'!$I22*'Dual Model'!C22","v":0},{"$f":"'Dual Model'!$I22*'Dual Model'!D22","v":5.000000000000001E-3},{"$f":"'Dual Model'!$I22*'Dual Model'!E22","v":0},{"$f":"'Dual Model'!$I22*'Dual Model'!F22","v":1.4999999999999999E-2},{"$f":"'Dual Model'!$I22*'Dual Model'!G22","v":2.5000000000000001E-2},{"$f":"'Dual Model'!$I22*'Dual Model'!H22","v":2.5000000000000005E-3},{"$f":"'Dual Model'!$I22*'Dual Model'!I22","v":2.5000000000000005E-3},"Total = ",{"$f":"SUM(C5:I11)","v":0.99999999999999989}]
[]
[null,"VMC Required Separation for arrivals following an aircraft from each class",null,null,null,"Distance in Nautical Miles"]
[null,null,"Small - S","Small - T","Small +","Large-TP","Large-Jet","Large-757","Heavy"]
[null,"Small - S",{"$f":"'Dual Model'!D41+'Dual Model'!$H$36","v":1.9},{"$f":"$C$15","v":1.9},1.9,1.9,1.9,1.9,1.9]
[null,"Small - T",{"$f":"$C$15","v":1.9},1.9,1.9,1.9,1.9,1.9,1.9]
[null,"Small +",{"$f":"'Dual Model'!D42+'Dual Model'!$H$36","v":1.9},{"$f":"$C$17","v":1.9},{"$f":"$C$17","v":1.9},{"$f":"'Dual Model'!D43+'Dual Model'!$H$36","v":1.9},{"$f":"$F$17","v":1.9},{"$f":"$F$17","v":1.9},{"$f":"$F$17","v":1.9}]
[null,"Large-TP",{"$f":"'Dual Model'!D44+'Dual Model'!$H$36","v":2.7},{"$f":"$C$18","v":2.7},{"$f":"$C$18","v":2.7},{"$f":"'Dual Model'!D45+'Dual Model'!$H$36","v":1.9},{"$f":"$F$18","v":1.9},{"$f":"$F$18","v":1.9},{"$f":"$F$18","v":1.9}]
[null,"Large-Jet",{"$f":"'Dual Model'!D44+'Dual Model'!$H$36","v":2.7},{"$f":"$C$19","v":2.7},{"$f":"$C$19","v":2.7},{"$f":"'Dual Model'!D45+'Dual Model'!$H$36","v":1.9},{"$f":"$F$19","v":1.9},{"$f":"$F$19","v":1.9},{"$f":"$F$19","v":1.9}]
[null,"Large-757",{"$f":"'Dual Model'!D46+'Dual Model'!$H$36","v":3.7},{"$f":"$C$20","v":3.7},{"$f":"$C$20","v":3.7},{"$f":"'Dual Model'!D47+'Dual Model'!$H$36","v":2.7},{"$f":"$F$20","v":2.7},{"$f":"$F$20","v":2.7},{"$f":"$F$20","v":2.7}]
[null,"Heavy",{"$f":"'Dual Model'!D48+'Dual Model'!$H$36","v":4.5999999999999996},{"$f":"$C$21","v":4.5999999999999996},{"$f":"'Dual Model'!D49+'Dual Model'!$H$36","v":3.6},{"$f":"$E$21","v":3.6},{"$f":"E21","v":3.6},{"$f":"$E$21","v":3.6},{"$f":"'Dual Model'!D50+'Dual Model'!$H$36","v":2.7}]
[]
[null,"IMC Required Separation for arrivals following an aircraft from each class",null,null,null,"Distance in Nautical Miles"]
[null,null,"Small - S","Small - T","Small +","Large-TP","Large-Jet","Large-757","Heavy"]
[null,"Small - S",{"$f":"'Dual Model'!E41+'Dual Model'!$H$36","v":3},{"$f":"$C$25","v":3},3,3,3,3,3]
[null,"Small - T",{"$f":"$C$25","v":3},3,3,3,3,3,3]
[null,"Small +",{"$f":"'Dual Model'!E42+'Dual Model'!$H$36","v":3},{"$f":"$C$27","v":3},{"$f":"$C$27","v":3},{"$f":"'Dual Model'!E43+'Dual Model'!$H$36","v":3},{"$f":"$F$27","v":3},{"$f":"$F$27","v":3},{"$f":"$F$27","v":3}]
[null,"Large-TP",{"$f":"'Dual Model'!E44+'Dual Model'!$H$36","v":4},{"$f":"$C$28","v":4},{"$f":"$C$28","v":4},{"$f":"'Dual Model'!E45+'Dual Model'!$H$36","v":3},{"$f":"$F$28","v":3},3,3]
[null,"Large-Jet",{"$f":"'Dual Model'!E44+'Dual Model'!$H$36","v":4},{"$f":"$C$28","v":4},{"$f":"$C$28","v":4},{"$f":"'Dual Model'!E45+'Dual Model'!$H$36","v":3},3,3,3]
[null,"Large-757",{"$f":"'Dual Model'!E46+'Dual Model'!$H$36","v":5},{"$f":"$C$30","v":5},{"$f":"$C$30","v":5},{"$f":"'Dual Model'!E47+'Dual Model'!$H$36","v":4},{"$f":"$F$30","v":4},{"$f":"$F$30","v":4},{"$f":"$F$30","v":4}]
[null,"Heavy",{"$f":"'Dual Model'!E48+'Dual Model'!$H$36","v":6},{"$f":"$C$31","v":6},{"$f":"'Dual Model'!E49+'Dual Model'!$H$36","v":5},{"$f":"$E$31","v":5},{"$f":"$E$31","v":5},{"$f":"$E$31","v":5},{"$f":"'Dual Model'!E50+'Dual Model'!$H$36","v":4}]
[]
[null,"VMC Required Separation for departures following an aircraft from each class",null,null,null,"Time in seconds"]
[null,null,"Small - S","Small - T","Small +","Large-TP","Large-Jet","Large-757","Heavy"]
[null,"Small - S",{"$f":"'Dual Model'!$D$54+'Dual Model'!$C$37","v":45},{"$f":"$C$35","v":45},{"$f":"$C$35","v":45},{"$f":"'Dual Model'!$D$55+'Dual Model'!$C$37","v":55},{"$f":"$F$35","v":55},55,{"$f":"'Dual Model'!$D$56+'Dual Model'!$C$37","v":60}]
[null,"Small - T",{"$f":"$C$35","v":45},45,45,{"$f":"$F$35","v":55},55,55,{"$f":"$I$35","v":60}]
[null,"Small +",45,45,45,{"$f":"$F$35","v":55},55,55,{"$f":"$I$35","v":60}]
[null,"Large-TP",{"$f":"'Dual Model'!$D$57+'Dual Model'!$C$37","v":90},{"$f":"$C$38","v":90},{"$f":"$C$38","v":90},{"$f":"'Dual Model'!$D$58+'Dual Model'!$C$37","v":70},{"$f":"$F$38","v":70},70,70]
[null,"Large-Jet",{"$f":"$C$38","v":90},{"$f":"$C$38","v":90},{"$f":"$C$38","v":90},{"$f":"$F$38","v":70},70,70,70]
[null,"Large-757",{"$f":"$C$41","v":130},130,130,130,130,130,{"$f":"$I$41","v":100}]
[null,"Heavy",{"$f":"'Dual Model'!$D$59+'Dual Model'!$C$37","v":130},{"$f":"$C$41","v":130},{"$f":"$C$41","v":130},{"$f":"$C$41","v":130},{"$f":"$C$41","v":130},{"$f":"$C$41","v":130},{"$f":"'Dual Model'!$D$60+'Dual Model'!$C$37","v":100}]
[]
[null,"IMC Required Separation for departures following an aircraft from each class",null,null,null,"Time in seconds"]
[null,null,"Small - S","Small - T","Small +","Large-TP","Large-Jet","Large-757","Heavy"]
[null,"Small - S",{"$f":"'Dual Model'!$E$54+'Dual Model'!$C$37","v":70},{"$f":"$C$45","v":70},70,{"$f":"'Dual Model'!$E$55+'Dual Model'!$C$37","v":70},{"$f":"$F$45","v":70},70,{"$f":"'Dual Model'!$E$56+'Dual Model'!$C$37","v":70}]
[null,"Small - T",{"$f":"$C$45","v":70},70,70,{"$f":"$F$45","v":70},70,70,{"$f":"$I$45","v":70}]
[null,"Small +",{"$f":"$C$45","v":70},70,70,{"$f":"$F$45","v":70},70,70,{"$f":"$I$45","v":70}]
[null,"Large-TP",{"$f":"'Dual Model'!$E$57+'Dual Model'!$C$37","v":90},{"$f":"$C$48","v":90},{"$f":"$C$48","v":90},{"$f":"'Dual Model'!$E$58+'Dual Model'!$C$37","v":70},{"$f":"$F$48","v":70},70,70]
[null,"Large-Jet",{"$f":"$C$48","v":90},{"$f":"$C$48","v":90},{"$f":"$C$48","v":90},{"$f":"$F$48","v":70},70,70,70]
[null,"Large-757",{"$f":"$C$51","v":130},130,130,130,130,130,{"$f":"$I$51","v":100}]
[null,"Heavy",{"$f":"'Dual Model'!$E$59+'Dual Model'!$C$37","v":130},{"$f":"$C$51","v":130},{"$f":"$C$51","v":130},{"$f":"$C$51","v":130},{"$f":"$C$51","v":130},{"$f":"$C$51","v":130},{"$f":"'Dual Model'!$E$60+'Dual Model'!$C$37","v":100}]
[]
[null,null,null," "]
[null,"VMC Required Separation for arrivals following an aircraft from each class",null,null,null,"Time in Seconds"]
[null,null,"Small - S","Small - T","Small +","Large-TP","Large-Jet","Large-757","Heavy"]
[null,"Small - S",{"$f":"MAXA(3600*C15/('Dual Model'!$C$28)+'Dual Model'!$H$14*'Dual Model'!$H$12+MAXA(0,'Dual Model'!$C$14*3600*(1/'Dual Model'!$C$28-1/'Dual Model'!$C$28)),'Dual Model'!$C$25+'Dual Model'!$H$14*SQRT('Dual Model'!$H$12^2+'Dual Model'!$H$13^2))+'Dual Model'!$C$36","v":105.61},{"$f":"MAXA(3600*D15/('Dual Model'!$D$28)+'Dual Model'!$H$14*'Dual Model'!$H$12+MAXA(0,'Dual Model'!$C$14*3600*(1/'Dual Model'!$D$28-1/'Dual Model'!$C$28)),'Dual Model'!$C$25+'Dual Model'!$H$14*SQRT('Dual Model'!$H$12^2+'Dual Model'!$H$13^2))+'Dual Model'!$C$36","v":98.01},{"$f":"MAXA(3600*E15/('Dual Model'!$E$28)+'Dual Model'!$H$14*'Dual Model'!$H$12+MAXA(0,'Dual Model'!$C$14*3600*(1/'Dual Model'!$E$28-1/'Dual Model'!$C$28)),'Dual Model'!$C$25+'Dual Model'!$H$14*SQRT('Dual Model'!$H$12^2+'Dual Model'!$H$13^2))+'Dual Model'!$C$36","v":86.61},{"$f":"MAXA(3600*F15/('Dual Model'!$F$28)+'Dual Model'!$H$14*'Dual Model'!$H$12+MAXA(0,'Dual Model'!$C$14*3600*(1/'Dual Model'!$F$28-1/'Dual Model'!$C$28)),'Dual Model'!$C$25+'Dual Model'!$H$14*SQRT('Dual Model'!$H$12^2+'Dual Model'!$H$13^2))+'Dual Model'!$C$36","v":82.225384615384613},{"$f":"MAXA(3600*G15/('Dual Model'!$G$28)+'Dual Model'!$H$14*'Dual Model'!$H$12+MAXA(0,'Dual Model'!$C$14*3600*(1/'Dual Model'!$G$28-1/'Dual Model'!$C$28)),'Dual Model'!$C$25+'Dual Model'!$H$14*SQRT('Dual Model'!$H$12^2+'Dual Model'!$H$13^2))+'Dual Model'!$C$36","v":80.276666666666671},{"$f":"MAXA(3600*H15/('Dual Model'!$H$28)+'Dual Model'!$H$14*'Dual Model'!$H$12+MAXA(0,'Dual Model'!$C$14*3600*(1/'Dual Model'!$H$28-1/'Dual Model'!$C$28)),'Dual Model'!$C$25+'Dual Model'!$H$14*SQRT('Dual Model'!$H$12^2+'Dual Model'!$H$13^2))+'Dual Model'!$C$36","v":78.467142857142846},{"$f":"MAXA(3600*I15/('Dual Model'!$I$28)+'Dual Model'!$H$14*'Dual Model'!$H$12+MAXA(0,'Dual Model'!$C$14*3600*(1/'Dual Model'!$I$28-1/'Dual Model'!$C$28)),'Dual Model'!$C$25+'Dual Model'!$H$14*SQRT('Dual Model'!$H$12^2+'Dual Model'!$H$13^2))+'Dual Model'!$C$36","v":75.210000000000008}]
[null,"Small - T",{"$f":"MAXA(3600*C16/('Dual Model'!$C$28)+'Dual Model'!$H$14*'Dual Model'!$H$12+MAXA(0,'Dual Model'!$C$14*3600*(1/'Dual Model'!$C$28-1/'Dual Model'!$D$28)),'Dual Model'!$D$25+'Dual Model'!$H$14*SQRT('Dual Model'!$H$12^2+'Dual Model'!$H$13^2))+'Dual Model'!$C$36","v":133.61000000000001},{"$f":"MAXA(3600*D16/('Dual Model'!$D$28)+'Dual Model'!$H$14*'Dual Model'!$H$12+MAXA(0,'Dual Model'!$C$14*3600*(1/'Dual Model'!$D$28-1/'Dual Model'!$D$28)),'Dual Model'!$D$25+'Dual Model'!$H$14*SQRT('Dual Model'!$H$12^2+'Dual Model'!$H$13^2))+'Dual Model'!$C$36","v":98.01},{"$f":"MAXA(3600*E16/('Dual Model'!$E$28)+'Dual Model'!$H$14*'Dual Model'!$H$12+MAXA(0,'Dual Model'!$C$14*3600*(1/'Dual Model'!$E$28-1/'Dual Model'!$D$28)),'Dual Model'!$D$25+'Dual Model'!$H$14*SQRT('Dual Model'!$H$12^2+'Dual Model'!$H$13^2))+'Dual Model'!$C$36","v":86.61},{"$f":"MAXA(3600*F16/('Dual Model'!$F$28)+'Dual Model'!$H$14*'Dual Model'!$H$12+MAXA(0,'Dual Model'!$C$14*3600*(1/'Dual Model'!$F$28-1/'Dual Model'!$D$28)),'Dual Model'!$D$25+'Dual Model'!$H$14*SQRT('Dual Model'!$H$12^2+'Dual Model'!$H$13^2))+'Dual Model'!$C$36","v":82.225384615384613},{"$f":"MAXA(3600*G16/('Dual Model'!$G$28)+'Dual Model'!$H$14*'Dual Model'!$H$12+MAXA(0,'Dual Model'!$C$14*3600*(1/'Dual Model'!$G$28-1/'Dual Model'!$D$28)),'Dual Model'!$D$25+'Dual Model'!$H$14*SQRT('Dual Model'!$H$12^2+'Dual Model'!$H$13^2))+'Dual Model'!$C$36","v":80.276666666666671},{"$f":"MAXA(3600*H16/('Dual Model'!$H$28)+'Dual Model'!$H$14*'Dual Model'!$H$12+MAXA(0,'Dual Model'!$C$14*3600*(1/'Dual Model'!$H$28-1/'Dual Model'!$D$28)),'Dual Model'!$C$25+'Dual Model'!$H$14*SQRT('Dual Model'!$H$12^2+'Dual Model'!$H$13^2))+'Dual Model'!$C$36","v":78.467142857142846},{"$f":"MAXA(3600*I16/('Dual Model'!$I$28)+'Dual Model'!$H$14*'Dual Model'!$H$12+MAXA(0,'Dual Model'!$C$14*3600*(1/'Dual Model'!$I$28-1/'Dual Model'!$D$28)),'Dual Model'!$D$25+'Dual Model'!$H$14*SQRT('Dual Model'!$H$12^2+'Dual Model'!$H$13^2))+'Dual Model'!$C$36","v":75.210000000000008}]
[null,"Small +",{"$f":"MAXA(3600*C17/('Dual Model'!$C$28)+'Dual Model'!$H$14*'Dual Model'!$H$12+MAXA(0,'Dual Model'!$C$14*3600*(1/'Dual Model'!$C$28-1/'Dual Model'!$E$28)),'Dual Model'!$E$25+'Dual Model'!$H$14*SQRT('Dual Model'!$H$12^2+'Dual Model'!$H$13^2))+'Dual Model'!$C$36","v":175.61},{"$f":"MAXA(3600*D17/('Dual Model'!$D$28)+'Dual Model'!$H$14*'Dual Model'!$H$12+MAXA(0,'Dual Model'!$C$14*3600*(1/'Dual Model'!$D$28-1/'Dual Model'!$E$28)),'Dual Model'!$E$25+'Dual Model'!$H$14*SQRT('Dual Model'!$H$12^2+'Dual Model'!$H$13^2))+'Dual Model'!$C$36","v":140.01000000000002},{"$f":"MAXA(3600*E17/('Dual Model'!$E$28)+'Dual Model'!$H$14*'Dual Model'!$H$12+MAXA(0,'Dual Model'!$C$14*3600*(1/'Dual Model'!$E$28-1/'Dual Model'!$E$28)),'Dual Model'!$E$25+'Dual Model'!$H$14*SQRT('Dual Model'!$H$12^2+'Dual Model'!$H$13^2))+'Dual Model'!$C$36","v":86.61},{"$f":"MAXA(3600*F17/('Dual Model'!$F$28)+'Dual Model'!$H$14*'Dual Model'!$H$12+MAXA(0,'Dual Model'!$C$14*3600*(1/'Dual Model'!$F$28-1/'Dual Model'!$E$28)),'Dual Model'!$E$25+'Dual Model'!$H$14*SQRT('Dual Model'!$H$12^2+'Dual Model'!$H$13^2))+'Dual Model'!$C$36","v":82.225384615384613},{"$f":"MAXA(3600*G17/('Dual Model'!$G$28)+'Dual Model'!$H$14*'Dual Model'!$H$12+MAXA(0,'Dual Model'!$C$14*3600*(1/'Dual Model'!$G$28-1/'Dual Model'!$E$28)),'Dual Model'!$E$25+'Dual Model'!$H$14*SQRT('Dual Model'!$H$12^2+'Dual Model'!$H$13^2))+'Dual Model'!$C$36","v":80.276666666666671},{"$f":"MAXA(3600*H17/('Dual Model'!$H$28)+'Dual Model'!$H$14*'Dual Model'!$H$12+MAXA(0,'Dual Model'!$C$14*3600*(1/'Dual Model'!$H$28-1/'Dual Model'!$E$28)),'Dual Model'!$C$25+'Dual Model'!$H$14*SQRT('Dual Model'!$H$12^2+'Dual Model'!$H$13^2))+'Dual Model'!$C$36","v":78.467142857142846},{"$f":"MAXA(3600*I17/('Dual Model'!$I$28)+'Dual Model'!$H$14*'Dual Model'!$H$12+MAXA(0,'Dual Model'!$C$14*3600*(1/'Dual Model'!$I$28-1/'Dual Model'!$E$28)),'Dual Model'!$E$25+'Dual Model'!$H$14*SQRT('Dual Model'!$H$12^2+'Dual Model'!$H$13^2))+'Dual Model'!$C$36","v":75.210000000000008}]
[null,"Large-TP",{"$f":"MAXA(3600*C18/('Dual Model'!$C$28)+'Dual Model'!$H$14*'Dual Model'!$H$12+MAXA(0,'Dual Model'!$C$14*3600*(1/'Dual Model'!$C$28-1/'Dual Model'!$F$28)),'Dual Model'!$F$25+'Dual Model'!$H$14*SQRT('Dual Model'!$H$12^2+'Dual Model'!$H$13^2))+'Dual Model'!$C$36","v":223.76384615384617},{"$f":"MAXA(3600*D18/('Dual Model'!$D$28)+'Dual Model'!$H$14*'Dual Model'!$H$12+MAXA(0,'Dual Model'!$C$14*3600*(1/'Dual Model'!$D$28-1/'Dual Model'!$F$28)),'Dual Model'!$F$25+'Dual Model'!$H$14*SQRT('Dual Model'!$H$12^2+'Dual Model'!$H$13^2))+'Dual Model'!$C$36","v":184.96384615384613},{"$f":"MAXA(3600*E18/('Dual Model'!$E$28)+'Dual Model'!$H$14*'Dual Model'!$H$12+MAXA(0,'Dual Model'!$C$14*3600*(1/'Dual Model'!$E$28-1/'Dual Model'!$F$28)),'Dual Model'!$F$25+'Dual Model'!$H$14*SQRT('Dual Model'!$H$12^2+'Dual Model'!$H$13^2))+'Dual Model'!$C$36","v":126.76384615384615},{"$f":"MAXA(3600*F18/('Dual Model'!$F$28)+'Dual Model'!$H$14*'Dual Model'!$H$12+MAXA(0,'Dual Model'!$C$14*3600*(1/'Dual Model'!$F$28-1/'Dual Model'!$F$28)),'Dual Model'!$F$25+'Dual Model'!$H$14*SQRT('Dual Model'!$H$12^2+'Dual Model'!$H$13^2))+'Dual Model'!$C$36","v":82.225384615384613},{"$f":"MAXA(3600*G18/('Dual Model'!$G$28)+'Dual Model'!$H$14*'Dual Model'!$H$12+MAXA(0,'Dual Model'!$C$14*3600*(1/'Dual Model'!$G$28-1/'Dual Model'!$F$28)),'Dual Model'!$F$25+'Dual Model'!$H$14*SQRT('Dual Model'!$H$12^2+'Dual Model'!$H$13^2))+'Dual Model'!$C$36","v":80.276666666666671},{"$f":"MAXA(3600*H18/('Dual Model'!$H$28)+'Dual Model'!$H$14*'Dual Model'!$H$12+MAXA(0,'Dual Model'!$C$14*3600*(1/'Dual Model'!$H$28-1/'Dual Model'!$F$28)),'Dual Model'!$C$25+'Dual Model'!$H$14*SQRT('Dual Model'!$H$12^2+'Dual Model'!$H$13^2))+'Dual Model'!$C$36","v":78.467142857142846},{"$f":"MAXA(3600*I18/('Dual Model'!$I$28)+'Dual Model'!$H$14*'Dual Model'!$H$12+MAXA(0,'Dual Model'!$C$14*3600*(1/'Dual Model'!$I$28-1/'Dual Model'!$F$28)),'Dual Model'!$F$25+'Dual Model'!$H$14*SQRT('Dual Model'!$H$12^2+'Dual Model'!$H$13^2))+'Dual Model'!$C$36","v":76.211680505861906}]
[null,"Large-Jet",{"$f":"MAXA(3600*C19/('Dual Model'!$C$28)+'Dual Model'!$H$14*'Dual Model'!$H$12+MAXA(0,'Dual Model'!$C$14*3600*(1/'Dual Model'!$C$28-1/'Dual Model'!$G$28)),'Dual Model'!$G$25+'Dual Model'!$H$14*SQRT('Dual Model'!$H$12^2+'Dual Model'!$H$13^2))+'Dual Model'!$C$36","v":230.94333333333336},{"$f":"MAXA(3600*D19/('Dual Model'!$D$28)+'Dual Model'!$H$14*'Dual Model'!$H$12+MAXA(0,'Dual Model'!$C$14*3600*(1/'Dual Model'!$D$28-1/'Dual Model'!$G$28)),'Dual Model'!$G$25+'Dual Model'!$H$14*SQRT('Dual Model'!$H$12^2+'Dual Model'!$H$13^2))+'Dual Model'!$C$36","v":192.14333333333332},{"$f":"MAXA(3600*E19/('Dual Model'!$E$28)+'Dual Model'!$H$14*'Dual Model'!$H$12+MAXA(0,'Dual Model'!$C$14*3600*(1/'Dual Model'!$E$28-1/'Dual Model'!$G$28)),'Dual Model'!$G$25+'Dual Model'!$H$14*SQRT('Dual Model'!$H$12^2+'Dual Model'!$H$13^2))+'Dual Model'!$C$36","v":133.94333333333333},{"$f":"MAXA(3600*F19/('Dual Model'!$F$28)+'Dual Model'!$H$14*'Dual Model'!$H$12+MAXA(0,'Dual Model'!$C$14*3600*(1/'Dual Model'!$F$28-1/'Dual Model'!$G$28)),'Dual Model'!$G$25+'Dual Model'!$H$14*SQRT('Dual Model'!$H$12^2+'Dual Model'!$H$13^2))+'Dual Model'!$C$36","v":89.404871794871795},{"$f":"MAXA(3600*G19/('Dual Model'!$G$28)+'Dual Model'!$H$14*'Dual Model'!$H$12+MAXA(0,'Dual Model'!$C$14*3600*(1/'Dual Model'!$G$28-1/'Dual Model'!$G$28)),'Dual Model'!$G$25+'Dual Model'!$H$14*SQRT('Dual Model'!$H$12^2+'Dual Model'!$H$13^2))+'Dual Model'!$C$36","v":80.276666666666671},{"$f":"MAXA(3600*H19/('Dual Model'!$H$28)+'Dual Model'!$H$14*'Dual Model'!$H$12+MAXA(0,'Dual Model'!$C$14*3600*(1/'Dual Model'!$H$28-1/'Dual Model'!$G$28)),'Dual Model'!$C$25+'Dual Model'!$H$14*SQRT('Dual Model'!$H$12^2+'Dual Model'!$H$13^2))+'Dual Model'!$C$36","v":78.467142857142846},{"$f":"MAXA(3600*I19/('Dual Model'!$I$28)+'Dual Model'!$H$14*'Dual Model'!$H$12+MAXA(0,'Dual Model'!$C$14*3600*(1/'Dual Model'!$I$28-1/'Dual Model'!$G$28)),'Dual Model'!$G$25+'Dual Model'!$H$14*SQRT('Dual Model'!$H$12^2+'Dual Model'!$H$13^2))+'Dual Model'!$C$36","v":77.211680505861906}]
[null,"Large-757",{"$f":"MAXA(3600*C20/('Dual Model'!$C$28)+'Dual Model'!$H$14*'Dual Model'!$H$12+MAXA(0,'Dual Model'!$C$14*3600*(1/'Dual Model'!$C$28-1/'Dual Model'!$H$28)),'Dual Model'!$G$25+'Dual Model'!$H$14*SQRT('Dual Model'!$H$12^2+'Dual Model'!$H$13^2))+'Dual Model'!$C$36","v":277.61},{"$f":"MAXA(3600*D20/('Dual Model'!$D$28)+'Dual Model'!$H$14*'Dual Model'!$H$12+MAXA(0,'Dual Model'!$C$14*3600*(1/'Dual Model'!$D$28-1/'Dual Model'!$H$28)),'Dual Model'!$G$25+'Dual Model'!$H$14*SQRT('Dual Model'!$H$12^2+'Dual Model'!$H$13^2))+'Dual Model'!$C$36","v":234.81},{"$f":"MAXA(3600*E20/('Dual Model'!$E$28)+'Dual Model'!$H$14*'Dual Model'!$H$12+MAXA(0,'Dual Model'!$C$14*3600*(1/'Dual Model'!$E$28-1/'Dual Model'!$H$28)),'Dual Model'!$G$25+'Dual Model'!$H$14*SQRT('Dual Model'!$H$12^2+'Dual Model'!$H$13^2))+'Dual Model'!$C$36","v":170.61},{"$f":"MAXA(3600*F20/('Dual Model'!$F$28)+'Dual Model'!$H$14*'Dual Model'!$H$12+MAXA(0,'Dual Model'!$C$14*3600*(1/'Dual Model'!$F$28-1/'Dual Model'!$H$28)),'Dual Model'!$G$25+'Dual Model'!$H$14*SQRT('Dual Model'!$H$12^2+'Dual Model'!$H$13^2))+'Dual Model'!$C$36","v":118.22538461538464},{"$f":"MAXA(3600*G20/('Dual Model'!$G$28)+'Dual Model'!$H$14*'Dual Model'!$H$12+MAXA(0,'Dual Model'!$C$14*3600*(1/'Dual Model'!$G$28-1/'Dual Model'!$H$28)),'Dual Model'!$G$25+'Dual Model'!$H$14*SQRT('Dual Model'!$H$12^2+'Dual Model'!$H$13^2))+'Dual Model'!$C$36","v":108.27666666666669},{"$f":"MAXA(3600*H20/('Dual Model'!$H$28)+'Dual Model'!$H$14*'Dual Model'!$H$12+MAXA(0,'Dual Model'!$C$14*3600*(1/'Dual Model'!$H$28-1/'Dual Model'!$H$28)),'Dual Model'!$C$25+'Dual Model'!$H$14*SQRT('Dual Model'!$H$12^2+'Dual Model'!$H$13^2))+'Dual Model'!$C$36","v":99.03857142857143},{"$f":"MAXA(3600*I20/('Dual Model'!$I$28)+'Dual Model'!$H$14*'Dual Model'!$H$12+MAXA(0,'Dual Model'!$C$14*3600*(1/'Dual Model'!$I$28-1/'Dual Model'!$H$28)),'Dual Model'!$G$25+'Dual Model'!$H$14*SQRT('Dual Model'!$H$12^2+'Dual Model'!$H$13^2))+'Dual Model'!$C$36","v":94.41}]
[null,"Heavy",{"$f":"MAXA(3600*C21/('Dual Model'!$C$28)+'Dual Model'!$H$14*'Dual Model'!$H$12+MAXA(0,'Dual Model'!$C$14*3600*(1/'Dual Model'!$C$28-1/'Dual Model'!$I$28)),'Dual Model'!$I$25+'Dual Model'!$H$14*SQRT('Dual Model'!$H$12^2+'Dual Model'!$H$13^2))+'Dual Model'!$C$36","v":325.61},{"$f":"MAXA(3600*D21/('Dual Model'!$D$28)+'Dual Model'!$H$14*'Dual Model'!$H$12+MAXA(0,'Dual Model'!$C$14*3600*(1/'Dual Model'!$D$28-1/'Dual Model'!$I$28)),'Dual Model'!$I$25+'Dual Model'!$H$14*SQRT('Dual Model'!$H$12^2+'Dual Model'!$H$13^2))+'Dual Model'!$C$36","v":279.20999999999998},{"$f":"MAXA(3600*E21/('Dual Model'!$E$28)+'Dual Model'!$H$14*'Dual Model'!$H$12+MAXA(0,'Dual Model'!$C$14*3600*(1/'Dual Model'!$E$28-1/'Dual Model'!$I$28)),'Dual Model'!$I$25+'Dual Model'!$H$14*SQRT('Dual Model'!$H$12^2+'Dual Model'!$H$13^2))+'Dual Model'!$C$36","v":179.61},{"$f":"MAXA(3600*F21/('Dual Model'!$F$28)+'Dual Model'!$H$14*'Dual Model'!$H$12+MAXA(0,'Dual Model'!$C$14*3600*(1/'Dual Model'!$F$28-1/'Dual Model'!$I$28)),'Dual Model'!$I$25+'Dual Model'!$H$14*SQRT('Dual Model'!$H$12^2+'Dual Model'!$H$13^2))+'Dual Model'!$C$36","v":155.14846153846153},{"$f":"MAXA(3600*G21/('Dual Model'!$G$28)+'Dual Model'!$H$14*'Dual Model'!$H$12+MAXA(0,'Dual Model'!$C$14*3600*(1/'Dual Model'!$G$28-1/'Dual Model'!$I$28)),'Dual Model'!$I$25+'Dual Model'!$H$14*SQRT('Dual Model'!$H$12^2+'Dual Model'!$H$13^2))+'Dual Model'!$C$36","v":144.27666666666667},{"$f":"MAXA(3600*H21/('Dual Model'!$H$28)+'Dual Model'!$H$14*'Dual Model'!$H$12+MAXA(0,'Dual Model'!$C$14*3600*(1/'Dual Model'!$H$28-1/'Dual Model'!$I$28)),'Dual Model'!$C$25+'Dual Model'!$H$14*SQRT('Dual Model'!$H$12^2+'Dual Model'!$H$13^2))+'Dual Model'!$C$36","v":134.18142857142854},{"$f":"MAXA(3600*I21/('Dual Model'!$I$28)+'Dual Model'!$H$14*'Dual Model'!$H$12+MAXA(0,'Dual Model'!$C$14*3600*(1/'Dual Model'!$I$28-1/'Dual Model'!$I$28)),'Dual Model'!$I$25+'Dual Model'!$H$14*SQRT('Dual Model'!$H$12^2+'Dual Model'!$H$13^2))+'Dual Model'!$C$36","v":94.41}]
[]
[null,"IMC Required Separation for arrivals following an aircraft from each class",null,null,null,"Time in Seconds"]
[null,null,"Small - S","Small - T","Small +","Large-TP","Large-Jet","Large-757","Heavy"]
[null,"Small - S",{"$f":"MAXA(3600*C25/('Dual Model'!$C$28)+'Dual Model'!$H$14*'Dual Model'!$H$12+MAXA(0,'Dual Model'!$C$14*3600*(1/'Dual Model'!$C$28-1/'Dual Model'!$C$28)),'Dual Model'!$C$25+'Dual Model'!$H$14*SQRT('Dual Model'!$H$12^2+'Dual Model'!$H$13^2))+'Dual Model'!$C$36","v":149.61000000000001},{"$f":"MAXA(3600*D25/('Dual Model'!$D$28)+'Dual Model'!$H$14*'Dual Model'!$H$12+MAXA(0,'Dual Model'!$C$14*3600*(1/'Dual Model'!$D$28-1/'Dual Model'!$C$28)),'Dual Model'!$C$25+'Dual Model'!$H$14*SQRT('Dual Model'!$H$12^2+'Dual Model'!$H$13^2))+'Dual Model'!$C$36","v":137.61000000000001},{"$f":"MAXA(3600*E25/('Dual Model'!$E$28)+'Dual Model'!$H$14*'Dual Model'!$H$12+MAXA(0,'Dual Model'!$C$14*3600*(1/'Dual Model'!$E$28-1/'Dual Model'!$C$28)),'Dual Model'!$C$25+'Dual Model'!$H$14*SQRT('Dual Model'!$H$12^2+'Dual Model'!$H$13^2))+'Dual Model'!$C$36","v":119.61},{"$f":"MAXA(3600*F25/('Dual Model'!$F$28)+'Dual Model'!$H$14*'Dual Model'!$H$12+MAXA(0,'Dual Model'!$C$14*3600*(1/'Dual Model'!$F$28-1/'Dual Model'!$C$28)),'Dual Model'!$C$25+'Dual Model'!$H$14*SQRT('Dual Model'!$H$12^2+'Dual Model'!$H$13^2))+'Dual Model'!$C$36","v":112.68692307692308},{"$f":"MAXA(3600*G25/('Dual Model'!$G$28)+'Dual Model'!$H$14*'Dual Model'!$H$12+MAXA(0,'Dual Model'!$C$14*3600*(1/'Dual Model'!$G$28-1/'Dual Model'!$C$28)),'Dual Model'!$C$25+'Dual Model'!$H$14*SQRT('Dual Model'!$H$12^2+'Dual Model'!$H$13^2))+'Dual Model'!$C$36","v":109.61},{"$f":"MAXA(3600*H25/('Dual Model'!$H$28)+'Dual Model'!$H$14*'Dual Model'!$H$12+MAXA(0,'Dual Model'!$C$14*3600*(1/'Dual Model'!$H$28-1/'Dual Model'!$C$28)),'Dual Model'!$C$25+'Dual Model'!$H$14*SQRT('Dual Model'!$H$12^2+'Dual Model'!$H$13^2))+'Dual Model'!$C$36","v":106.75285714285714},{"$f":"MAXA(3600*I25/('Dual Model'!$I$28)+'Dual Model'!$H$14*'Dual Model'!$H$12+MAXA(0,'Dual Model'!$C$14*3600*(1/'Dual Model'!$I$28-1/'Dual Model'!$C$28)),'Dual Model'!$C$25+'Dual Model'!$H$14*SQRT('Dual Model'!$H$12^2+'Dual Model'!$H$13^2))+'Dual Model'!$C$36","v":101.61}]
[null,"Small - T",{"$f":"MAXA(3600*C26/('Dual Model'!$C$28)+'Dual Model'!$H$14*'Dual Model'!$H$12+MAXA(0,'Dual Model'!$C$14*3600*(1/'Dual Model'!$C$28-1/'Dual Model'!$D$28)),'Dual Model'!$D$25+'Dual Model'!$H$14*SQRT('Dual Model'!$H$12^2+'Dual Model'!$H$13^2))+'Dual Model'!$C$36","v":177.61},{"$f":"MAXA(3600*D26/('Dual Model'!$D$28)+'Dual Model'!$H$14*'Dual Model'!$H$12+MAXA(0,'Dual Model'!$C$14*3600*(1/'Dual Model'!$D$28-1/'Dual Model'!$D$28)),'Dual Model'!$D$25+'Dual Model'!$H$14*SQRT('Dual Model'!$H$12^2+'Dual Model'!$H$13^2))+'Dual Model'!$C$36","v":137.61000000000001},{"$f":"MAXA(3600*E26/('Dual Model'!$E$28)+'Dual Model'!$H$14*'Dual Model'!$H$12+MAXA(0,'Dual Model'!$C$14*3600*(1/'Dual Model'!$E$28-1/'Dual Model'!$D$28)),'Dual Model'!$D$25+'Dual Model'!$H$14*SQRT('Dual Model'!$H$12^2+'Dual Model'!$H$13^2))+'Dual Model'!$C$36","v":119.61},{"$f":"MAXA(3600*F26/('Dual Model'!$F$28)+'Dual Model'!$H$14*'Dual Model'!$H$12+MAXA(0,'Dual Model'!$C$14*3600*(1/'Dual Model'!$F$28-1/'Dual Model'!$D$28)),'Dual Model'!$D$25+'Dual Model'!$H$14*SQRT('Dual Model'!$H$12^2+'Dual Model'!$H$13^2))+'Dual Model'!$C$36","v":112.68692307692308},{"$f":"MAXA(3600*G26/('Dual Model'!$G$28)+'Dual Model'!$H$14*'Dual Model'!$H$12+MAXA(0,'Dual Model'!$C$14*3600*(1/'Dual Model'!$G$28-1/'Dual Model'!$D$28)),'Dual Model'!$D$25+'Dual Model'!$H$14*SQRT('Dual Model'!$H$12^2+'Dual Model'!$H$13^2))+'Dual Model'!$C$36","v":109.61},{"$f":"MAXA(3600*H26/('Dual Model'!$H$28)+'Dual Model'!$H$14*'Dual Model'!$H$12+MAXA(0,'Dual Model'!$C$14*3600*(1/'Dual Model'!$H$28-1/'Dual Model'!$C$28)),'Dual Model'!$D$25+'Dual Model'!$H$14*SQRT('Dual Model'!$H$12^2+'Dual Model'!$H$13^2))+'Dual Model'!$C$36","v":106.75285714285714},{"$f":"MAXA(3600*I26/('Dual Model'!$I$28)+'Dual Model'!$H$14*'Dual Model'!$H$12+MAXA(0,'Dual Model'!$C$14*3600*(1/'Dual Model'!$I$28-1/'Dual Model'!$D$28)),'Dual Model'!$D$25+'Dual Model'!$H$14*SQRT('Dual Model'!$H$12^2+'Dual Model'!$H$13^2))+'Dual Model'!$C$36","v":101.61}]
[null,"Small +",{"$f":"MAXA(3600*C27/('Dual Model'!$C$28)+'Dual Model'!$H$14*'Dual Model'!$H$12+MAXA(0,'Dual Model'!$C$14*3600*(1/'Dual Model'!$C$28-1/'Dual Model'!$E$28)),'Dual Model'!$E$25+'Dual Model'!$H$14*SQRT('Dual Model'!$H$12^2+'Dual Model'!$H$13^2))+'Dual Model'!$C$36","v":219.61},{"$f":"MAXA(3600*D27/('Dual Model'!$D$28)+'Dual Model'!$H$14*'Dual Model'!$H$12+MAXA(0,'Dual Model'!$C$14*3600*(1/'Dual Model'!$D$28-1/'Dual Model'!$E$28)),'Dual Model'!$E$25+'Dual Model'!$H$14*SQRT('Dual Model'!$H$12^2+'Dual Model'!$H$13^2))+'Dual Model'!$C$36","v":179.61},{"$f":"MAXA(3600*E27/('Dual Model'!$E$28)+'Dual Model'!$H$14*'Dual Model'!$H$12+MAXA(0,'Dual Model'!$C$14*3600*(1/'Dual Model'!$E$28-1/'Dual Model'!$E$28)),'Dual Model'!$E$25+'Dual Model'!$H$14*SQRT('Dual Model'!$H$12^2+'Dual Model'!$H$13^2))+'Dual Model'!$C$36","v":119.61},{"$f":"MAXA(3600*F27/('Dual Model'!$F$28)+'Dual Model'!$H$14*'Dual Model'!$H$12+MAXA(0,'Dual Model'!$C$14*3600*(1/'Dual Model'!$F$28-1/'Dual Model'!$E$28)),'Dual Model'!$E$25+'Dual Model'!$H$14*SQRT('Dual Model'!$H$12^2+'Dual Model'!$H$13^2))+'Dual Model'!$C$36","v":112.68692307692308},{"$f":"MAXA(3600*G27/('Dual Model'!$G$28)+'Dual Model'!$H$14*'Dual Model'!$H$12+MAXA(0,'Dual Model'!$C$14*3600*(1/'Dual Model'!$G$28-1/'Dual Model'!$E$28)),'Dual Model'!$E$25+'Dual Model'!$H$14*SQRT('Dual Model'!$H$12^2+'Dual Model'!$H$13^2))+'Dual Model'!$C$36","v":109.61},{"$f":"MAXA(3600*H27/('Dual Model'!$H$28)+'Dual Model'!$H$14*'Dual Model'!$H$12+MAXA(0,'Dual Model'!$C$14*3600*(1/'Dual Model'!$H$28-1/'Dual Model'!$C$28)),'Dual Model'!$E$25+'Dual Model'!$H$14*SQRT('Dual Model'!$H$12^2+'Dual Model'!$H$13^2))+'Dual Model'!$C$36","v":106.75285714285714},{"$f":"MAXA(3600*I27/('Dual Model'!$I$28)+'Dual Model'!$H$14*'Dual Model'!$H$12+MAXA(0,'Dual Model'!$C$14*3600*(1/'Dual Model'!$I$28-1/'Dual Model'!$E$28)),'Dual Model'!$E$25+'Dual Model'!$H$14*SQRT('Dual Model'!$H$12^2+'Dual Model'!$H$13^2))+'Dual Model'!$C$36","v":101.61}]
[null,"Large-TP",{"$f":"MAXA(3600*C28/('Dual Model'!$C$28)+'Dual Model'!$H$14*'Dual Model'!$H$12+MAXA(0,'Dual Model'!$C$14*3600*(1/'Dual Model'!$C$28-1/'Dual Model'!$F$28)),'Dual Model'!$F$25+'Dual Model'!$H$14*SQRT('Dual Model'!$H$12^2+'Dual Model'!$H$13^2))+'Dual Model'!$C$36","v":275.7638461538462},{"$f":"MAXA(3600*D28/('Dual Model'!$D$28)+'Dual Model'!$H$14*'Dual Model'!$H$12+MAXA(0,'Dual Model'!$C$14*3600*(1/'Dual Model'!$D$28-1/'Dual Model'!$F$28)),'Dual Model'!$F$25+'Dual Model'!$H$14*SQRT('Dual Model'!$H$12^2+'Dual Model'!$H$13^2))+'Dual Model'!$C$36","v":231.76384615384615},{"$f":"MAXA(3600*E28/('Dual Model'!$E$28)+'Dual Model'!$H$14*'Dual Model'!$H$12+MAXA(0,'Dual Model'!$C$14*3600*(1/'Dual Model'!$E$28-1/'Dual Model'!$F$28)),'Dual Model'!$F$25+'Dual Model'!$H$14*SQRT('Dual Model'!$H$12^2+'Dual Model'!$H$13^2))+'Dual Model'!$C$36","v":165.76384615384615},{"$f":"MAXA(3600*F28/('Dual Model'!$F$28)+'Dual Model'!$H$14*'Dual Model'!$H$12+MAXA(0,'Dual Model'!$C$14*3600*(1/'Dual Model'!$F$28-1/'Dual Model'!$F$28)),'Dual Model'!$F$25+'Dual Model'!$H$14*SQRT('Dual Model'!$H$12^2+'Dual Model'!$H$13^2))+'Dual Model'!$C$36","v":112.68692307692308},{"$f":"MAXA(3600*G28/('Dual Model'!$G$28)+'Dual Model'!$H$14*'Dual Model'!$H$12+MAXA(0,'Dual Model'!$C$14*3600*(1/'Dual Model'!$G$28-1/'Dual Model'!$F$28)),'Dual Model'!$F$25+'Dual Model'!$H$14*SQRT('Dual Model'!$H$12^2+'Dual Model'!$H$13^2))+'Dual Model'!$C$36","v":109.61},{"$f":"MAXA(3600*H28/('Dual Model'!$H$28)+'Dual Model'!$H$14*'Dual Model'!$H$12+MAXA(0,'Dual Model'!$C$14*3600*(1/'Dual Model'!$H$28-1/'Dual Model'!$C$28)),'Dual Model'!$F$25+'Dual Model'!$H$14*SQRT('Dual Model'!$H$12^2+'Dual Model'!$H$13^2))+'Dual Model'!$C$36","v":106.75285714285714},{"$f":"MAXA(3600*I28/('Dual Model'!$I$28)+'Dual Model'!$H$14*'Dual Model'!$H$12+MAXA(0,'Dual Model'!$C$14*3600*(1/'Dual Model'!$I$28-1/'Dual Model'!$F$28)),'Dual Model'!$F$25+'Dual Model'!$H$14*SQRT('Dual Model'!$H$12^2+'Dual Model'!$H$13^2))+'Dual Model'!$C$36","v":101.61}]
[null,"Large-Jet",{"$f":"MAXA(3600*C29/('Dual Model'!$C$28)+'Dual Model'!$H$14*'Dual Model'!$H$12+MAXA(0,'Dual Model'!$C$14*3600*(1/'Dual Model'!$C$28-1/'Dual Model'!$G$28)),'Dual Model'!$G$25+'Dual Model'!$H$14*SQRT('Dual Model'!$H$12^2+'Dual Model'!$H$13^2))+'Dual Model'!$C$36","v":282.94333333333338},{"$f":"MAXA(3600*D29/('Dual Model'!$D$28)+'Dual Model'!$H$14*'Dual Model'!$H$12+MAXA(0,'Dual Model'!$C$14*3600*(1/'Dual Model'!$D$28-1/'Dual Model'!$G$28)),'Dual Model'!$H$25+'Dual Model'!$H$14*SQRT('Dual Model'!$H$12^2+'Dual Model'!$H$13^2))+'Dual Model'!$C$36","v":238.94333333333333},{"$f":"MAXA(3600*E29/('Dual Model'!$E$28)+'Dual Model'!$H$14*'Dual Model'!$H$12+MAXA(0,'Dual Model'!$C$14*3600*(1/'Dual Model'!$E$28-1/'Dual Model'!$G$28)),'Dual Model'!$G$25+'Dual Model'!$H$14*SQRT('Dual Model'!$H$12^2+'Dual Model'!$H$13^2))+'Dual Model'!$C$36","v":172.94333333333333},{"$f":"MAXA(3600*F29/('Dual Model'!$F$28)+'Dual Model'!$H$14*'Dual Model'!$H$12+MAXA(0,'Dual Model'!$C$14*3600*(1/'Dual Model'!$F$28-1/'Dual Model'!$G$28)),'Dual Model'!$G$25+'Dual Model'!$H$14*SQRT('Dual Model'!$H$12^2+'Dual Model'!$H$13^2))+'Dual Model'!$C$36","v":119.86641025641026},{"$f":"MAXA(3600*G29/('Dual Model'!$G$28)+'Dual Model'!$H$14*'Dual Model'!$H$12+MAXA(0,'Dual Model'!$C$14*3600*(1/'Dual Model'!$G$28-1/'Dual Model'!$G$28)),'Dual Model'!$G$25+'Dual Model'!$H$14*SQRT('Dual Model'!$H$12^2+'Dual Model'!$H$13^2))+'Dual Model'!$C$36","v":109.61},{"$f":"MAXA(3600*H29/('Dual Model'!$H$28)+'Dual Model'!$H$14*'Dual Model'!$H$12+MAXA(0,'Dual Model'!$C$14*3600*(1/'Dual Model'!$H$28-1/'Dual Model'!$C$28)),'Dual Model'!$G$25+'Dual Model'!$H$14*SQRT('Dual Model'!$H$12^2+'Dual Model'!$H$13^2))+'Dual Model'!$C$36","v":106.75285714285714},{"$f":"MAXA(3600*I29/('Dual Model'!$I$28)+'Dual Model'!$H$14*'Dual Model'!$H$12+MAXA(0,'Dual Model'!$C$14*3600*(1/'Dual Model'!$I$28-1/'Dual Model'!$G$28)),'Dual Model'!$G$25+'Dual Model'!$H$14*SQRT('Dual Model'!$H$12^2+'Dual Model'!$H$13^2))+'Dual Model'!$C$36","v":101.61}]
[null,"Large-757",{"$f":"MAXA(3600*C30/('Dual Model'!$C$28)+'Dual Model'!$H$14*'Dual Model'!$H$12+MAXA(0,'Dual Model'!$C$14*3600*(1/'Dual Model'!$C$28-1/'Dual Model'!$H$28)),'Dual Model'!$G$25+'Dual Model'!$H$14*SQRT('Dual Model'!$H$12^2+'Dual Model'!$H$13^2))+'Dual Model'!$C$36","v":329.61},{"$f":"MAXA(3600*D30/('Dual Model'!$D$28)+'Dual Model'!$H$14*'Dual Model'!$H$12+MAXA(0,'Dual Model'!$C$14*3600*(1/'Dual Model'!$D$28-1/'Dual Model'!$G$28)),'Dual Model'!$G$25+'Dual Model'!$H$14*SQRT('Dual Model'!$H$12^2+'Dual Model'!$H$13^2))+'Dual Model'!$C$36","v":274.94333333333333},{"$f":"MAXA(3600*E30/('Dual Model'!$E$28)+'Dual Model'!$H$14*'Dual Model'!$H$12+MAXA(0,'Dual Model'!$C$14*3600*(1/'Dual Model'!$E$28-1/'Dual Model'!$G$28)),'Dual Model'!$H$25+'Dual Model'!$H$14*SQRT('Dual Model'!$H$12^2+'Dual Model'!$H$13^2))+'Dual Model'!$C$36","v":202.94333333333333},{"$f":"MAXA(3600*F30/('Dual Model'!$F$28)+'Dual Model'!$H$14*'Dual Model'!$H$12+MAXA(0,'Dual Model'!$C$14*3600*(1/'Dual Model'!$F$28-1/'Dual Model'!$G$28)),'Dual Model'!$H$25+'Dual Model'!$H$14*SQRT('Dual Model'!$H$12^2+'Dual Model'!$H$13^2))+'Dual Model'!$C$36","v":147.55871794871797},{"$f":"MAXA(3600*G30/('Dual Model'!$G$28)+'Dual Model'!$H$14*'Dual Model'!$H$12+MAXA(0,'Dual Model'!$C$14*3600*(1/'Dual Model'!$G$28-1/'Dual Model'!$G$28)),'Dual Model'!$H$25+'Dual Model'!$H$14*SQRT('Dual Model'!$H$12^2+'Dual Model'!$H$13^2))+'Dual Model'!$C$36","v":136.27666666666667},{"$f":"MAXA(3600*H30/('Dual Model'!$H$28)+'Dual Model'!$H$14*'Dual Model'!$H$12+MAXA(0,'Dual Model'!$C$14*3600*(1/'Dual Model'!$H$28-1/'Dual Model'!$C$28)),'Dual Model'!$H$25+'Dual Model'!$H$14*SQRT('Dual Model'!$H$12^2+'Dual Model'!$H$13^2))+'Dual Model'!$C$36","v":132.46714285714285},{"$f":"MAXA(3600*I30/('Dual Model'!$I$28)+'Dual Model'!$H$14*'Dual Model'!$H$12+MAXA(0,'Dual Model'!$C$14*3600*(1/'Dual Model'!$I$28-1/'Dual Model'!$G$28)),'Dual Model'!$H$25+'Dual Model'!$H$14*SQRT('Dual Model'!$H$12^2+'Dual Model'!$H$13^2))+'Dual Model'!$C$36","v":125.61}]
[null,"Heavy",{"$f":"MAXA(3600*C31/('Dual Model'!$C$28)+'Dual Model'!$H$14*'Dual Model'!$H$12+MAXA(0,'Dual Model'!$C$14*3600*(1/'Dual Model'!$C$28-1/'Dual Model'!$I$28)),'Dual Model'!$I$25+'Dual Model'!$H$14*SQRT('Dual Model'!$H$12^2+'Dual Model'!$H$13^2))+'Dual Model'!$C$36","v":381.61},{"$f":"MAXA(3600*D31/('Dual Model'!$D$28)+'Dual Model'!$H$14*'Dual Model'!$H$12+MAXA(0,'Dual Model'!$C$14*3600*(1/'Dual Model'!$D$28-1/'Dual Model'!$I$28)),'Dual Model'!$I$25+'Dual Model'!$H$14*SQRT('Dual Model'!$H$12^2+'Dual Model'!$H$13^2))+'Dual Model'!$C$36","v":329.61},{"$f":"MAXA(3600*E31/('Dual Model'!$E$28)+'Dual Model'!$H$14*'Dual Model'!$H$12+MAXA(0,'Dual Model'!$C$14*3600*(1/'Dual Model'!$E$28-1/'Dual Model'!$I$28)),'Dual Model'!$I$25+'Dual Model'!$H$14*SQRT('Dual Model'!$H$12^2+'Dual Model'!$H$13^2))+'Dual Model'!$C$36","v":221.61},{"$f":"MAXA(3600*F31/('Dual Model'!$F$28)+'Dual Model'!$H$14*'Dual Model'!$H$12+MAXA(0,'Dual Model'!$C$14*3600*(1/'Dual Model'!$F$28-1/'Dual Model'!$I$28)),'Dual Model'!$I$25+'Dual Model'!$H$14*SQRT('Dual Model'!$H$12^2+'Dual Model'!$H$13^2))+'Dual Model'!$C$36","v":193.91769230769231},{"$f":"MAXA(3600*G31/('Dual Model'!$G$28)+'Dual Model'!$H$14*'Dual Model'!$H$12+MAXA(0,'Dual Model'!$C$14*3600*(1/'Dual Model'!$G$28-1/'Dual Model'!$I$28)),'Dual Model'!$I$25+'Dual Model'!$H$14*SQRT('Dual Model'!$H$12^2+'Dual Model'!$H$13^2))+'Dual Model'!$C$36","v":181.60999999999999},{"$f":"MAXA(3600*H31/('Dual Model'!$H$28)+'Dual Model'!$H$14*'Dual Model'!$H$12+MAXA(0,'Dual Model'!$C$14*3600*(1/'Dual Model'!$H$28-1/'Dual Model'!$C$28)),'Dual Model'!$I$25+'Dual Model'!$H$14*SQRT('Dual Model'!$H$12^2+'Dual Model'!$H$13^2))+'Dual Model'!$C$36","v":158.18142857142857},{"$f":"MAXA(3600*I31/('Dual Model'!$I$28)+'Dual Model'!$H$14*'Dual Model'!$H$12+MAXA(0,'Dual Model'!$C$14*3600*(1/'Dual Model'!$I$28-1/'Dual Model'!$I$28)),'Dual Model'!$I$25+'Dual Model'!$H$14*SQRT('Dual Model'!$H$12^2+'Dual Model'!$H$13^2))+'Dual Model'!$C$36","v":125.61}]
[]
[null,"VMC Average time between Arrivals",null,null,null,"Time in Seconds"]
[null,null,"Small - S","Small - T","Small +","Large-TP","Large-Jet","Large-757","Heavy"]
[null,"Small - S",{"$f":"C5*C56","v":0},{"$f":"D5*D56","v":0},0,0,0,0,0,null,"Average Arrival separation"]
[null,"Small - T",{"$f":"C6*C57","v":0},0.98010000000000019,0,2.4667615384615384,4.0138333333333334,0.39233571428571429,0.37605000000000011,null,{"$f":"SUM(C76:I82)","v":96.558638648805896},"seconds",{"$f":"(3600-'Dual Model'!$I$30)/K77","v":37.283044276272214}]
[null,"Small +",{"$f":"C7*C58","v":0},0,0,0,0,0,0]
[null,"Large-TP",{"$f":"C8*C59","v":0},5.548915384615384,0,7.4002846153846145,12.041500000000001,1.1770071428571427,1.1431752075879285]
[null,"Large-Jet",{"$f":"C9*C60","v":0},9.6071666666666662,0,13.410730769230769,20.069166666666668,1.9616785714285712,1.9302920126465477]
[null,"Large-757",{"$f":"C10*C61","v":0},1.1740500000000003,0,1.7733807692307695,2.7069166666666673,0.24759642857142863,0.23602500000000004]
[null,"Heavy",{"$f":"C11*C62","v":0},1.3960500000000002,0,2.3272269230769229,3.6069166666666668,0.33545357142857141,0.23602500000000004]
[]
[null,"VMC Average time between Departures",null,null,null,"Time in Seconds"]
[null,null,"Small - S","Small - T","Small +","Large-TP","Large-Jet","Large-757","Heavy"]
[null,"Small - S",{"$f":"C5*C35","v":0},{"$f":"D5*D35","v":0},0,0,0,0,0,null,"Average Departure separation"]
[null,"Small - T",{"$f":"C6*C36","v":0},0.45000000000000007,0,1.65,2.75,0.27500000000000008,0.30000000000000004,null,{"$f":"SUM(C86:I92)","v":75.875000000000014},"seconds",{"$f":"(3600-'Dual Model'!$I$30)/K87","v":47.446457990115313}]
[null,"Small +",{"$f":"C7*C37","v":0},0,0,0,0,0,0]
[null,"Large-TP",{"$f":"C8*C38","v":0},2.6999999999999997,0,6.3,10.5,1.05,1.05]
[null,"Large-Jet",{"$f":"C9*C39","v":0},4.5,0,10.5,17.5,1.75,1.75]
[null,"Large-757",{"$f":"C10*C40","v":0},0.65000000000000013,0,1.95,3.25,0.32500000000000007,0.25000000000000006]
[null,"Heavy",{"$f":"C11*C41","v":0},0.65000000000000013,0,1.95,3.25,0.32500000000000007,0.25000000000000006]
[]
[null,"IMC Average time between Arrivals",null,null,null,"Time in Seconds"]
[null,null,"Small - S","Small - T","Small +","Large-TP","Large-Jet","Large-757","Heavy"]
[null,"Small - S",{"$f":"C5*C66","v":0},{"$f":"D5*D66","v":0},0,0,0,0,0,null,"Average Arrival separation"]
[null,"Small - T",{"$f":"C6*C67","v":0},1.3761000000000003,0,3.3806076923076924,5.4805000000000001,0.5337642857142858,0.50805000000000011,null,{"$f":"SUM(C96:I102)","v":127.92615384615384},"seconds",{"$f":"(3600-'Dual Model'!$I$30)/K97","v":28.14123532807389}]
[null,"Small +",{"$f":"C7*C68","v":0},0,0,0,0,0,0]
[null,"Large-TP",{"$f":"C8*C69","v":0},6.9529153846153839,0,10.141823076923076,16.441499999999998,1.6012928571428571,1.5241499999999999]
[null,"Large-Jet",{"$f":"C9*C70","v":0},11.947166666666668,0,17.979961538461538,27.4025,2.6688214285714285,2.5402500000000003]
[null,"Large-757",{"$f":"C10*C71","v":0},1.3747166666666668,0,2.2133807692307697,3.406916666666667,0.33116785714285718,0.31402500000000005]
[null,"Heavy",{"$f":"C11*C72","v":0},1.6480500000000005,0,2.9087653846153847,4.5402499999999995,0.39545357142857152,0.31402500000000005]
[]
[null,"IMC Average time between Departures",null,null,null,"Time in Seconds"]
[null,null,"Small - S","Small - T","Small +","Large-TP","Large-Jet","Large-757","Heavy"]
[null,"Small - S",{"$f":"C5*C45","v":0},{"$f":"D5*D45","v":0},0,0,0,0,0,null,"Average Departure separation"]
[null,"Small - T",{"$f":"C6*C46","v":0},0.70000000000000018,0,2.1,3.5,0.35000000000000009,0.35000000000000009,null,{"$f":"SUM(C106:I112)","v":77.450000000000017},"seconds",{"$f":"(3600-'Dual Model'!$I$30)/K107","v":46.481601032924459}]
[null,"Small +",{"$f":"C7*C47","v":0},0,0,0,0,0,0]
[null,"Large-TP",{"$f":"C8*C48","v":0},2.6999999999999997,0,6.3,10.5,1.05,1.05]
[null,"Large-Jet",{"$f":"C9*C49","v":0},4.5,0,10.5,17.5,1.75,1.75]
[null,"Large-757",{"$f":"C10*C50","v":0},0.65000000000000013,0,1.95,3.25,0.32500000000000007,0.25000000000000006]
[null,"Heavy",{"$f":"C11*C51","v":0},0.65000000000000013,0,1.95,3.25,0.32500000000000007,0.25000000000000006]
[]
[null,"VMC Average Time Required for Departure between Arrivals",null,null,null,"Time in Seconds"]
[null,null,"Small - S","Small - T","Small +","Large-TP","Large-Jet","Large-757","Heavy","Includes the AROT in the Equation "]
[null,"Small - S",{"$f":"'Dual Model'!$C$25+MAXA((3600*'Dual Model'!$C$12/('Dual Model'!C$28)),C$158)","v":112},{"$f":"'Dual Model'!$C$25+MAXA((3600*'Dual Model'!$C$12/('Dual Model'!D$28)),D$158)","v":104},{"$f":"'Dual Model'!$C$25+MAXA((3600*'Dual Model'!$C$12/('Dual Model'!E$28)),E$158)","v":92},{"$f":"'Dual Model'!$C$25+MAXA((3600*'Dual Model'!$C$12/('Dual Model'!F$28)),F$158)","v":87.384615384615387},{"$f":"'Dual Model'!$C$25+MAXA((3600*'Dual Model'!$C$12/('Dual Model'!G$28)),G$158)","v":85.333333333333343},{"$f":"'Dual Model'!$C$25+MAXA((3600*'Dual Model'!$C$12/('Dual Model'!H$28)),H$158)","v":83.428571428571431},{"$f":"'Dual Model'!$C$25+MAXA((3600*'Dual Model'!$C$12/('Dual Model'!I$28)),I$158)","v":83}]
[null,"Small - T",{"$f":"'Dual Model'!$D$25+MAXA((3600*'Dual Model'!$C$12/('Dual Model'!C$28)),C$158)","v":120},{"$f":"'Dual Model'!$D$25+MAXA((3600*'Dual Model'!$C$12/('Dual Model'!D$28)),D$158)","v":112},{"$f":"'Dual Model'!$D$25+MAXA((3600*'Dual Model'!$C$12/('Dual Model'!E$28)),E$158)","v":100},{"$f":"'Dual Model'!$D$25+MAXA((3600*'Dual Model'!$C$12/('Dual Model'!F$28)),F$158)","v":95.384615384615387},{"$f":"'Dual Model'!$D$25+MAXA((3600*'Dual Model'!$C$12/('Dual Model'!G$28)),G$158)","v":93.333333333333343},{"$f":"'Dual Model'!$D$25+MAXA((3600*'Dual Model'!$C$12/('Dual Model'!H$28)),H$158)","v":91.428571428571431},{"$f":"'Dual Model'!$D$25+MAXA((3600*'Dual Model'!$C$12/('Dual Model'!I$28)),I$158)","v":91}]
[null,"Small +",{"$f":"'Dual Model'!$E$25+MAXA((3600*'Dual Model'!$C$12/('Dual Model'!C$28)),C$158)","v":122},{"$f":"'Dual Model'!$E$25+MAXA((3600*'Dual Model'!$C$12/('Dual Model'!D$28)),D$158)","v":114},{"$f":"'Dual Model'!$E$25+MAXA((3600*'Dual Model'!$C$12/('Dual Model'!E$28)),E$158)","v":102},{"$f":"'Dual Model'!$E$25+MAXA((3600*'Dual Model'!$C$12/('Dual Model'!F$28)),F$158)","v":97.384615384615387},{"$f":"'Dual Model'!$E$25+MAXA((3600*'Dual Model'!$C$12/('Dual Model'!G$28)),G$158)","v":95.333333333333343},{"$f":"'Dual Model'!$E$25+MAXA((3600*'Dual Model'!$C$12/('Dual Model'!H$28)),H$158)","v":93.428571428571431},{"$f":"'Dual Model'!$E$25+MAXA((3600*'Dual Model'!$C$12/('Dual Model'!I$28)),I$158)","v":93}]
[null,"Large-TP",{"$f":"'Dual Model'!$F$25+MAXA((3600*'Dual Model'!$C$12/('Dual Model'!C$28)),C$158)","v":125},{"$f":"'Dual Model'!$F$25+MAXA((3600*'Dual Model'!$C$12/('Dual Model'!D$28)),D$158)","v":117},{"$f":"'Dual Model'!$F$25+MAXA((3600*'Dual Model'!$C$12/('Dual Model'!E$28)),E$158)","v":105},{"$f":"'Dual Model'!$F$25+MAXA((3600*'Dual Model'!$C$12/('Dual Model'!F$28)),F$158)","v":100.38461538461539},{"$f":"'Dual Model'!$F$25+MAXA((3600*'Dual Model'!$C$12/('Dual Model'!G$28)),G$158)","v":98.333333333333343},{"$f":"'Dual Model'!$F$25+MAXA((3600*'Dual Model'!$C$12/('Dual Model'!H$28)),H$158)","v":96.428571428571431},{"$f":"'Dual Model'!$F$25+MAXA((3600*'Dual Model'!$C$12/('Dual Model'!I$28)),I$158)","v":96}]
[null,"Large-Jet",{"$f":"'Dual Model'!$G$25+MAXA((3600*'Dual Model'!$C$12/('Dual Model'!C$28)),C$158)","v":126},{"$f":"'Dual Model'!$G$25+MAXA((3600*'Dual Model'!$C$12/('Dual Model'!D$28)),D$158)","v":118},{"$f":"'Dual Model'!$G$25+MAXA((3600*'Dual Model'!$C$12/('Dual Model'!E$28)),E$158)","v":106},{"$f":"'Dual Model'!$G$25+MAXA((3600*'Dual Model'!$C$12/('Dual Model'!F$28)),F$158)","v":101.38461538461539},{"$f":"'Dual Model'!$G$25+MAXA((3600*'Dual Model'!$C$12/('Dual Model'!G$28)),G$158)","v":99.333333333333343},{"$f":"'Dual Model'!$G$25+MAXA((3600*'Dual Model'!$C$12/('Dual Model'!H$28)),H$158)","v":97.428571428571431},{"$f":"'Dual Model'!$G$25+MAXA((3600*'Dual Model'!$C$12/('Dual Model'!I$28)),I$158)","v":97}]
[null,"Large-757",{"$f":"'Dual Model'!$H$25+MAXA((3600*'Dual Model'!$C$12/('Dual Model'!C$28)),C$158)","v":131},{"$f":"'Dual Model'!$H$25+MAXA((3600*'Dual Model'!$C$12/('Dual Model'!D$28)),D$158)","v":123},{"$f":"'Dual Model'!$H$25+MAXA((3600*'Dual Model'!$C$12/('Dual Model'!E$28)),E$158)","v":111},{"$f":"'Dual Model'!$H$25+MAXA((3600*'Dual Model'!$C$12/('Dual Model'!F$28)),F$158)","v":106.38461538461539},{"$f":"'Dual Model'!$H$25+MAXA((3600*'Dual Model'!$C$12/('Dual Model'!G$28)),G$158)","v":104.33333333333334},{"$f":"'Dual Model'!$H$25+MAXA((3600*'Dual Model'!$C$12/('Dual Model'!H$28)),H$158)","v":102.42857142857143},{"$f":"'Dual Model'!$H$25+MAXA((3600*'Dual Model'!$C$12/('Dual Model'!I$28)),I$158)","v":102}]
[null,"Heavy",{"$f":"'Dual Model'!$I$25+MAXA((3600*'Dual Model'!$C$12/('Dual Model'!C$28)),C$158)","v":135},{"$f":"'Dual Model'!$I$25+MAXA((3600*'Dual Model'!$C$12/('Dual Model'!D$28)),D$158)","v":127},{"$f":"'Dual Model'!$I$25+MAXA((3600*'Dual Model'!$C$12/('Dual Model'!E$28)),E$158)","v":115},{"$f":"'Dual Model'!$I$25+MAXA((3600*'Dual Model'!$C$12/('Dual Model'!F$28)),F$158)","v":110.38461538461539},{"$f":"'Dual Model'!$I$25+MAXA((3600*'Dual Model'!$C$12/('Dual Model'!G$28)),G$158)","v":108.33333333333334},{"$f":"'Dual Model'!$I$25+MAXA((3600*'Dual Model'!$C$12/('Dual Model'!H$28)),H$158)","v":106.42857142857143},{"$f":"'Dual Model'!$I$25+MAXA((3600*'Dual Model'!$C$12/('Dual Model'!I$28)),I$158)","v":106}]
[]
[null,"IMC Average Time Required for Departure between Arrivals",null,null,null,"Time in Seconds"]
[null,null,"Small - S","Small - T","Small +","Large-TP","Large-Jet","Large-757","Heavy","Includes the AROT in the Equation "]
[null,"Small - S",{"$f":"IF('Dual Model'!$C$9=\"Yes\",0,'Dual Model'!$C$25)+MAXA((3600*'Dual Model'!$C$13/('Dual Model'!C$28)),C$158)","v":80},{"$f":"IF('Dual Model'!$C$9=\"Yes\",0,'Dual Model'!$C$25)+MAXA((3600*'Dual Model'!$C$13/('Dual Model'!D$28)),D$158)","v":72},{"$f":"IF('Dual Model'!$C$9=\"Yes\",0,'Dual Model'!$C$25)+MAXA((3600*'Dual Model'!$C$13/('Dual Model'!E$28)),E$158)","v":60},{"$f":"IF('Dual Model'!$C$9=\"Yes\",0,'Dual Model'!$C$25)+MAXA((3600*'Dual Model'!$C$13/('Dual Model'!F$28)),F$158)","v":55.384615384615387},{"$f":"IF('Dual Model'!$C$9=\"Yes\",0,'Dual Model'!$C$25)+MAXA((3600*'Dual Model'!$C$13/('Dual Model'!G$28)),G$158)","v":53.333333333333336},{"$f":"IF('Dual Model'!$C$9=\"Yes\",0,'Dual Model'!$C$25)+MAXA((3600*'Dual Model'!$C$13/('Dual Model'!H$28)),H$158)","v":51.428571428571431},{"$f":"IF('Dual Model'!$C$9=\"Yes\",0,'Dual Model'!$C$25)+MAXA((3600*'Dual Model'!$C$13/('Dual Model'!I$28)),I$158)","v":51}]
[null,"Small - T",{"$f":"IF('Dual Model'!$C$9=\"Yes\",0,'Dual Model'!$D$25)+MAXA((3600*'Dual Model'!$C$13/('Dual Model'!C$28)),C$158)","v":80},{"$f":"IF('Dual Model'!$C$9=\"Yes\",0,'Dual Model'!$D$25)+MAXA((3600*'Dual Model'!$C$13/('Dual Model'!D$28)),D$158)","v":72},{"$f":"IF('Dual Model'!$C$9=\"Yes\",0,'Dual Model'!$D$25)+MAXA((3600*'Dual Model'!$C$13/('Dual Model'!E$28)),E$158)","v":60},{"$f":"IF('Dual Model'!$C$9=\"Yes\",0,'Dual Model'!$D$25)+MAXA((3600*'Dual Model'!$C$13/('Dual Model'!F$28)),F$158)","v":55.384615384615387},{"$f":"IF('Dual Model'!$C$9=\"Yes\",0,'Dual Model'!$D$25)+MAXA((3600*'Dual Model'!$C$13/('Dual Model'!G$28)),G$158)","v":53.333333333333336},{"$f":"IF('Dual Model'!$C$9=\"Yes\",0,'Dual Model'!$D$25)+MAXA((3600*'Dual Model'!$C$13/('Dual Model'!H$28)),H$158)","v":51.428571428571431},{"$f":"IF('Dual Model'!$C$9=\"Yes\",0,'Dual Model'!$D$25)+MAXA((3600*'Dual Model'!$C$13/('Dual Model'!I$28)),I$158)","v":51}]
[null,"Small +",{"$f":"IF('Dual Model'!$C$9=\"Yes\",0,'Dual Model'!$E$25)+MAXA((3600*'Dual Model'!$C$13/('Dual Model'!C$28)),C$158)","v":80},{"$f":"IF('Dual Model'!$C$9=\"Yes\",0,'Dual Model'!$E$25)+MAXA((3600*'Dual Model'!$C$13/('Dual Model'!D$28)),D$158)","v":72},{"$f":"IF('Dual Model'!$C$9=\"Yes\",0,'Dual Model'!$E$25)+MAXA((3600*'Dual Model'!$C$13/('Dual Model'!E$28)),E$158)","v":60},{"$f":"IF('Dual Model'!$C$9=\"Yes\",0,'Dual Model'!$E$25)+MAXA((3600*'Dual Model'!$C$13/('Dual Model'!F$28)),F$158)","v":55.384615384615387},{"$f":"IF('Dual Model'!$C$9=\"Yes\",0,'Dual Model'!$E$25)+MAXA((3600*'Dual Model'!$C$13/('Dual Model'!G$28)),G$158)","v":53.333333333333336},{"$f":"IF('Dual Model'!$C$9=\"Yes\",0,'Dual Model'!$E$25)+MAXA((3600*'Dual Model'!$C$13/('Dual Model'!H$28)),H$158)","v":51.428571428571431},{"$f":"IF('Dual Model'!$C$9=\"Yes\",0,'Dual Model'!$E$25)+MAXA((3600*'Dual Model'!$C$13/('Dual Model'!I$28)),I$158)","v":51}]
[null,"Large-TP",{"$f":"IF('Dual Model'!$C$9=\"Yes\",0,'Dual Model'!$F$25)+MAXA((3600*'Dual Model'!$C$13/('Dual Model'!C$28)),C$158)","v":80},{"$f":"IF('Dual Model'!$C$9=\"Yes\",0,'Dual Model'!$F$25)+MAXA((3600*'Dual Model'!$C$13/('Dual Model'!D$28)),D$158)","v":72},{"$f":"IF('Dual Model'!$C$9=\"Yes\",0,'Dual Model'!$F$25)+MAXA((3600*'Dual Model'!$C$13/('Dual Model'!E$28)),E$158)","v":60},{"$f":"IF('Dual Model'!$C$9=\"Yes\",0,'Dual Model'!$F$25)+MAXA((3600*'Dual Model'!$C$13/('Dual Model'!F$28)),F$158)","v":55.384615384615387},{"$f":"IF('Dual Model'!$C$9=\"Yes\",0,'Dual Model'!$F$25)+MAXA((3600*'Dual Model'!$C$13/('Dual Model'!G$28)),G$158)","v":53.333333333333336},{"$f":"IF('Dual Model'!$C$9=\"Yes\",0,'Dual Model'!$F$25)+MAXA((3600*'Dual Model'!$C$13/('Dual Model'!H$28)),H$158)","v":51.428571428571431},{"$f":"IF('Dual Model'!$C$9=\"Yes\",0,'Dual Model'!$F$25)+MAXA((3600*'Dual Model'!$C$13/('Dual Model'!I$28)),I$158)","v":51}]
[null,"Large-Jet",{"$f":"IF('Dual Model'!$C$9=\"Yes\",0,'Dual Model'!$G$25)+MAXA((3600*'Dual Model'!$C$13/('Dual Model'!C$28)),C$158)","v":80},{"$f":"IF('Dual Model'!$C$9=\"Yes\",0,'Dual Model'!$G$25)+MAXA((3600*'Dual Model'!$C$13/('Dual Model'!D$28)),D$158)","v":72},{"$f":"IF('Dual Model'!$C$9=\"Yes\",0,'Dual Model'!$G$25)+MAXA((3600*'Dual Model'!$C$13/('Dual Model'!E$28)),E$158)","v":60},{"$f":"IF('Dual Model'!$C$9=\"Yes\",0,'Dual Model'!$G$25)+MAXA((3600*'Dual Model'!$C$13/('Dual Model'!F$28)),F$158)","v":55.384615384615387},{"$f":"IF('Dual Model'!$C$9=\"Yes\",0,'Dual Model'!$G$25)+MAXA((3600*'Dual Model'!$C$13/('Dual Model'!G$28)),G$158)","v":53.333333333333336},{"$f":"IF('Dual Model'!$C$9=\"Yes\",0,'Dual Model'!$G$25)+MAXA((3600*'Dual Model'!$C$13/('Dual Model'!H$28)),H$158)","v":51.428571428571431},{"$f":"IF('Dual Model'!$C$9=\"Yes\",0,'Dual Model'!$G$25)+MAXA((3600*'Dual Model'!$C$13/('Dual Model'!I$28)),I$158)","v":51}]
[null,"Large-757",{"$f":"IF('Dual Model'!$C$9=\"Yes\",0,'Dual Model'!$H$25)+MAXA((3600*'Dual Model'!$C$13/('Dual Model'!C$28)),C$158)","v":80},{"$f":"IF('Dual Model'!$C$9=\"Yes\",0,'Dual Model'!$H$25)+MAXA((3600*'Dual Model'!$C$13/('Dual Model'!D$28)),D$158)","v":72},{"$f":"IF('Dual Model'!$C$9=\"Yes\",0,'Dual Model'!$H$25)+MAXA((3600*'Dual Model'!$C$13/('Dual Model'!E$28)),E$158)","v":60},{"$f":"IF('Dual Model'!$C$9=\"Yes\",0,'Dual Model'!$H$25)+MAXA((3600*'Dual Model'!$C$13/('Dual Model'!F$28)),F$158)","v":55.384615384615387},{"$f":"IF('Dual Model'!$C$9=\"Yes\",0,'Dual Model'!$H$25)+MAXA((3600*'Dual Model'!$C$13/('Dual Model'!G$28)),G$158)","v":53.333333333333336},{"$f":"IF('Dual Model'!$C$9=\"Yes\",0,'Dual Model'!$H$25)+MAXA((3600*'Dual Model'!$C$13/('Dual Model'!H$28)),H$158)","v":51.428571428571431},{"$f":"IF('Dual Model'!$C$9=\"Yes\",0,'Dual Model'!$H$25)+MAXA((3600*'Dual Model'!$C$13/('Dual Model'!I$28)),I$158)","v":51}]
[null,"Heavy",{"$f":"IF('Dual Model'!$C$9=\"Yes\",0,'Dual Model'!$I$25)+MAXA((3600*'Dual Model'!$C$13/('Dual Model'!C$28)),C$158)","v":80},{"$f":"IF('Dual Model'!$C$9=\"Yes\",0,'Dual Model'!$I$25)+MAXA((3600*'Dual Model'!$C$13/('Dual Model'!D$28)),D$158)","v":72},{"$f":"IF('Dual Model'!$C$9=\"Yes\",0,'Dual Model'!$I$25)+MAXA((3600*'Dual Model'!$C$13/('Dual Model'!E$28)),E$158)","v":60},{"$f":"IF('Dual Model'!$C$9=\"Yes\",0,'Dual Model'!$I$25)+MAXA((3600*'Dual Model'!$C$13/('Dual Model'!F$28)),F$158)","v":55.384615384615387},{"$f":"IF('Dual Model'!$C$9=\"Yes\",0,'Dual Model'!$I$25)+MAXA((3600*'Dual Model'!$C$13/('Dual Model'!G$28)),G$158)","v":53.333333333333336},{"$f":"IF('Dual Model'!$C$9=\"Yes\",0,'Dual Model'!$I$25)+MAXA((3600*'Dual Model'!$C$13/('Dual Model'!H$28)),H$158)","v":51.428571428571431},{"$f":"IF('Dual Model'!$C$9=\"Yes\",0,'Dual Model'!$I$25)+MAXA((3600*'Dual Model'!$C$13/('Dual Model'!I$28)),I$158)","v":51}]
[null,"  "]
[null,"VMC Average Required for Departure between Arrivals",null,null,null,"Time in Seconds"]
[null,null,"Small - S","Small - T","Small +","Large-TP","Large-Jet","Large-757","Heavy",null,null,"Departures between Arrivals on Runway 1",null,null,"VMC"]
[null,"Small - S",{"$f":"C56-C116","v":-6.3900000000000006},{"$f":"D56-D116","v":-5.9899999999999949},-5.3900000000000006,-5.1592307692307742,-5.056666666666672,-4.9614285714285842,-7.789999999999992,null,null,{"$f":"SUMPRODUCT(L137:L143,C5:C11)+SUMPRODUCT(M137:M143,D5:D11)+SUMPRODUCT(N137:N143,E5:E11)+SUMPRODUCT(O137:O143,F5:F11)+SUMPRODUCT(P137:P143,G5:G11)+SUMPRODUCT(Q137:Q143,H5:H11)+SUMPRODUCT(R137:R143,I5:I11)","v":0.1875},{"$f":"L136*M77","v":6.9905708018010397}]
[null,"Small - T",{"$f":"C57-C117","v":13.610000000000014},-13.989999999999995,-13.39,-13.159230769230774,-13.056666666666672,-12.961428571428584,-15.789999999999992,null,null,{"$f":"IF(C136>=0,TRUNC(C136/$K$87,0)+1,0)","v":0},{"$f":"IF(D136>=0,TRUNC(D136/$K$87,0)+1,0)","v":0},0,0,0,0,0]
[null,"Small +",{"$f":"C58-C118","v":53.610000000000014},26.010000000000019,-15.39,-15.159230769230774,-15.056666666666672,-14.961428571428584,-17.789999999999992,null,null,{"$f":"IF(C137>=0,TRUNC(C137/$K$87,0)+1,0)","v":1},{"$f":"IF(D137>=0,TRUNC(D137/$K$87,0)+1,0)","v":0},{"$f":"IF(E137>=0,TRUNC(E137/$K$87,0)+1,0)","v":0},{"$f":"IF(F137>=0,TRUNC(F137/$K$87,0)+1,0)","v":0},{"$f":"IF(G137>=0,TRUNC(G137/$K$87,0)+1,0)","v":0},{"$f":"IF(H137>=0,TRUNC(H137/$K$87,0)+1,0)","v":0},{"$f":"IF(I137>=0,TRUNC(I137/$K$87,0)+1,0)","v":0}]
[null,"Large-TP",{"$f":"C59-C119","v":98.763846153846174},67.963846153846134,21.763846153846146,-18.159230769230774,-18.056666666666672,-17.961428571428584,-19.788319494138094,null,null,1,1,0,0,0,0,0]
[null,"Large-Jet",{"$f":"C60-C120","v":104.94333333333336},74.143333333333317,27.943333333333328,-11.979743589743592,-19.056666666666672,-18.961428571428584,-19.788319494138094,null,null,2,1,1,0,0,0,0]
[null,"Large-757",{"$f":"C61-C121","v":146.61000000000001},111.81,59.610000000000014,11.840769230769254,3.9433333333333422,-3.3900000000000006,-7.5900000000000034,null,null,2,1,1,0,0,0,0]
[null,"Heavy",{"$f":"C62-C122","v":190.61},152.20999999999998,64.610000000000014,44.763846153846146,35.943333333333328,27.75285714285711,-11.590000000000003,null,null,2,2,1,1,1,0,0]
[null,null,null,null,null,null,null,null,null,null,null,3,3,1,1,1,1,0]
[null,"IMC Average Required for Departure between Arrivals",null,null,null,"Time in Seconds"]
[null,null,"Small - S","Small - T","Small +","Large-TP","Large-Jet","Large-757","Heavy",null,null,"Departures between Arrivals on Runway 1",null,null,"IMC"]
[null,"Small - S",{"$f":"C66-C116","v":37.610000000000014},{"$f":"D66-D116","v":33.610000000000014},27.61,25.302307692307693,24.276666666666657,23.324285714285708,18.61,null,null,{"$f":"SUMPRODUCT(L147:L153,C5:C11)+SUMPRODUCT(M147:M153,D5:D11)+SUMPRODUCT(N147:N153,E5:E11)+SUMPRODUCT(O147:O153,F5:F11)+SUMPRODUCT(P147:P153,G5:G11)+SUMPRODUCT(Q147:Q153,H5:H11)+SUMPRODUCT(R147:R153,I5:I11)","v":1.1100000000000003},{"$f":"L146*M97","v":31.236771214162026}]
[null,"Small - T",{"$f":"C67-C117","v":57.610000000000014},25.610000000000014,19.61,17.302307692307693,16.276666666666657,15.324285714285708,10.61,null,null,{"$f":"IF(C146>=0,TRUNC(C146/$K$107,0)+1,0)","v":1},{"$f":"IF(D146>=0,TRUNC(D146/$K$107,0)+1,0)","v":1},1,1,1,1,1]
[null,"Small +",{"$f":"C68-C118","v":97.610000000000014},65.610000000000014,17.61,15.302307692307693,14.276666666666657,13.324285714285708,8.61,null,null,{"$f":"IF(C147>=0,TRUNC(C147/$K$107,0)+1,0)","v":1},{"$f":"IF(D147>=0,TRUNC(D147/$K$107,0)+1,0)","v":1},{"$f":"IF(E147>=0,TRUNC(E147/$K$107,0)+1,0)","v":1},{"$f":"IF(F147>=0,TRUNC(F147/$K$107,0)+1,0)","v":1},{"$f":"IF(G147>=0,TRUNC(G147/$K$107,0)+1,0)","v":1},{"$f":"IF(H147>=0,TRUNC(H147/$K$107,0)+1,0)","v":1},{"$f":"IF(I147>=0,TRUNC(I147/$K$107,0)+1,0)","v":1}]
[null,"Large-TP",{"$f":"C69-C119","v":150.7638461538462},114.76384615384615,60.763846153846146,12.302307692307693,11.276666666666657,10.324285714285708,5.6099999999999994,null,null,2,1,1,1,1,1,1]
[null,"Large-Jet",{"$f":"C70-C120","v":156.94333333333338},120.94333333333333,66.943333333333328,18.481794871794875,10.276666666666657,9.3242857142857076,4.6099999999999994,null,null,2,2,1,1,1,1,1]
[null,"Large-757",{"$f":"C71-C121","v":198.61},151.94333333333333,91.943333333333328,41.174102564102583,31.943333333333328,30.038571428571416,23.61,null,null,3,2,1,1,1,1,1]
[null,"Heavy",{"$f":"C72-C122","v":246.61},202.61,106.61000000000001,83.533076923076919,73.276666666666642,51.752857142857138,19.61,null,null,3,2,2,1,1,1,1]
[null,null,null,null,null,null,null,null,null,null,null,4,3,2,2,1,1,1]
[]
[]
[]
[null,null,"Small - S","Small - T","Small +","Large-TP","Large-Jet","Large-757","Heavy"]
[null,"Average Dep. Runway Occ. Times (sec)",{"$f":"'Single Work Tab'!$C$155","v":34},{"$f":"'Single Work Tab'!$D$155","v":42},{"$f":"'Single Work Tab'!$E$155","v":34},{"$f":"'Single Work Tab'!$F$155","v":34},{"$f":"'Single Work Tab'!$G$155","v":46},{"$f":"'Single Work Tab'!$H$155","v":38},{"$f":"'Single Work Tab'!$I$155","v":51}]
[null,null,"linked to Single Work Tab inputs"]

{"sheet":"Dual Work Tab (3)","index":11,"n_rows":158,"n_cols":18,"rows_kept":158,"cut":false,"hidden":true,"merged":[]}
[null,"Dual Model Worksheet #3 with working Calculated Values"]
[]
[null,"Arrivals Pairing Probability Matrix",null,"(chance of landing behind an aircraft from each class)",null,null,null,null,null,null,0,"Calculated Cells"]
[null,null,"Small - S","Small - T","Small +","Large-TP","Large-Jet","Large-757","Heavy",null,0,"Linked Input Cells"]
[null,"Small - S",{"$f":"'Dual Model'!$C22*'Dual Model'!C22","v":0},{"$f":"'Dual Model'!$C22*'Dual Model'!D22","v":0},{"$f":"'Dual Model'!$C22*'Dual Model'!E22","v":0},{"$f":"'Dual Model'!$C22*'Dual Model'!F22","v":0},{"$f":"'Dual Model'!$C22*'Dual Model'!G22","v":0},{"$f":"'Dual Model'!$C22*'Dual Model'!H22","v":0},{"$f":"'Dual Model'!$C22*'Dual Model'!I22","v":0},null,0,"Linked Cells (within this worksheet)"]
[null,"Small - T",{"$f":"'Dual Model'!$D22*'Dual Model'!C22","v":0},{"$f":"'Dual Model'!$D22*'Dual Model'!D22","v":1.0000000000000002E-2},{"$f":"'Dual Model'!$D22*'Dual Model'!E22","v":0},{"$f":"'Dual Model'!$D22*'Dual Model'!F22","v":0.03},{"$f":"'Dual Model'!$D22*'Dual Model'!G22","v":0.05},{"$f":"'Dual Model'!$D22*'Dual Model'!H22","v":5.000000000000001E-3},{"$f":"'Dual Model'!$D22*'Dual Model'!I22","v":5.000000000000001E-3}]
[null,"Small +",{"$f":"'Dual Model'!$E22*'Dual Model'!C22","v":0},{"$f":"'Dual Model'!$E22*'Dual Model'!D22","v":0},{"$f":"'Dual Model'!$E22*'Dual Model'!E22","v":0},{"$f":"'Dual Model'!$E22*'Dual Model'!F22","v":0},{"$f":"'Dual Model'!$E22*'Dual Model'!G22","v":0},{"$f":"'Dual Model'!$E22*'Dual Model'!H22","v":0},{"$f":"'Dual Model'!$E22*'Dual Model'!I22","v":0}]
[null,"Large-TP",{"$f":"'Dual Model'!$F22*'Dual Model'!C22","v":0},{"$f":"'Dual Model'!$F22*'Dual Model'!D22","v":0.03},{"$f":"'Dual Model'!$F22*'Dual Model'!E22","v":0},{"$f":"'Dual Model'!$F22*'Dual Model'!F22","v":0.09},{"$f":"'Dual Model'!$F22*'Dual Model'!G22","v":0.15},{"$f":"'Dual Model'!$F22*'Dual Model'!H22","v":1.4999999999999999E-2},{"$f":"'Dual Model'!$F22*'Dual Model'!I22","v":1.4999999999999999E-2}]
[null,"Large-Jet",{"$f":"'Dual Model'!$G22*'Dual Model'!C22","v":0},{"$f":"'Dual Model'!$G22*'Dual Model'!D22","v":0.05},{"$f":"'Dual Model'!$G22*'Dual Model'!E22","v":0},{"$f":"'Dual Model'!$G22*'Dual Model'!F22","v":0.15},{"$f":"'Dual Model'!$G22*'Dual Model'!G22","v":0.25},{"$f":"'Dual Model'!$G22*'Dual Model'!H22","v":2.5000000000000001E-2},{"$f":"'Dual Model'!$G22*'Dual Model'!I22","v":2.5000000000000001E-2}]
[null,"Large-757",{"$f":"'Dual Model'!$H22*'Dual Model'!C22","v":0},{"$f":"'Dual Model'!$H22*'Dual Model'!D22","v":5.000000000000001E-3},{"$f":"'Dual Model'!$H22*'Dual Model'!E22","v":0},{"$f":"'Dual Model'!$H22*'Dual Model'!F22","v":1.4999999999999999E-2},{"$f":"'Dual Model'!$H22*'Dual Model'!G22","v":2.5000000000000001E-2},{"$f":"'Dual Model'!$H22*'Dual Model'!H22","v":2.5000000000000005E-3},{"$f":"'Dual Model'!$H22*'Dual Model'!I22","v":2.5000000000000005E-3},"Summary Check"]
[null,"Heavy",{"$f":"'Dual Model'!$I22*'Dual Model'!C22","v":0},{"$f":"'Dual Model'!$I22*'Dual Model'!D22","v":5.000000000000001E-3},{"$f":"'Dual Model'!$I22*'Dual Model'!E22","v":0},{"$f":"'Dual Model'!$I22*'Dual Model'!F22","v":1.4999999999999999E-2},{"$f":"'Dual Model'!$I22*'Dual Model'!G22","v":2.5000000000000001E-2},{"$f":"'Dual Model'!$I22*'Dual Model'!H22","v":2.5000000000000005E-3},{"$f":"'Dual Model'!$I22*'Dual Model'!I22","v":2.5000000000000005E-3},"Total = ",{"$f":"SUM(C5:I11)","v":0.99999999999999989}]
[]
[null,"VMC Required Separation for arrivals following an aircraft from each class",null,null,null,"Distance in Nautical Miles",null,null,null,null,"separations are now referencing the 1.5 or 2.5 nm diagonal separation for dual arriving runways"]
[null,null,"Small - S","Small - T","Small +","Large-TP","Large-Jet","Large-757","Heavy"]
[null,"Small - S",{"$f":"'Dual Model'!D41+'Dual Model'!$H$36","v":1.9},{"$f":"$C$15","v":1.9},1.9,1.9,1.9,1.9,1.9]
[null,"Small - T",{"$f":"$C$15","v":1.9},1.9,1.9,1.9,1.9,1.9,1.9]
[null,"Small +",{"$f":"'Dual Model'!D42+'Dual Model'!$H$36","v":1.9},{"$f":"$C$17","v":1.9},{"$f":"$C$17","v":1.9},{"$f":"'Dual Model'!D43+'Dual Model'!$H$36","v":1.9},{"$f":"$F$17","v":1.9},{"$f":"$F$17","v":1.9},{"$f":"$F$17","v":1.9}]
[null,"Large-TP",{"$f":"'Dual Model'!D44+'Dual Model'!$H$36","v":2.7},{"$f":"$C$18","v":2.7},{"$f":"$C$18","v":2.7},{"$f":"'Dual Model'!D45+'Dual Model'!$H$36","v":1.9},{"$f":"$F$18","v":1.9},1.9,1.9]
[null,"Large-Jet",{"$f":"'Dual Model'!D44+'Dual Model'!$H$36","v":2.7},{"$f":"$C$18","v":2.7},{"$f":"$C$18","v":2.7},{"$f":"'Dual Model'!D45+'Dual Model'!$H$36","v":1.9},1.9,1.9,1.9]
[null,"Large-757",{"$f":"'Dual Model'!D46+'Dual Model'!$H$36","v":3.7},{"$f":"$C$20","v":3.7},{"$f":"$C$20","v":3.7},{"$f":"'Dual Model'!D47+'Dual Model'!$H$36","v":2.7},{"$f":"$F$20","v":2.7},{"$f":"$F$20","v":2.7},{"$f":"$F$20","v":2.7}]
[null,"Heavy",{"$f":"'Dual Model'!D48+'Dual Model'!$H$36","v":4.5999999999999996},{"$f":"$C$21","v":4.5999999999999996},{"$f":"'Dual Model'!D49+'Dual Model'!$H$36","v":3.6},{"$f":"$E$21","v":3.6},{"$f":"E21","v":3.6},{"$f":"F21","v":3.6},{"$f":"'Dual Model'!D50+'Dual Model'!$H$36","v":2.7}]
[]
[null,"IMC Required Separation for arrivals following an aircraft from each class",null,null,null,"Distance in Nautical Miles"]
[null,null,"Small - S","Small - T","Small +","Large-TP","Large-Jet","Large-757","Heavy"]
[null,"Small - S",{"$f":"'Dual Model'!E41+'Dual Model'!$H$36","v":3},{"$f":"$C$25","v":3},3,3,3,3,3]
[null,"Small - T",{"$f":"$C$25","v":3},3,3,3,3,3,3]
[null,"Small +",{"$f":"'Dual Model'!E42+'Dual Model'!$H$36","v":3},{"$f":"$C$27","v":3},{"$f":"$C$27","v":3},{"$f":"'Dual Model'!E43+'Dual Model'!$H$36","v":3},{"$f":"$F$27","v":3},{"$f":"$F$27","v":3},{"$f":"$F$27","v":3}]
[null,"Large-TP",{"$f":"'Dual Model'!E44+'Dual Model'!$H$36","v":4},{"$f":"$C$28","v":4},{"$f":"$C$28","v":4},{"$f":"'Dual Model'!E45+'Dual Model'!$H$36","v":3},{"$f":"$F$28","v":3},3,3]
[null,"Large-Jet",{"$f":"'Dual Model'!E44+'Dual Model'!$H$36","v":4},{"$f":"$C$28","v":4},{"$f":"$C$28","v":4},{"$f":"'Dual Model'!E45+'Dual Model'!$H$36","v":3},3,3,3]
[null,"Large-757",{"$f":"'Dual Model'!E46+'Dual Model'!$H$36","v":5},{"$f":"$C$30","v":5},{"$f":"$C$30","v":5},{"$f":"'Dual Model'!E47+'Dual Model'!$H$36","v":4},{"$f":"$F$30","v":4},{"$f":"$F$30","v":4},{"$f":"$F$30","v":4}]
[null,"Heavy",{"$f":"'Dual Model'!E48+'Dual Model'!$H$36","v":6},{"$f":"$C$31","v":6},{"$f":"'Dual Model'!E49+'Dual Model'!$H$36","v":5},{"$f":"$E$31","v":5},{"$f":"$E$31","v":5},{"$f":"$E$31","v":5},{"$f":"'Dual Model'!E50+'Dual Model'!$H$36","v":4}]
[]
[null,"VMC Required Separation for departures following an aircraft from each class",null,null,null,"Time in seconds"]
[null,null,"Small - S","Small - T","Small +","Large-TP","Large-Jet","Large-757","Heavy"]
[null,"Small - S",{"$f":"'Dual Model'!$D$54+'Dual Model'!$C$37","v":45},{"$f":"$C$35","v":45},{"$f":"$C$35","v":45},{"$f":"'Dual Model'!$D$55+'Dual Model'!$C$37","v":55},{"$f":"$F$35","v":55},55,{"$f":"'Dual Model'!$D$56+'Dual Model'!$C$37","v":60}]
[null,"Small - T",{"$f":"$C$35","v":45},45,45,{"$f":"$F$35","v":55},55,55,{"$f":"$I$35","v":60}]
[null,"Small +",45,45,45,{"$f":"$F$35","v":55},55,55,{"$f":"$I$35","v":60}]
[null,"Large-TP",{"$f":"'Dual Model'!$D$57+'Dual Model'!$C$37","v":90},{"$f":"$C$38","v":90},90,{"$f":"'Dual Model'!$D$58+'Dual Model'!$C$37","v":70},{"$f":"$F$38","v":70},70,70]
[null,"Large-Jet",{"$f":"$C$38","v":90},90,90,{"$f":"$F$38","v":70},70,70,70]
[null,"Large-757",{"$f":"$C$38","v":90},90,90,{"$f":"$F$38","v":70},70,70,70]
[null,"Heavy",{"$f":"'Dual Model'!$D$59+'Dual Model'!$C$37","v":130},{"$f":"$C$41","v":130},{"$f":"$C$41","v":130},{"$f":"$C$41","v":130},{"$f":"$C$41","v":130},{"$f":"$C$41","v":130},{"$f":"'Dual Model'!$D$60+'Dual Model'!$C$37","v":100}]
[]
[null,"IMC Required Separation for departures following an aircraft from each class",null,null,null,"Time in seconds"]
[null,null,"Small - S","Small - T","Small +","Large-TP","Large-Jet","Large-757","Heavy"]
[null,"Small - S",{"$f":"'Dual Model'!$E$54+'Dual Model'!$C$37","v":70},{"$f":"$C$45","v":70},70,{"$f":"'Dual Model'!$E$55+'Dual Model'!$C$37","v":70},{"$f":"$F$45","v":70},70,{"$f":"'Dual Model'!$E$56+'Dual Model'!$C$37","v":70}]
[null,"Small - T",{"$f":"$C$45","v":70},70,70,{"$f":"$F$45","v":70},70,70,{"$f":"$I$45","v":70}]
[null,"Small +",{"$f":"$C$45","v":70},70,70,{"$f":"$F$45","v":70},70,70,{"$f":"$I$45","v":70}]
[null,"Large-TP",{"$f":"'Dual Model'!$E$57+'Dual Model'!$C$37","v":90},{"$f":"$C$48","v":90},90,{"$f":"'Dual Model'!$E$58+'Dual Model'!$C$37","v":70},{"$f":"$F$48","v":70},70,70]
[null,"Large-Jet",{"$f":"$C$48","v":90},90,90,{"$f":"$F$48","v":70},70,70,70,null," "]
[null,"Large-757",{"$f":"$C$48","v":90},90,90,{"$f":"$F$48","v":70},70,70,70]
[null,"Heavy",{"$f":"'Dual Model'!$E$59+'Dual Model'!$C$37","v":130},{"$f":"$C$51","v":130},{"$f":"$C$51","v":130},{"$f":"$C$51","v":130},{"$f":"$C$51","v":130},{"$f":"$C$51","v":130},{"$f":"'Dual Model'!$E$60+'Dual Model'!$C$37","v":100}]
[]
[null,null,null," "]
[null,"VMC Required Separation for arrivals following an aircraft from each class",null,null,null,"Time in Seconds"]
[null,null,"Small - S","Small - T","Small +","Large-TP","Large-Jet","Large-757","Heavy"]
[null,"Small - S",{"$f":"MAXA(3600*C15/('Dual Model'!$C$28)+'Dual Model'!$H$14*'Dual Model'!$H$12+MAXA(0,'Dual Model'!$C$14*3600*(1/'Dual Model'!$C$28-1/'Dual Model'!$C$28)),'Dual Model'!$C$25+'Dual Model'!$H$14*SQRT('Dual Model'!$H$12^2+'Dual Model'!$H$13^2))+'Dual Model'!$C$36","v":105.61},{"$f":"MAXA(3600*D15/('Dual Model'!$D$28)+'Dual Model'!$H$14*'Dual Model'!$H$12+MAXA(0,'Dual Model'!$C$14*3600*(1/'Dual Model'!$D$28-1/'Dual Model'!$C$28)),'Dual Model'!$C$25+'Dual Model'!$H$14*SQRT('Dual Model'!$H$12^2+'Dual Model'!$H$13^2))+'Dual Model'!$C$36","v":98.01},{"$f":"MAXA(3600*E15/('Dual Model'!$E$28)+'Dual Model'!$H$14*'Dual Model'!$H$12+MAXA(0,'Dual Model'!$C$14*3600*(1/'Dual Model'!$E$28-1/'Dual Model'!$C$28)),'Dual Model'!$C$25+'Dual Model'!$H$14*SQRT('Dual Model'!$H$12^2+'Dual Model'!$H$13^2))+'Dual Model'!$C$36","v":86.61},{"$f":"MAXA(3600*F15/('Dual Model'!$F$28)+'Dual Model'!$H$14*'Dual Model'!$H$12+MAXA(0,'Dual Model'!$C$14*3600*(1/'Dual Model'!$F$28-1/'Dual Model'!$C$28)),'Dual Model'!$C$25+'Dual Model'!$H$14*SQRT('Dual Model'!$H$12^2+'Dual Model'!$H$13^2))+'Dual Model'!$C$36","v":82.225384615384613},{"$f":"MAXA(3600*G15/('Dual Model'!$G$28)+'Dual Model'!$H$14*'Dual Model'!$H$12+MAXA(0,'Dual Model'!$C$14*3600*(1/'Dual Model'!$G$28-1/'Dual Model'!$C$28)),'Dual Model'!$C$25+'Dual Model'!$H$14*SQRT('Dual Model'!$H$12^2+'Dual Model'!$H$13^2))+'Dual Model'!$C$36","v":80.276666666666671},{"$f":"MAXA(3600*H15/('Dual Model'!$H$28)+'Dual Model'!$H$14*'Dual Model'!$H$12+MAXA(0,'Dual Model'!$C$14*3600*(1/'Dual Model'!$H$28-1/'Dual Model'!$C$28)),'Dual Model'!$C$25+'Dual Model'!$H$14*SQRT('Dual Model'!$H$12^2+'Dual Model'!$H$13^2))+'Dual Model'!$C$36","v":78.467142857142846},{"$f":"MAXA(3600*I15/('Dual Model'!$I$28)+'Dual Model'!$H$14*'Dual Model'!$H$12+MAXA(0,'Dual Model'!$C$14*3600*(1/'Dual Model'!$I$28-1/'Dual Model'!$C$28)),'Dual Model'!$C$25+'Dual Model'!$H$14*SQRT('Dual Model'!$H$12^2+'Dual Model'!$H$13^2))+'Dual Model'!$C$36","v":75.210000000000008}]
[null,"Small - T",{"$f":"MAXA(3600*C16/('Dual Model'!$C$28)+'Dual Model'!$H$14*'Dual Model'!$H$12+MAXA(0,'Dual Model'!$C$14*3600*(1/'Dual Model'!$C$28-1/'Dual Model'!$D$28)),'Dual Model'!$D$25+'Dual Model'!$H$14*SQRT('Dual Model'!$H$12^2+'Dual Model'!$H$13^2))+'Dual Model'!$C$36","v":133.61000000000001},{"$f":"MAXA(3600*D16/('Dual Model'!$D$28)+'Dual Model'!$H$14*'Dual Model'!$H$12+MAXA(0,'Dual Model'!$C$14*3600*(1/'Dual Model'!$D$28-1/'Dual Model'!$D$28)),'Dual Model'!$D$25+'Dual Model'!$H$14*SQRT('Dual Model'!$H$12^2+'Dual Model'!$H$13^2))+'Dual Model'!$C$36","v":98.01},{"$f":"MAXA(3600*E16/('Dual Model'!$E$28)+'Dual Model'!$H$14*'Dual Model'!$H$12+MAXA(0,'Dual Model'!$C$14*3600*(1/'Dual Model'!$E$28-1/'Dual Model'!$D$28)),'Dual Model'!$D$25+'Dual Model'!$H$14*SQRT('Dual Model'!$H$12^2+'Dual Model'!$H$13^2))+'Dual Model'!$C$36","v":86.61},{"$f":"MAXA(3600*F16/('Dual Model'!$F$28)+'Dual Model'!$H$14*'Dual Model'!$H$12+MAXA(0,'Dual Model'!$C$14*3600*(1/'Dual Model'!$F$28-1/'Dual Model'!$D$28)),'Dual Model'!$D$25+'Dual Model'!$H$14*SQRT('Dual Model'!$H$12^2+'Dual Model'!$H$13^2))+'Dual Model'!$C$36","v":82.225384615384613},{"$f":"MAXA(3600*G16/('Dual Model'!$G$28)+'Dual Model'!$H$14*'Dual Model'!$H$12+MAXA(0,'Dual Model'!$C$14*3600*(1/'Dual Model'!$G$28-1/'Dual Model'!$D$28)),'Dual Model'!$D$25+'Dual Model'!$H$14*SQRT('Dual Model'!$H$12^2+'Dual Model'!$H$13^2))+'Dual Model'!$C$36","v":80.276666666666671},{"$f":"MAXA(3600*H16/('Dual Model'!$H$28)+'Dual Model'!$H$14*'Dual Model'!$H$12+MAXA(0,'Dual Model'!$C$14*3600*(1/'Dual Model'!$H$28-1/'Dual Model'!$D$28)),'Dual Model'!$D$25+'Dual Model'!$H$14*SQRT('Dual Model'!$H$12^2+'Dual Model'!$H$13^2))+'Dual Model'!$C$36","v":78.467142857142846},{"$f":"MAXA(3600*I16/('Dual Model'!$I$28)+'Dual Model'!$H$14*'Dual Model'!$H$12+MAXA(0,'Dual Model'!$C$14*3600*(1/'Dual Model'!$I$28-1/'Dual Model'!$D$28)),'Dual Model'!$D$25+'Dual Model'!$H$14*SQRT('Dual Model'!$H$12^2+'Dual Model'!$H$13^2))+'Dual Model'!$C$36","v":75.210000000000008}]
[null,"Small +",{"$f":"MAXA(3600*C17/('Dual Model'!$C$28)+'Dual Model'!$H$14*'Dual Model'!$H$12+MAXA(0,'Dual Model'!$C$14*3600*(1/'Dual Model'!$C$28-1/'Dual Model'!$E$28)),'Dual Model'!$E$25+'Dual Model'!$H$14*SQRT('Dual Model'!$H$12^2+'Dual Model'!$H$13^2))+'Dual Model'!$C$36","v":175.61},{"$f":"MAXA(3600*D17/('Dual Model'!$D$28)+'Dual Model'!$H$14*'Dual Model'!$H$12+MAXA(0,'Dual Model'!$C$14*3600*(1/'Dual Model'!$D$28-1/'Dual Model'!$E$28)),'Dual Model'!$E$25+'Dual Model'!$H$14*SQRT('Dual Model'!$H$12^2+'Dual Model'!$H$13^2))+'Dual Model'!$C$36","v":140.01000000000002},{"$f":"MAXA(3600*E17/('Dual Model'!$E$28)+'Dual Model'!$H$14*'Dual Model'!$H$12+MAXA(0,'Dual Model'!$C$14*3600*(1/'Dual Model'!$E$28-1/'Dual Model'!$E$28)),'Dual Model'!$E$25+'Dual Model'!$H$14*SQRT('Dual Model'!$H$12^2+'Dual Model'!$H$13^2))+'Dual Model'!$C$36","v":86.61},{"$f":"MAXA(3600*F17/('Dual Model'!$F$28)+'Dual Model'!$H$14*'Dual Model'!$H$12+MAXA(0,'Dual Model'!$C$14*3600*(1/'Dual Model'!$F$28-1/'Dual Model'!$E$28)),'Dual Model'!$E$25+'Dual Model'!$H$14*SQRT('Dual Model'!$H$12^2+'Dual Model'!$H$13^2))+'Dual Model'!$C$36","v":82.225384615384613},{"$f":"MAXA(3600*G17/('Dual Model'!$G$28)+'Dual Model'!$H$14*'Dual Model'!$H$12+MAXA(0,'Dual Model'!$C$14*3600*(1/'Dual Model'!$G$28-1/'Dual Model'!$E$28)),'Dual Model'!$E$25+'Dual Model'!$H$14*SQRT('Dual Model'!$H$12^2+'Dual Model'!$H$13^2))+'Dual Model'!$C$36","v":80.276666666666671},{"$f":"MAXA(3600*H17/('Dual Model'!$H$28)+'Dual Model'!$H$14*'Dual Model'!$H$12+MAXA(0,'Dual Model'!$C$14*3600*(1/'Dual Model'!$H$28-1/'Dual Model'!$E$28)),'Dual Model'!$E$25+'Dual Model'!$H$14*SQRT('Dual Model'!$H$12^2+'Dual Model'!$H$13^2))+'Dual Model'!$C$36","v":78.467142857142846},{"$f":"MAXA(3600*I17/('Dual Model'!$I$28)+'Dual Model'!$H$14*'Dual Model'!$H$12+MAXA(0,'Dual Model'!$C$14*3600*(1/'Dual Model'!$I$28-1/'Dual Model'!$E$28)),'Dual Model'!$E$25+'Dual Model'!$H$14*SQRT('Dual Model'!$H$12^2+'Dual Model'!$H$13^2))+'Dual Model'!$C$36","v":75.210000000000008}]
[null,"Large-TP",{"$f":"MAXA(3600*C18/('Dual Model'!$C$28)+'Dual Model'!$H$14*'Dual Model'!$H$12+MAXA(0,'Dual Model'!$C$14*3600*(1/'Dual Model'!$C$28-1/'Dual Model'!$F$28)),'Dual Model'!$F$25+'Dual Model'!$H$14*SQRT('Dual Model'!$H$12^2+'Dual Model'!$H$13^2))+'Dual Model'!$C$36","v":223.76384615384617},{"$f":"MAXA(3600*D18/('Dual Model'!$D$28)+'Dual Model'!$H$14*'Dual Model'!$H$12+MAXA(0,'Dual Model'!$C$14*3600*(1/'Dual Model'!$D$28-1/'Dual Model'!$F$28)),'Dual Model'!$F$25+'Dual Model'!$H$14*SQRT('Dual Model'!$H$12^2+'Dual Model'!$H$13^2))+'Dual Model'!$C$36","v":184.96384615384613},{"$f":"MAXA(3600*E18/('Dual Model'!$E$28)+'Dual Model'!$H$14*'Dual Model'!$H$12+MAXA(0,'Dual Model'!$C$14*3600*(1/'Dual Model'!$E$28-1/'Dual Model'!$F$28)),'Dual Model'!$F$25+'Dual Model'!$H$14*SQRT('Dual Model'!$H$12^2+'Dual Model'!$H$13^2))+'Dual Model'!$C$36","v":126.76384615384615},{"$f":"MAXA(3600*F18/('Dual Model'!$F$28)+'Dual Model'!$H$14*'Dual Model'!$H$12+MAXA(0,'Dual Model'!$C$14*3600*(1/'Dual Model'!$F$28-1/'Dual Model'!$F$28)),'Dual Model'!$F$25+'Dual Model'!$H$14*SQRT('Dual Model'!$H$12^2+'Dual Model'!$H$13^2))+'Dual Model'!$C$36","v":82.225384615384613},{"$f":"MAXA(3600*G18/('Dual Model'!$G$28)+'Dual Model'!$H$14*'Dual Model'!$H$12+MAXA(0,'Dual Model'!$C$14*3600*(1/'Dual Model'!$G$28-1/'Dual Model'!$F$28)),'Dual Model'!$F$25+'Dual Model'!$H$14*SQRT('Dual Model'!$H$12^2+'Dual Model'!$H$13^2))+'Dual Model'!$C$36","v":80.276666666666671},{"$f":"MAXA(3600*H18/('Dual Model'!$H$28)+'Dual Model'!$H$14*'Dual Model'!$H$12+MAXA(0,'Dual Model'!$C$14*3600*(1/'Dual Model'!$H$28-1/'Dual Model'!$F$28)),'Dual Model'!$F$25+'Dual Model'!$H$14*SQRT('Dual Model'!$H$12^2+'Dual Model'!$H$13^2))+'Dual Model'!$C$36","v":78.467142857142846},{"$f":"MAXA(3600*I18/('Dual Model'!$I$28)+'Dual Model'!$H$14*'Dual Model'!$H$12+MAXA(0,'Dual Model'!$C$14*3600*(1/'Dual Model'!$I$28-1/'Dual Model'!$F$28)),'Dual Model'!$F$25+'Dual Model'!$H$14*SQRT('Dual Model'!$H$12^2+'Dual Model'!$H$13^2))+'Dual Model'!$C$36","v":76.211680505861906}]
[null,"Large-Jet",{"$f":"MAXA(3600*C19/('Dual Model'!$C$28)+'Dual Model'!$H$14*'Dual Model'!$H$12+MAXA(0,'Dual Model'!$C$14*3600*(1/'Dual Model'!$C$28-1/'Dual Model'!$G$28)),'Dual Model'!$G$25+'Dual Model'!$H$14*SQRT('Dual Model'!$H$12^2+'Dual Model'!$H$13^2))+'Dual Model'!$C$36","v":230.94333333333336},{"$f":"MAXA(3600*D19/('Dual Model'!$D$28)+'Dual Model'!$H$14*'Dual Model'!$H$12+MAXA(0,'Dual Model'!$C$14*3600*(1/'Dual Model'!$D$28-1/'Dual Model'!$G$28)),'Dual Model'!$G$25+'Dual Model'!$H$14*SQRT('Dual Model'!$H$12^2+'Dual Model'!$H$13^2))+'Dual Model'!$C$36","v":192.14333333333332},{"$f":"MAXA(3600*E19/('Dual Model'!$E$28)+'Dual Model'!$H$14*'Dual Model'!$H$12+MAXA(0,'Dual Model'!$C$14*3600*(1/'Dual Model'!$E$28-1/'Dual Model'!$G$28)),'Dual Model'!$G$25+'Dual Model'!$H$14*SQRT('Dual Model'!$H$12^2+'Dual Model'!$H$13^2))+'Dual Model'!$C$36","v":133.94333333333333},{"$f":"MAXA(3600*F19/('Dual Model'!$F$28)+'Dual Model'!$H$14*'Dual Model'!$H$12+MAXA(0,'Dual Model'!$C$14*3600*(1/'Dual Model'!$F$28-1/'Dual Model'!$G$28)),'Dual Model'!$G$25+'Dual Model'!$H$14*SQRT('Dual Model'!$H$12^2+'Dual Model'!$H$13^2))+'Dual Model'!$C$36","v":89.404871794871795},{"$f":"MAXA(3600*G19/('Dual Model'!$G$28)+'Dual Model'!$H$14*'Dual Model'!$H$12+MAXA(0,'Dual Model'!$C$14*3600*(1/'Dual Model'!$G$28-1/'Dual Model'!$G$28)),'Dual Model'!$G$25+'Dual Model'!$H$14*SQRT('Dual Model'!$H$12^2+'Dual Model'!$H$13^2))+'Dual Model'!$C$36","v":80.276666666666671},{"$f":"MAXA(3600*H19/('Dual Model'!$H$28)+'Dual Model'!$H$14*'Dual Model'!$H$12+MAXA(0,'Dual Model'!$C$14*3600*(1/'Dual Model'!$H$28-1/'Dual Model'!$G$28)),'Dual Model'!$G$25+'Dual Model'!$H$14*SQRT('Dual Model'!$H$12^2+'Dual Model'!$H$13^2))+'Dual Model'!$C$36","v":78.467142857142846},{"$f":"MAXA(3600*I19/('Dual Model'!$I$28)+'Dual Model'!$H$14*'Dual Model'!$H$12+MAXA(0,'Dual Model'!$C$14*3600*(1/'Dual Model'!$I$28-1/'Dual Model'!$G$28)),'Dual Model'!$G$25+'Dual Model'!$H$14*SQRT('Dual Model'!$H$12^2+'Dual Model'!$H$13^2))+'Dual Model'!$C$36","v":77.211680505861906}]
[null,"Large-757",{"$f":"MAXA(3600*C20/('Dual Model'!$C$28)+'Dual Model'!$H$14*'Dual Model'!$H$12+MAXA(0,'Dual Model'!$C$14*3600*(1/'Dual Model'!$C$28-1/'Dual Model'!$H$28)),'Dual Model'!$H$25+'Dual Model'!$H$14*SQRT('Dual Model'!$H$12^2+'Dual Model'!$H$13^2))+'Dual Model'!$C$36","v":277.61},{"$f":"MAXA(3600*D20/('Dual Model'!$D$28)+'Dual Model'!$H$14*'Dual Model'!$H$12+MAXA(0,'Dual Model'!$C$14*3600*(1/'Dual Model'!$D$28-1/'Dual Model'!$H$28)),'Dual Model'!$H$25+'Dual Model'!$H$14*SQRT('Dual Model'!$H$12^2+'Dual Model'!$H$13^2))+'Dual Model'!$C$36","v":234.81},{"$f":"MAXA(3600*E20/('Dual Model'!$E$28)+'Dual Model'!$H$14*'Dual Model'!$H$12+MAXA(0,'Dual Model'!$C$14*3600*(1/'Dual Model'!$E$28-1/'Dual Model'!$H$28)),'Dual Model'!$H$25+'Dual Model'!$H$14*SQRT('Dual Model'!$H$12^2+'Dual Model'!$H$13^2))+'Dual Model'!$C$36","v":170.61},{"$f":"MAXA(3600*F20/('Dual Model'!$F$28)+'Dual Model'!$H$14*'Dual Model'!$H$12+MAXA(0,'Dual Model'!$C$14*3600*(1/'Dual Model'!$F$28-1/'Dual Model'!$H$28)),'Dual Model'!$H$25+'Dual Model'!$H$14*SQRT('Dual Model'!$H$12^2+'Dual Model'!$H$13^2))+'Dual Model'!$C$36","v":118.22538461538464},{"$f":"MAXA(3600*G20/('Dual Model'!$G$28)+'Dual Model'!$H$14*'Dual Model'!$H$12+MAXA(0,'Dual Model'!$C$14*3600*(1/'Dual Model'!$G$28-1/'Dual Model'!$H$28)),'Dual Model'!$H$25+'Dual Model'!$H$14*SQRT('Dual Model'!$H$12^2+'Dual Model'!$H$13^2))+'Dual Model'!$C$36","v":108.27666666666669},{"$f":"MAXA(3600*H20/('Dual Model'!$H$28)+'Dual Model'!$H$14*'Dual Model'!$H$12+MAXA(0,'Dual Model'!$C$14*3600*(1/'Dual Model'!$H$28-1/'Dual Model'!$H$28)),'Dual Model'!$H$25+'Dual Model'!$H$14*SQRT('Dual Model'!$H$12^2+'Dual Model'!$H$13^2))+'Dual Model'!$C$36","v":99.03857142857143},{"$f":"MAXA(3600*I20/('Dual Model'!$I$28)+'Dual Model'!$H$14*'Dual Model'!$H$12+MAXA(0,'Dual Model'!$C$14*3600*(1/'Dual Model'!$I$28-1/'Dual Model'!$H$28)),'Dual Model'!$H$25+'Dual Model'!$H$14*SQRT('Dual Model'!$H$12^2+'Dual Model'!$H$13^2))+'Dual Model'!$C$36","v":94.41}]
[null,"Heavy",{"$f":"MAXA(3600*C21/('Dual Model'!$C$28)+'Dual Model'!$H$14*'Dual Model'!$H$12+MAXA(0,'Dual Model'!$C$14*3600*(1/'Dual Model'!$C$28-1/'Dual Model'!$I$28)),'Dual Model'!$I$25+'Dual Model'!$H$14*SQRT('Dual Model'!$H$12^2+'Dual Model'!$H$13^2))+'Dual Model'!$C$36","v":325.61},{"$f":"MAXA(3600*D21/('Dual Model'!$D$28)+'Dual Model'!$H$14*'Dual Model'!$H$12+MAXA(0,'Dual Model'!$C$14*3600*(1/'Dual Model'!$D$28-1/'Dual Model'!$I$28)),'Dual Model'!$I$25+'Dual Model'!$H$14*SQRT('Dual Model'!$H$12^2+'Dual Model'!$H$13^2))+'Dual Model'!$C$36","v":279.20999999999998},{"$f":"MAXA(3600*E21/('Dual Model'!$E$28)+'Dual Model'!$H$14*'Dual Model'!$H$12+MAXA(0,'Dual Model'!$C$14*3600*(1/'Dual Model'!$E$28-1/'Dual Model'!$I$28)),'Dual Model'!$I$25+'Dual Model'!$H$14*SQRT('Dual Model'!$H$12^2+'Dual Model'!$H$13^2))+'Dual Model'!$C$36","v":179.61},{"$f":"MAXA(3600*F21/('Dual Model'!$F$28)+'Dual Model'!$H$14*'Dual Model'!$H$12+MAXA(0,'Dual Model'!$C$14*3600*(1/'Dual Model'!$F$28-1/'Dual Model'!$I$28)),'Dual Model'!$I$25+'Dual Model'!$H$14*SQRT('Dual Model'!$H$12^2+'Dual Model'!$H$13^2))+'Dual Model'!$C$36","v":155.14846153846153},{"$f":"MAXA(3600*G21/('Dual Model'!$G$28)+'Dual Model'!$H$14*'Dual Model'!$H$12+MAXA(0,'Dual Model'!$C$14*3600*(1/'Dual Model'!$G$28-1/'Dual Model'!$I$28)),'Dual Model'!$I$25+'Dual Model'!$H$14*SQRT('Dual Model'!$H$12^2+'Dual Model'!$H$13^2))+'Dual Model'!$C$36","v":144.27666666666667},{"$f":"MAXA(3600*H21/('Dual Model'!$H$28)+'Dual Model'!$H$14*'Dual Model'!$H$12+MAXA(0,'Dual Model'!$C$14*3600*(1/'Dual Model'!$H$28-1/'Dual Model'!$I$28)),'Dual Model'!$I$25+'Dual Model'!$H$14*SQRT('Dual Model'!$H$12^2+'Dual Model'!$H$13^2))+'Dual Model'!$C$36","v":134.18142857142854},{"$f":"MAXA(3600*I21/('Dual Model'!$I$28)+'Dual Model'!$H$14*'Dual Model'!$H$12+MAXA(0,'Dual Model'!$C$14*3600*(1/'Dual Model'!$I$28-1/'Dual Model'!$I$28)),'Dual Model'!$I$25+'Dual Model'!$H$14*SQRT('Dual Model'!$H$12^2+'Dual Model'!$H$13^2))+'Dual Model'!$C$36","v":94.41}]
[]
[null,"IMC Required Separation for arrivals following an aircraft from each class",null,null,null,"Time in Seconds"]
[null,null,"Small - S","Small - T","Small +","Large-TP","Large-Jet","Large-757","Heavy"]
[null,"Small - S",{"$f":"MAXA(3600*C25/('Dual Model'!$C$28)+'Dual Model'!$H$14*'Dual Model'!$H$12+MAXA(0,'Dual Model'!$C$14*3600*(1/'Dual Model'!$C$28-1/'Dual Model'!$C$28)),'Dual Model'!$C$25+'Dual Model'!$H$14*SQRT('Dual Model'!$H$12^2+'Dual Model'!$H$13^2))+'Dual Model'!$C$36","v":149.61000000000001},{"$f":"MAXA(3600*D25/('Dual Model'!$D$28)+'Dual Model'!$H$14*'Dual Model'!$H$12+MAXA(0,'Dual Model'!$C$14*3600*(1/'Dual Model'!$D$28-1/'Dual Model'!$C$28)),'Dual Model'!$C$25+'Dual Model'!$H$14*SQRT('Dual Model'!$H$12^2+'Dual Model'!$H$13^2))+'Dual Model'!$C$36","v":137.61000000000001},{"$f":"MAXA(3600*E25/('Dual Model'!$E$28)+'Dual Model'!$H$14*'Dual Model'!$H$12+MAXA(0,'Dual Model'!$C$14*3600*(1/'Dual Model'!$E$28-1/'Dual Model'!$C$28)),'Dual Model'!$C$25+'Dual Model'!$H$14*SQRT('Dual Model'!$H$12^2+'Dual Model'!$H$13^2))+'Dual Model'!$C$36","v":119.61},{"$f":"MAXA(3600*F25/('Dual Model'!$F$28)+'Dual Model'!$H$14*'Dual Model'!$H$12+MAXA(0,'Dual Model'!$C$14*3600*(1/'Dual Model'!$F$28-1/'Dual Model'!$C$28)),'Dual Model'!$C$25+'Dual Model'!$H$14*SQRT('Dual Model'!$H$12^2+'Dual Model'!$H$13^2))+'Dual Model'!$C$36","v":112.68692307692308},{"$f":"MAXA(3600*G25/('Dual Model'!$G$28)+'Dual Model'!$H$14*'Dual Model'!$H$12+MAXA(0,'Dual Model'!$C$14*3600*(1/'Dual Model'!$G$28-1/'Dual Model'!$C$28)),'Dual Model'!$C$25+'Dual Model'!$H$14*SQRT('Dual Model'!$H$12^2+'Dual Model'!$H$13^2))+'Dual Model'!$C$36","v":109.61},{"$f":"MAXA(3600*H25/('Dual Model'!$H$28)+'Dual Model'!$H$14*'Dual Model'!$H$12+MAXA(0,'Dual Model'!$C$14*3600*(1/'Dual Model'!$H$28-1/'Dual Model'!$C$28)),'Dual Model'!$C$25+'Dual Model'!$H$14*SQRT('Dual Model'!$H$12^2+'Dual Model'!$H$13^2))+'Dual Model'!$C$36","v":106.75285714285714},{"$f":"MAXA(3600*I25/('Dual Model'!$I$28)+'Dual Model'!$H$14*'Dual Model'!$H$12+MAXA(0,'Dual Model'!$C$14*3600*(1/'Dual Model'!$I$28-1/'Dual Model'!$C$28)),'Dual Model'!$C$25+'Dual Model'!$H$14*SQRT('Dual Model'!$H$12^2+'Dual Model'!$H$13^2))+'Dual Model'!$C$36","v":101.61}]
[null,"Small - T",{"$f":"MAXA(3600*C26/('Dual Model'!$C$28)+'Dual Model'!$H$14*'Dual Model'!$H$12+MAXA(0,'Dual Model'!$C$14*3600*(1/'Dual Model'!$C$28-1/'Dual Model'!$D$28)),'Dual Model'!$D$25+'Dual Model'!$H$14*SQRT('Dual Model'!$H$12^2+'Dual Model'!$H$13^2))+'Dual Model'!$C$36","v":177.61},{"$f":"MAXA(3600*D26/('Dual Model'!$D$28)+'Dual Model'!$H$14*'Dual Model'!$H$12+MAXA(0,'Dual Model'!$C$14*3600*(1/'Dual Model'!$D$28-1/'Dual Model'!$D$28)),'Dual Model'!$D$25+'Dual Model'!$H$14*SQRT('Dual Model'!$H$12^2+'Dual Model'!$H$13^2))+'Dual Model'!$C$36","v":137.61000000000001},{"$f":"MAXA(3600*E26/('Dual Model'!$E$28)+'Dual Model'!$H$14*'Dual Model'!$H$12+MAXA(0,'Dual Model'!$C$14*3600*(1/'Dual Model'!$E$28-1/'Dual Model'!$D$28)),'Dual Model'!$D$25+'Dual Model'!$H$14*SQRT('Dual Model'!$H$12^2+'Dual Model'!$H$13^2))+'Dual Model'!$C$36","v":119.61},{"$f":"MAXA(3600*F26/('Dual Model'!$F$28)+'Dual Model'!$H$14*'Dual Model'!$H$12+MAXA(0,'Dual Model'!$C$14*3600*(1/'Dual Model'!$F$28-1/'Dual Model'!$D$28)),'Dual Model'!$D$25+'Dual Model'!$H$14*SQRT('Dual Model'!$H$12^2+'Dual Model'!$H$13^2))+'Dual Model'!$C$36","v":112.68692307692308},{"$f":"MAXA(3600*G26/('Dual Model'!$G$28)+'Dual Model'!$H$14*'Dual Model'!$H$12+MAXA(0,'Dual Model'!$C$14*3600*(1/'Dual Model'!$G$28-1/'Dual Model'!$D$28)),'Dual Model'!$D$25+'Dual Model'!$H$14*SQRT('Dual Model'!$H$12^2+'Dual Model'!$H$13^2))+'Dual Model'!$C$36","v":109.61},{"$f":"MAXA(3600*H26/('Dual Model'!$H$28)+'Dual Model'!$H$14*'Dual Model'!$H$12+MAXA(0,'Dual Model'!$C$14*3600*(1/'Dual Model'!$H$28-1/'Dual Model'!$D$28)),'Dual Model'!$D$25+'Dual Model'!$H$14*SQRT('Dual Model'!$H$12^2+'Dual Model'!$H$13^2))+'Dual Model'!$C$36","v":106.75285714285714},{"$f":"MAXA(3600*I26/('Dual Model'!$I$28)+'Dual Model'!$H$14*'Dual Model'!$H$12+MAXA(0,'Dual Model'!$C$14*3600*(1/'Dual Model'!$I$28-1/'Dual Model'!$D$28)),'Dual Model'!$D$25+'Dual Model'!$H$14*SQRT('Dual Model'!$H$12^2+'Dual Model'!$H$13^2))+'Dual Model'!$C$36","v":101.61}]
[null,"Small +",{"$f":"MAXA(3600*C27/('Dual Model'!$C$28)+'Dual Model'!$H$14*'Dual Model'!$H$12+MAXA(0,'Dual Model'!$C$14*3600*(1/'Dual Model'!$C$28-1/'Dual Model'!$E$28)),'Dual Model'!$E$25+'Dual Model'!$H$14*SQRT('Dual Model'!$H$12^2+'Dual Model'!$H$13^2))+'Dual Model'!$C$36","v":219.61},{"$f":"MAXA(3600*D27/('Dual Model'!$D$28)+'Dual Model'!$H$14*'Dual Model'!$H$12+MAXA(0,'Dual Model'!$C$14*3600*(1/'Dual Model'!$D$28-1/'Dual Model'!$E$28)),'Dual Model'!$E$25+'Dual Model'!$H$14*SQRT('Dual Model'!$H$12^2+'Dual Model'!$H$13^2))+'Dual Model'!$C$36","v":179.61},{"$f":"MAXA(3600*E27/('Dual Model'!$E$28)+'Dual Model'!$H$14*'Dual Model'!$H$12+MAXA(0,'Dual Model'!$C$14*3600*(1/'Dual Model'!$E$28-1/'Dual Model'!$E$28)),'Dual Model'!$E$25+'Dual Model'!$H$14*SQRT('Dual Model'!$H$12^2+'Dual Model'!$H$13^2))+'Dual Model'!$C$36","v":119.61},{"$f":"MAXA(3600*F27/('Dual Model'!$F$28)+'Dual Model'!$H$14*'Dual Model'!$H$12+MAXA(0,'Dual Model'!$C$14*3600*(1/'Dual Model'!$F$28-1/'Dual Model'!$E$28)),'Dual Model'!$E$25+'Dual Model'!$H$14*SQRT('Dual Model'!$H$12^2+'Dual Model'!$H$13^2))+'Dual Model'!$C$36","v":112.68692307692308},{"$f":"MAXA(3600*G27/('Dual Model'!$G$28)+'Dual Model'!$H$14*'Dual Model'!$H$12+MAXA(0,'Dual Model'!$C$14*3600*(1/'Dual Model'!$G$28-1/'Dual Model'!$E$28)),'Dual Model'!$E$25+'Dual Model'!$H$14*SQRT('Dual Model'!$H$12^2+'Dual Model'!$H$13^2))+'Dual Model'!$C$36","v":109.61},{"$f":"MAXA(3600*H27/('Dual Model'!$H$28)+'Dual Model'!$H$14*'Dual Model'!$H$12+MAXA(0,'Dual Model'!$C$14*3600*(1/'Dual Model'!$H$28-1/'Dual Model'!$E$28)),'Dual Model'!$E$25+'Dual Model'!$H$14*SQRT('Dual Model'!$H$12^2+'Dual Model'!$H$13^2))+'Dual Model'!$C$36","v":106.75285714285714},{"$f":"MAXA(3600*I27/('Dual Model'!$I$28)+'Dual Model'!$H$14*'Dual Model'!$H$12+MAXA(0,'Dual Model'!$C$14*3600*(1/'Dual Model'!$I$28-1/'Dual Model'!$E$28)),'Dual Model'!$E$25+'Dual Model'!$H$14*SQRT('Dual Model'!$H$12^2+'Dual Model'!$H$13^2))+'Dual Model'!$C$36","v":101.61}]
[null,"Large-TP",{"$f":"MAXA(3600*C28/('Dual Model'!$C$28)+'Dual Model'!$H$14*'Dual Model'!$H$12+MAXA(0,'Dual Model'!$C$14*3600*(1/'Dual Model'!$C$28-1/'Dual Model'!$F$28)),'Dual Model'!$F$25+'Dual Model'!$H$14*SQRT('Dual Model'!$H$12^2+'Dual Model'!$H$13^2))+'Dual Model'!$C$36","v":275.7638461538462},{"$f":"MAXA(3600*D28/('Dual Model'!$D$28)+'Dual Model'!$H$14*'Dual Model'!$H$12+MAXA(0,'Dual Model'!$C$14*3600*(1/'Dual Model'!$D$28-1/'Dual Model'!$F$28)),'Dual Model'!$F$25+'Dual Model'!$H$14*SQRT('Dual Model'!$H$12^2+'Dual Model'!$H$13^2))+'Dual Model'!$C$36","v":231.76384615384615},{"$f":"MAXA(3600*E28/('Dual Model'!$E$28)+'Dual Model'!$H$14*'Dual Model'!$H$12+MAXA(0,'Dual Model'!$C$14*3600*(1/'Dual Model'!$E$28-1/'Dual Model'!$F$28)),'Dual Model'!$F$25+'Dual Model'!$H$14*SQRT('Dual Model'!$H$12^2+'Dual Model'!$H$13^2))+'Dual Model'!$C$36","v":165.76384615384615},{"$f":"MAXA(3600*F28/('Dual Model'!$F$28)+'Dual Model'!$H$14*'Dual Model'!$H$12+MAXA(0,'Dual Model'!$C$14*3600*(1/'Dual Model'!$F$28-1/'Dual Model'!$F$28)),'Dual Model'!$F$25+'Dual Model'!$H$14*SQRT('Dual Model'!$H$12^2+'Dual Model'!$H$13^2))+'Dual Model'!$C$36","v":112.68692307692308},{"$f":"MAXA(3600*G28/('Dual Model'!$G$28)+'Dual Model'!$H$14*'Dual Model'!$H$12+MAXA(0,'Dual Model'!$C$14*3600*(1/'Dual Model'!$G$28-1/'Dual Model'!$F$28)),'Dual Model'!$F$25+'Dual Model'!$H$14*SQRT('Dual Model'!$H$12^2+'Dual Model'!$H$13^2))+'Dual Model'!$C$36","v":109.61},{"$f":"MAXA(3600*H28/('Dual Model'!$H$28)+'Dual Model'!$H$14*'Dual Model'!$H$12+MAXA(0,'Dual Model'!$C$14*3600*(1/'Dual Model'!$H$28-1/'Dual Model'!$F$28)),'Dual Model'!$F$25+'Dual Model'!$H$14*SQRT('Dual Model'!$H$12^2+'Dual Model'!$H$13^2))+'Dual Model'!$C$36","v":106.75285714285714},{"$f":"MAXA(3600*I28/('Dual Model'!$I$28)+'Dual Model'!$H$14*'Dual Model'!$H$12+MAXA(0,'Dual Model'!$C$14*3600*(1/'Dual Model'!$I$28-1/'Dual Model'!$F$28)),'Dual Model'!$F$25+'Dual Model'!$H$14*SQRT('Dual Model'!$H$12^2+'Dual Model'!$H$13^2))+'Dual Model'!$C$36","v":101.61}]
[null,"Large-Jet",{"$f":"MAXA(3600*C29/('Dual Model'!$C$28)+'Dual Model'!$H$14*'Dual Model'!$H$12+MAXA(0,'Dual Model'!$C$14*3600*(1/'Dual Model'!$C$28-1/'Dual Model'!$G$28)),'Dual Model'!$G$25+'Dual Model'!$H$14*SQRT('Dual Model'!$H$12^2+'Dual Model'!$H$13^2))+'Dual Model'!$C$36","v":282.94333333333338},{"$f":"MAXA(3600*D29/('Dual Model'!$D$28)+'Dual Model'!$H$14*'Dual Model'!$H$12+MAXA(0,'Dual Model'!$C$14*3600*(1/'Dual Model'!$D$28-1/'Dual Model'!$G$28)),'Dual Model'!$G$25+'Dual Model'!$H$14*SQRT('Dual Model'!$H$12^2+'Dual Model'!$H$13^2))+'Dual Model'!$C$36","v":238.94333333333333},{"$f":"MAXA(3600*E29/('Dual Model'!$E$28)+'Dual Model'!$H$14*'Dual Model'!$H$12+MAXA(0,'Dual Model'!$C$14*3600*(1/'Dual Model'!$E$28-1/'Dual Model'!$G$28)),'Dual Model'!$G$25+'Dual Model'!$H$14*SQRT('Dual Model'!$H$12^2+'Dual Model'!$H$13^2))+'Dual Model'!$C$36","v":172.94333333333333},{"$f":"MAXA(3600*F29/('Dual Model'!$F$28)+'Dual Model'!$H$14*'Dual Model'!$H$12+MAXA(0,'Dual Model'!$C$14*3600*(1/'Dual Model'!$F$28-1/'Dual Model'!$G$28)),'Dual Model'!$G$25+'Dual Model'!$H$14*SQRT('Dual Model'!$H$12^2+'Dual Model'!$H$13^2))+'Dual Model'!$C$36","v":119.86641025641026},{"$f":"MAXA(3600*G29/('Dual Model'!$G$28)+'Dual Model'!$H$14*'Dual Model'!$H$12+MAXA(0,'Dual Model'!$C$14*3600*(1/'Dual Model'!$G$28-1/'Dual Model'!$G$28)),'Dual Model'!$G$25+'Dual Model'!$H$14*SQRT('Dual Model'!$H$12^2+'Dual Model'!$H$13^2))+'Dual Model'!$C$36","v":109.61},{"$f":"MAXA(3600*H29/('Dual Model'!$H$28)+'Dual Model'!$H$14*'Dual Model'!$H$12+MAXA(0,'Dual Model'!$C$14*3600*(1/'Dual Model'!$H$28-1/'Dual Model'!$G$28)),'Dual Model'!$G$25+'Dual Model'!$H$14*SQRT('Dual Model'!$H$12^2+'Dual Model'!$H$13^2))+'Dual Model'!$C$36","v":106.75285714285714},{"$f":"MAXA(3600*I29/('Dual Model'!$I$28)+'Dual Model'!$H$14*'Dual Model'!$H$12+MAXA(0,'Dual Model'!$C$14*3600*(1/'Dual Model'!$I$28-1/'Dual Model'!$G$28)),'Dual Model'!$G$25+'Dual Model'!$H$14*SQRT('Dual Model'!$H$12^2+'Dual Model'!$H$13^2))+'Dual Model'!$C$36","v":101.61}]
[null,"Large-757",{"$f":"MAXA(3600*C30/('Dual Model'!$C$28)+'Dual Model'!$H$14*'Dual Model'!$H$12+MAXA(0,'Dual Model'!$C$14*3600*(1/'Dual Model'!$C$28-1/'Dual Model'!$H$28)),'Dual Model'!$H$25+'Dual Model'!$H$14*SQRT('Dual Model'!$H$12^2+'Dual Model'!$H$13^2))+'Dual Model'!$C$36","v":329.61},{"$f":"MAXA(3600*D30/('Dual Model'!$D$28)+'Dual Model'!$H$14*'Dual Model'!$H$12+MAXA(0,'Dual Model'!$C$14*3600*(1/'Dual Model'!$D$28-1/'Dual Model'!$H$28)),'Dual Model'!$H$25+'Dual Model'!$H$14*SQRT('Dual Model'!$H$12^2+'Dual Model'!$H$13^2))+'Dual Model'!$C$36","v":281.61},{"$f":"MAXA(3600*E30/('Dual Model'!$E$28)+'Dual Model'!$H$14*'Dual Model'!$H$12+MAXA(0,'Dual Model'!$C$14*3600*(1/'Dual Model'!$E$28-1/'Dual Model'!$H$28)),'Dual Model'!$H$25+'Dual Model'!$H$14*SQRT('Dual Model'!$H$12^2+'Dual Model'!$H$13^2))+'Dual Model'!$C$36","v":209.61},{"$f":"MAXA(3600*F30/('Dual Model'!$F$28)+'Dual Model'!$H$14*'Dual Model'!$H$12+MAXA(0,'Dual Model'!$C$14*3600*(1/'Dual Model'!$F$28-1/'Dual Model'!$H$28)),'Dual Model'!$H$25+'Dual Model'!$H$14*SQRT('Dual Model'!$H$12^2+'Dual Model'!$H$13^2))+'Dual Model'!$C$36","v":154.22538461538466},{"$f":"MAXA(3600*G30/('Dual Model'!$G$28)+'Dual Model'!$H$14*'Dual Model'!$H$12+MAXA(0,'Dual Model'!$C$14*3600*(1/'Dual Model'!$G$28-1/'Dual Model'!$H$28)),'Dual Model'!$H$25+'Dual Model'!$H$14*SQRT('Dual Model'!$H$12^2+'Dual Model'!$H$13^2))+'Dual Model'!$C$36","v":142.94333333333336},{"$f":"MAXA(3600*H30/('Dual Model'!$H$28)+'Dual Model'!$H$14*'Dual Model'!$H$12+MAXA(0,'Dual Model'!$C$14*3600*(1/'Dual Model'!$H$28-1/'Dual Model'!$H$28)),'Dual Model'!$H$25+'Dual Model'!$H$14*SQRT('Dual Model'!$H$12^2+'Dual Model'!$H$13^2))+'Dual Model'!$C$36","v":132.46714285714285},{"$f":"MAXA(3600*I30/('Dual Model'!$I$28)+'Dual Model'!$H$14*'Dual Model'!$H$12+MAXA(0,'Dual Model'!$C$14*3600*(1/'Dual Model'!$I$28-1/'Dual Model'!$H$28)),'Dual Model'!$H$25+'Dual Model'!$H$14*SQRT('Dual Model'!$H$12^2+'Dual Model'!$H$13^2))+'Dual Model'!$C$36","v":125.61}]
[null,"Heavy",{"$f":"MAXA(3600*C31/('Dual Model'!$C$28)+'Dual Model'!$H$14*'Dual Model'!$H$12+MAXA(0,'Dual Model'!$C$14*3600*(1/'Dual Model'!$C$28-1/'Dual Model'!$I$28)),'Dual Model'!$I$25+'Dual Model'!$H$14*SQRT('Dual Model'!$H$12^2+'Dual Model'!$H$13^2))+'Dual Model'!$C$36","v":381.61},{"$f":"MAXA(3600*D31/('Dual Model'!$D$28)+'Dual Model'!$H$14*'Dual Model'!$H$12+MAXA(0,'Dual Model'!$C$14*3600*(1/'Dual Model'!$D$28-1/'Dual Model'!$I$28)),'Dual Model'!$I$25+'Dual Model'!$H$14*SQRT('Dual Model'!$H$12^2+'Dual Model'!$H$13^2))+'Dual Model'!$C$36","v":329.61},{"$f":"MAXA(3600*E31/('Dual Model'!$E$28)+'Dual Model'!$H$14*'Dual Model'!$H$12+MAXA(0,'Dual Model'!$C$14*3600*(1/'Dual Model'!$E$28-1/'Dual Model'!$I$28)),'Dual Model'!$I$25+'Dual Model'!$H$14*SQRT('Dual Model'!$H$12^2+'Dual Model'!$H$13^2))+'Dual Model'!$C$36","v":221.61},{"$f":"MAXA(3600*F31/('Dual Model'!$F$28)+'Dual Model'!$H$14*'Dual Model'!$H$12+MAXA(0,'Dual Model'!$C$14*3600*(1/'Dual Model'!$F$28-1/'Dual Model'!$I$28)),'Dual Model'!$I$25+'Dual Model'!$H$14*SQRT('Dual Model'!$H$12^2+'Dual Model'!$H$13^2))+'Dual Model'!$C$36","v":193.91769230769231},{"$f":"MAXA(3600*G31/('Dual Model'!$G$28)+'Dual Model'!$H$14*'Dual Model'!$H$12+MAXA(0,'Dual Model'!$C$14*3600*(1/'Dual Model'!$G$28-1/'Dual Model'!$I$28)),'Dual Model'!$I$25+'Dual Model'!$H$14*SQRT('Dual Model'!$H$12^2+'Dual Model'!$H$13^2))+'Dual Model'!$C$36","v":181.60999999999999},{"$f":"MAXA(3600*H31/('Dual Model'!$H$28)+'Dual Model'!$H$14*'Dual Model'!$H$12+MAXA(0,'Dual Model'!$C$14*3600*(1/'Dual Model'!$H$28-1/'Dual Model'!$I$28)),'Dual Model'!$I$25+'Dual Model'!$H$14*SQRT('Dual Model'!$H$12^2+'Dual Model'!$H$13^2))+'Dual Model'!$C$36","v":170.18142857142854},{"$f":"MAXA(3600*I31/('Dual Model'!$I$28)+'Dual Model'!$H$14*'Dual Model'!$H$12+MAXA(0,'Dual Model'!$C$14*3600*(1/'Dual Model'!$I$28-1/'Dual Model'!$I$28)),'Dual Model'!$I$25+'Dual Model'!$H$14*SQRT('Dual Model'!$H$12^2+'Dual Model'!$H$13^2))+'Dual Model'!$C$36","v":125.61}]
[]
[null,"VMC Average time between Arrivals",null,null,null,"Time in Seconds"]
[null,null,"Small - S","Small - T","Small +","Large-TP","Large-Jet","Large-757","Heavy"]
[null,"Small - S",{"$f":"C5*C56","v":0},{"$f":"D5*D56","v":0},0,0,0,0,0,null,"Average Arrival separation",null,null,{"$f":"(K77+'Dual Work Tab (1)'!K77)/2","v":96.558638648805896},null,{"$f":"(3600-'Dual Model'!$I$30)/N76","v":37.283044276272214}]
[null,"Small - T",{"$f":"C6*C57","v":0},0.98010000000000019,0,2.4667615384615384,4.0138333333333334,0.39233571428571429,0.37605000000000011,null,{"$f":"SUM(C76:I82)","v":96.558638648805896},"seconds",{"$f":"(3600-'Dual Model'!$I$30)/K77","v":37.283044276272214}]
[null,"Small +",{"$f":"C7*C58","v":0},0,0,0,0,0,0]
[null,"Large-TP",{"$f":"C8*C59","v":0},5.548915384615384,0,7.4002846153846145,12.041500000000001,1.1770071428571427,1.1431752075879285]
[null,"Large-Jet",{"$f":"C9*C60","v":0},9.6071666666666662,0,13.410730769230769,20.069166666666668,1.9616785714285712,1.9302920126465477]
[null,"Large-757",{"$f":"C10*C61","v":0},1.1740500000000003,0,1.7733807692307695,2.7069166666666673,0.24759642857142863,0.23602500000000004]
[null,"Heavy",{"$f":"C11*C62","v":0},1.3960500000000002,0,2.3272269230769229,3.6069166666666668,0.33545357142857141,0.23602500000000004]
[]
[null,"VMC Average time between Departures",null,null,null,"Time in Seconds"]
[null,null,"Small - S","Small - T","Small +","Large-TP","Large-Jet","Large-757","Heavy"]
[null,"Small - S",{"$f":"C5*C35","v":0},{"$f":"D5*D35","v":0},0,0,0,0,0,null,"Average Departure separation"]
[null,"Small - T",{"$f":"C6*C36","v":0},0.45000000000000007,0,1.65,2.75,0.27500000000000008,0.30000000000000004,null,{"$f":"SUM(C86:I92)","v":73.050000000000011},"seconds",{"$f":"(3600-'Dual Model'!$I$30)/K87","v":49.281314168377818}]
[null,"Small +",{"$f":"C7*C37","v":0},0,0,0,0,0,0]
[null,"Large-TP",{"$f":"C8*C38","v":0},2.6999999999999997,0,6.3,10.5,1.05,1.05]
[null,"Large-Jet",{"$f":"C9*C39","v":0},4.5,0,10.5,17.5,1.75,1.75]
[null,"Large-757",{"$f":"C10*C40","v":0},0.45000000000000007,0,1.05,1.75,0.17500000000000004,0.17500000000000004]
[null,"Heavy",{"$f":"C11*C41","v":0},0.65000000000000013,0,1.95,3.25,0.32500000000000007,0.25000000000000006]
[]
[null,"IMC Average time between Arrivals",null,null,null,"Time in Seconds"]
[null,null,"Small - S","Small - T","Small +","Large-TP","Large-Jet","Large-757","Heavy"]
[null,"Small - S",{"$f":"C5*C66","v":0},{"$f":"D5*D66","v":0},0,0,0,0,0,null,"Average Arrival separation",null,null,{"$f":"(K97+'Dual Work Tab (1)'!K97)/2","v":128.25615384615384},null,{"$f":"(3600-'Dual Model'!$I$30)/N96","v":28.06882860621473}]
[null,"Small - T",{"$f":"C6*C67","v":0},1.3761000000000003,0,3.3806076923076924,5.4805000000000001,0.5337642857142858,0.50805000000000011,null,{"$f":"SUM(C96:I102)","v":128.25615384615384},"seconds",{"$f":"(3600-'Dual Model'!$I$30)/K97","v":28.06882860621473}]
[null,"Small +",{"$f":"C7*C68","v":0},0,0,0,0,0,0]
[null,"Large-TP",{"$f":"C8*C69","v":0},6.9529153846153839,0,10.141823076923076,16.441499999999998,1.6012928571428571,1.5241499999999999]
[null,"Large-Jet",{"$f":"C9*C70","v":0},11.947166666666668,0,17.979961538461538,27.4025,2.6688214285714285,2.5402500000000003]
[null,"Large-757",{"$f":"C10*C71","v":0},1.4080500000000002,0,2.3133807692307697,3.573583333333334,0.33116785714285718,0.31402500000000005]
[null,"Heavy",{"$f":"C11*C72","v":0},1.6480500000000005,0,2.9087653846153847,4.5402499999999995,0.42545357142857143,0.31402500000000005]
[]
[null,"IMC Average time between Departures",null,null,null,"Time in Seconds"]
[null,null,"Small - S","Small - T","Small +","Large-TP","Large-Jet","Large-757","Heavy"]
[null,"Small - S",{"$f":"C5*C45","v":0},{"$f":"D5*D45","v":0},0,0,0,0,0,null,"Average Departure separation"]
[null,"Small - T",{"$f":"C6*C46","v":0},0.70000000000000018,0,2.1,3.5,0.35000000000000009,0.35000000000000009,null,{"$f":"SUM(C106:I112)","v":74.625},"seconds",{"$f":"(3600-'Dual Model'!$I$30)/K107","v":48.241206030150757}]
[null,"Small +",{"$f":"C7*C47","v":0},0,0,0,0,0,0]
[null,"Large-TP",{"$f":"C8*C48","v":0},2.6999999999999997,0,6.3,10.5,1.05,1.05]
[null,"Large-Jet",{"$f":"C9*C49","v":0},4.5,0,10.5,17.5,1.75,1.75]
[null,"Large-757",{"$f":"C10*C50","v":0},0.45000000000000007,0,1.05,1.75,0.17500000000000004,0.17500000000000004]
[null,"Heavy",{"$f":"C11*C51","v":0},0.65000000000000013,0,1.95,3.25,0.32500000000000007,0.25000000000000006]
[]
[null,"VMC Average Time Required for Departure between Arrivals",null,null,null,"Time in Seconds"]
[null,null,"Small - S","Small - T","Small +","Large-TP","Large-Jet","Large-757","Heavy"]
[null,"Small - S",{"$f":"'Dual Model'!$C$25+MAXA((3600*'Dual Model'!$C$12/('Dual Model'!C$28)),C$157)","v":112},{"$f":"'Dual Model'!$C$25+MAXA((3600*'Dual Model'!$C$12/('Dual Model'!D$28)),D$157)","v":104},{"$f":"'Dual Model'!$C$25+MAXA((3600*'Dual Model'!$C$12/('Dual Model'!E$28)),E$157)","v":92},{"$f":"'Dual Model'!$C$25+MAXA((3600*'Dual Model'!$C$12/('Dual Model'!F$28)),F$157)","v":87.384615384615387},{"$f":"'Dual Model'!$C$25+MAXA((3600*'Dual Model'!$C$12/('Dual Model'!G$28)),G$157)","v":85.333333333333343},{"$f":"'Dual Model'!$C$25+MAXA((3600*'Dual Model'!$C$12/('Dual Model'!H$28)),H$157)","v":83.428571428571431},{"$f":"'Dual Model'!$C$25+MAXA((3600*'Dual Model'!$C$12/('Dual Model'!I$28)),I$157)","v":83},null," AROT should be 0, if no 15 degree minimum divergence"]
[null,"Small - T",{"$f":"'Dual Model'!$D$25+MAXA((3600*'Dual Model'!$C$12/('Dual Model'!C$28)),C$157)","v":120},{"$f":"'Dual Model'!$D$25+MAXA((3600*'Dual Model'!$C$12/('Dual Model'!D$28)),D$157)","v":112},{"$f":"'Dual Model'!$D$25+MAXA((3600*'Dual Model'!$C$12/('Dual Model'!E$28)),E$157)","v":100},{"$f":"'Dual Model'!$D$25+MAXA((3600*'Dual Model'!$C$12/('Dual Model'!F$28)),F$157)","v":95.384615384615387},{"$f":"'Dual Model'!$D$25+MAXA((3600*'Dual Model'!$C$12/('Dual Model'!G$28)),G$157)","v":93.333333333333343},{"$f":"'Dual Model'!$D$25+MAXA((3600*'Dual Model'!$C$12/('Dual Model'!H$28)),H$157)","v":91.428571428571431},{"$f":"'Dual Model'!$D$25+MAXA((3600*'Dual Model'!$C$12/('Dual Model'!I$28)),I$157)","v":91}]
[null,"Small +",{"$f":"'Dual Model'!$E$25+MAXA((3600*'Dual Model'!$C$12/('Dual Model'!C$28)),C$157)","v":122},{"$f":"'Dual Model'!$E$25+MAXA((3600*'Dual Model'!$C$12/('Dual Model'!D$28)),D$157)","v":114},{"$f":"'Dual Model'!$E$25+MAXA((3600*'Dual Model'!$C$12/('Dual Model'!E$28)),E$157)","v":102},{"$f":"'Dual Model'!$E$25+MAXA((3600*'Dual Model'!$C$12/('Dual Model'!F$28)),F$157)","v":97.384615384615387},{"$f":"'Dual Model'!$E$25+MAXA((3600*'Dual Model'!$C$12/('Dual Model'!G$28)),G$157)","v":95.333333333333343},{"$f":"'Dual Model'!$E$25+MAXA((3600*'Dual Model'!$C$12/('Dual Model'!H$28)),H$157)","v":93.428571428571431},{"$f":"'Dual Model'!$E$25+MAXA((3600*'Dual Model'!$C$12/('Dual Model'!I$28)),I$157)","v":93}]
[null,"Large-TP",{"$f":"'Dual Model'!$F$25+MAXA((3600*'Dual Model'!$C$12/('Dual Model'!C$28)),C$157)","v":125},{"$f":"'Dual Model'!$F$25+MAXA((3600*'Dual Model'!$C$12/('Dual Model'!D$28)),D$157)","v":117},{"$f":"'Dual Model'!$F$25+MAXA((3600*'Dual Model'!$C$12/('Dual Model'!E$28)),E$157)","v":105},{"$f":"'Dual Model'!$F$25+MAXA((3600*'Dual Model'!$C$12/('Dual Model'!F$28)),F$157)","v":100.38461538461539},{"$f":"'Dual Model'!$F$25+MAXA((3600*'Dual Model'!$C$12/('Dual Model'!G$28)),G$157)","v":98.333333333333343},{"$f":"'Dual Model'!$F$25+MAXA((3600*'Dual Model'!$C$12/('Dual Model'!H$28)),H$157)","v":96.428571428571431},{"$f":"'Dual Model'!$F$25+MAXA((3600*'Dual Model'!$C$12/('Dual Model'!I$28)),I$157)","v":96}]
[null,"Large-Jet",{"$f":"'Dual Model'!$G$25+MAXA((3600*'Dual Model'!$C$12/('Dual Model'!C$28)),C$157)","v":126},{"$f":"'Dual Model'!$G$25+MAXA((3600*'Dual Model'!$C$12/('Dual Model'!D$28)),D$157)","v":118},{"$f":"'Dual Model'!$G$25+MAXA((3600*'Dual Model'!$C$12/('Dual Model'!E$28)),E$157)","v":106},{"$f":"'Dual Model'!$G$25+MAXA((3600*'Dual Model'!$C$12/('Dual Model'!F$28)),F$157)","v":101.38461538461539},{"$f":"'Dual Model'!$G$25+MAXA((3600*'Dual Model'!$C$12/('Dual Model'!G$28)),G$157)","v":99.333333333333343},{"$f":"'Dual Model'!$G$25+MAXA((3600*'Dual Model'!$C$12/('Dual Model'!H$28)),H$157)","v":97.428571428571431},{"$f":"'Dual Model'!$G$25+MAXA((3600*'Dual Model'!$C$12/('Dual Model'!I$28)),I$157)","v":97}]
[null,"Large-757",{"$f":"'Dual Model'!$H$25+MAXA((3600*'Dual Model'!$C$12/('Dual Model'!C$28)),C$157)","v":131},{"$f":"'Dual Model'!$H$25+MAXA((3600*'Dual Model'!$C$12/('Dual Model'!D$28)),D$157)","v":123},{"$f":"'Dual Model'!$H$25+MAXA((3600*'Dual Model'!$C$12/('Dual Model'!E$28)),E$157)","v":111},{"$f":"'Dual Model'!$H$25+MAXA((3600*'Dual Model'!$C$12/('Dual Model'!F$28)),F$157)","v":106.38461538461539},{"$f":"'Dual Model'!$H$25+MAXA((3600*'Dual Model'!$C$12/('Dual Model'!G$28)),G$157)","v":104.33333333333334},{"$f":"'Dual Model'!$H$25+MAXA((3600*'Dual Model'!$C$12/('Dual Model'!H$28)),H$157)","v":102.42857142857143},{"$f":"'Dual Model'!$H$25+MAXA((3600*'Dual Model'!$C$12/('Dual Model'!I$28)),I$157)","v":102}]
[null,"Heavy",{"$f":"'Dual Model'!$I$25+MAXA((3600*'Dual Model'!$C$12/('Dual Model'!C$28)),C$157)","v":135},{"$f":"'Dual Model'!$I$25+MAXA((3600*'Dual Model'!$C$12/('Dual Model'!D$28)),D$157)","v":127},{"$f":"'Dual Model'!$I$25+MAXA((3600*'Dual Model'!$C$12/('Dual Model'!E$28)),E$157)","v":115},{"$f":"'Dual Model'!$I$25+MAXA((3600*'Dual Model'!$C$12/('Dual Model'!F$28)),F$157)","v":110.38461538461539},{"$f":"'Dual Model'!$I$25+MAXA((3600*'Dual Model'!$C$12/('Dual Model'!G$28)),G$157)","v":108.33333333333334},{"$f":"'Dual Model'!$I$25+MAXA((3600*'Dual Model'!$C$12/('Dual Model'!H$28)),H$157)","v":106.42857142857143},{"$f":"'Dual Model'!$I$25+MAXA((3600*'Dual Model'!$C$12/('Dual Model'!I$28)),I$157)","v":106}]
[null,"  "]
[null,"IMC Average Time Required for Departure between Arrivals",null,null,null,"Time in Seconds"]
[null,null,"Small - S","Small - T","Small +","Large-TP","Large-Jet","Large-757","Heavy"]
[null,"Small - S",{"$f":"'Dual Model'!$C$25+MAXA((3600*'Dual Model'!$C$13/('Dual Model'!C$28)),C$157)","v":112},{"$f":"'Dual Model'!$C$25+MAXA((3600*'Dual Model'!$C$13/('Dual Model'!D$28)),D$157)","v":104},{"$f":"'Dual Model'!$C$25+MAXA((3600*'Dual Model'!$C$13/('Dual Model'!E$28)),E$157)","v":92},{"$f":"'Dual Model'!$C$25+MAXA((3600*'Dual Model'!$C$13/('Dual Model'!F$28)),F$157)","v":87.384615384615387},{"$f":"'Dual Model'!$C$25+MAXA((3600*'Dual Model'!$C$13/('Dual Model'!G$28)),G$157)","v":85.333333333333343},{"$f":"'Dual Model'!$C$25+MAXA((3600*'Dual Model'!$C$13/('Dual Model'!H$28)),H$157)","v":83.428571428571431},{"$f":"'Dual Model'!$C$25+MAXA((3600*'Dual Model'!$C$13/('Dual Model'!I$28)),I$157)","v":83}]
[null,"Small - T",{"$f":"'Dual Model'!$D$25+MAXA((3600*'Dual Model'!$C$13/('Dual Model'!C$28)),C$157)","v":120},{"$f":"'Dual Model'!$D$25+MAXA((3600*'Dual Model'!$C$13/('Dual Model'!D$28)),D$157)","v":112},{"$f":"'Dual Model'!$D$25+MAXA((3600*'Dual Model'!$C$13/('Dual Model'!E$28)),E$157)","v":100},{"$f":"'Dual Model'!$D$25+MAXA((3600*'Dual Model'!$C$13/('Dual Model'!F$28)),F$157)","v":95.384615384615387},{"$f":"'Dual Model'!$D$25+MAXA((3600*'Dual Model'!$C$13/('Dual Model'!G$28)),G$157)","v":93.333333333333343},{"$f":"'Dual Model'!$D$25+MAXA((3600*'Dual Model'!$C$13/('Dual Model'!H$28)),H$157)","v":91.428571428571431},{"$f":"'Dual Model'!$D$25+MAXA((3600*'Dual Model'!$C$13/('Dual Model'!I$28)),I$157)","v":91}]
[null,"Small +",{"$f":"'Dual Model'!$E$25+MAXA((3600*'Dual Model'!$C$13/('Dual Model'!C$28)),C$157)","v":122},{"$f":"'Dual Model'!$E$25+MAXA((3600*'Dual Model'!$C$13/('Dual Model'!D$28)),D$157)","v":114},{"$f":"'Dual Model'!$E$25+MAXA((3600*'Dual Model'!$C$13/('Dual Model'!E$28)),E$157)","v":102},{"$f":"'Dual Model'!$E$25+MAXA((3600*'Dual Model'!$C$13/('Dual Model'!F$28)),F$157)","v":97.384615384615387},{"$f":"'Dual Model'!$E$25+MAXA((3600*'Dual Model'!$C$13/('Dual Model'!G$28)),G$157)","v":95.333333333333343},{"$f":"'Dual Model'!$E$25+MAXA((3600*'Dual Model'!$C$13/('Dual Model'!H$28)),H$157)","v":93.428571428571431},{"$f":"'Dual Model'!$E$25+MAXA((3600*'Dual Model'!$C$13/('Dual Model'!I$28)),I$157)","v":93}]
[null,"Large-TP",{"$f":"'Dual Model'!$F$25+MAXA((3600*'Dual Model'!$C$13/('Dual Model'!C$28)),C$157)","v":125},{"$f":"'Dual Model'!$F$25+MAXA((3600*'Dual Model'!$C$13/('Dual Model'!D$28)),D$157)","v":117},{"$f":"'Dual Model'!$F$25+MAXA((3600*'Dual Model'!$C$13/('Dual Model'!E$28)),E$157)","v":105},{"$f":"'Dual Model'!$F$25+MAXA((3600*'Dual Model'!$C$13/('Dual Model'!F$28)),F$157)","v":100.38461538461539},{"$f":"'Dual Model'!$F$25+MAXA((3600*'Dual Model'!$C$13/('Dual Model'!G$28)),G$157)","v":98.333333333333343},{"$f":"'Dual Model'!$F$25+MAXA((3600*'Dual Model'!$C$13/('Dual Model'!H$28)),H$157)","v":96.428571428571431},{"$f":"'Dual Model'!$F$25+MAXA((3600*'Dual Model'!$C$13/('Dual Model'!I$28)),I$157)","v":96}]
[null,"Large-Jet",{"$f":"'Dual Model'!$G$25+MAXA((3600*'Dual Model'!$C$13/('Dual Model'!C$28)),C$157)","v":126},{"$f":"'Dual Model'!$G$25+MAXA((3600*'Dual Model'!$C$13/('Dual Model'!D$28)),D$157)","v":118},{"$f":"'Dual Model'!$G$25+MAXA((3600*'Dual Model'!$C$13/('Dual Model'!E$28)),E$157)","v":106},{"$f":"'Dual Model'!$G$25+MAXA((3600*'Dual Model'!$C$13/('Dual Model'!F$28)),F$157)","v":101.38461538461539},{"$f":"'Dual Model'!$G$25+MAXA((3600*'Dual Model'!$C$13/('Dual Model'!G$28)),G$157)","v":99.333333333333343},{"$f":"'Dual Model'!$G$25+MAXA((3600*'Dual Model'!$C$13/('Dual Model'!H$28)),H$157)","v":97.428571428571431},{"$f":"'Dual Model'!$G$25+MAXA((3600*'Dual Model'!$C$13/('Dual Model'!I$28)),I$157)","v":97}]
[null,"Large-757",{"$f":"'Dual Model'!$H$25+MAXA((3600*'Dual Model'!$C$13/('Dual Model'!C$28)),C$157)","v":131},{"$f":"'Dual Model'!$H$25+MAXA((3600*'Dual Model'!$C$13/('Dual Model'!D$28)),D$157)","v":123},{"$f":"'Dual Model'!$H$25+MAXA((3600*'Dual Model'!$C$13/('Dual Model'!E$28)),E$157)","v":111},{"$f":"'Dual Model'!$H$25+MAXA((3600*'Dual Model'!$C$13/('Dual Model'!F$28)),F$157)","v":106.38461538461539},{"$f":"'Dual Model'!$H$25+MAXA((3600*'Dual Model'!$C$13/('Dual Model'!G$28)),G$157)","v":104.33333333333334},{"$f":"'Dual Model'!$H$25+MAXA((3600*'Dual Model'!$C$13/('Dual Model'!H$28)),H$157)","v":102.42857142857143},{"$f":"'Dual Model'!$H$25+MAXA((3600*'Dual Model'!$C$13/('Dual Model'!I$28)),I$157)","v":102}]
[null,"Heavy",{"$f":"'Dual Model'!$I$25+MAXA((3600*'Dual Model'!$C$13/('Dual Model'!C$28)),C$157)","v":135},{"$f":"'Dual Model'!$I$25+MAXA((3600*'Dual Model'!$C$13/('Dual Model'!D$28)),D$157)","v":127},{"$f":"'Dual Model'!$I$25+MAXA((3600*'Dual Model'!$C$13/('Dual Model'!E$28)),E$157)","v":115},{"$f":"'Dual Model'!$I$25+MAXA((3600*'Dual Model'!$C$13/('Dual Model'!F$28)),F$157)","v":110.38461538461539},{"$f":"'Dual Model'!$I$25+MAXA((3600*'Dual Model'!$C$13/('Dual Model'!G$28)),G$157)","v":108.33333333333334},{"$f":"'Dual Model'!$I$25+MAXA((3600*'Dual Model'!$C$13/('Dual Model'!H$28)),H$157)","v":106.42857142857143},{"$f":"'Dual Model'!$I$25+MAXA((3600*'Dual Model'!$C$13/('Dual Model'!I$28)),I$157)","v":106}]
[]
["New","VMC Average Required for Departure between Arrivals",null,null,null,"Time in Seconds"]
[null,null,"Small - S","Small - T","Small +","Large-TP","Large-Jet","Large-757","Heavy",null,null,"Departures between Arrivals on Runway 1",null,null,"VMC"]
[null,"Small - S",{"$f":"C56-C116","v":-6.3900000000000006},{"$f":"D56-D116","v":-5.9899999999999949},-5.3900000000000006,-5.1592307692307742,-5.056666666666672,-4.9614285714285842,-7.789999999999992,null,null,{"$f":"SUMPRODUCT(L137:L143,C5:C11)+SUMPRODUCT(M137:M143,D5:D11)+SUMPRODUCT(N137:N143,E5:E11)+SUMPRODUCT(O137:O143,F5:F11)+SUMPRODUCT(P137:P143,G5:G11)+SUMPRODUCT(Q137:Q143,H5:H11)+SUMPRODUCT(R137:R143,I5:I11)","v":0.23750000000000004},{"$f":"L136*M77","v":8.8547230156146526}]
[null,"Small - T",{"$f":"C57-C117","v":13.610000000000014},-13.989999999999995,-13.39,-13.159230769230774,-13.056666666666672,-12.961428571428584,-15.789999999999992,null,null,{"$f":"IF(C136>=0,TRUNC(C136/$K$87,0)+1,0)","v":0},{"$f":"IF(D136>=0,TRUNC(D136/$K$87,0)+1,0)","v":0},0,0,0,0,0]
[null,"Small +",{"$f":"C58-C118","v":53.610000000000014},26.010000000000019,-15.39,-15.159230769230774,-15.056666666666672,-14.961428571428584,-17.789999999999992,null,null,{"$f":"IF(C137>=0,TRUNC(C137/$K$87,0)+1,0)","v":1},{"$f":"IF(D137>=0,TRUNC(D137/$K$87,0)+1,0)","v":0},{"$f":"IF(E137>=0,TRUNC(E137/$K$87,0)+1,0)","v":0},{"$f":"IF(F137>=0,TRUNC(F137/$K$87,0)+1,0)","v":0},{"$f":"IF(G137>=0,TRUNC(G137/$K$87,0)+1,0)","v":0},{"$f":"IF(H137>=0,TRUNC(H137/$K$87,0)+1,0)","v":0},{"$f":"IF(I137>=0,TRUNC(I137/$K$87,0)+1,0)","v":0}]
[null,"Large-TP",{"$f":"C59-C119","v":98.763846153846174},67.963846153846134,21.763846153846146,-18.159230769230774,-18.056666666666672,-17.961428571428584,-19.788319494138094,null,null,1,1,0,0,0,0,0]
[null,"Large-Jet",{"$f":"C60-C120","v":104.94333333333336},74.143333333333317,27.943333333333328,-11.979743589743592,-19.056666666666672,-18.961428571428584,-19.788319494138094,null,null,2,1,1,0,0,0,0]
[null,"Large-757",{"$f":"C61-C121","v":146.61000000000001},111.81,59.610000000000014,11.840769230769254,3.9433333333333422,-3.3900000000000006,-7.5900000000000034,null,null,2,2,1,0,0,0,0]
[null,"Heavy",{"$f":"C62-C122","v":190.61},152.20999999999998,64.610000000000014,44.763846153846146,35.943333333333328,27.75285714285711,-11.590000000000003,null,null,3,2,1,1,1,0,0]
[null,null,null,null,null,null,null,null,null,null,null,3,3,1,1,1,1,0]
["New","IMC Average Required for Departure between Arrivals",null,null,null,"Time in Seconds"]
[null,null,"Small - S","Small - T","Small +","Large-TP","Large-Jet","Large-757","Heavy",null,null,"Departures between Arrivals on Runway 1",null,null,"IMC"]
[null,"Small - S",{"$f":"C66-C116","v":37.610000000000014},{"$f":"D66-D116","v":33.610000000000014},27.61,25.302307692307693,24.276666666666657,23.324285714285708,18.61,null,null,{"$f":"SUMPRODUCT(L147:L153,C5:C11)+SUMPRODUCT(M147:M153,D5:D11)+SUMPRODUCT(N147:N153,E5:E11)+SUMPRODUCT(O147:O153,F5:F11)+SUMPRODUCT(P147:P153,G5:G11)+SUMPRODUCT(Q147:Q153,H5:H11)+SUMPRODUCT(R147:R153,I5:I11)","v":1.1150000000000002},{"$f":"L146*M97","v":31.296743895929431}]
[null,"Small - T",{"$f":"C67-C117","v":57.610000000000014},25.610000000000014,19.61,17.302307692307693,16.276666666666657,15.324285714285708,10.61,null,null,{"$f":"IF(C146>=0,TRUNC(C146/$K$107,0)+1,0)","v":1},{"$f":"IF(D146>=0,TRUNC(D146/$K$107,0)+1,0)","v":1},1,1,1,1,1]
[null,"Small +",{"$f":"C68-C118","v":97.610000000000014},65.610000000000014,17.61,15.302307692307693,14.276666666666657,13.324285714285708,8.61,null,null,{"$f":"IF(C147>=0,TRUNC(C147/$K$107,0)+1,0)","v":1},{"$f":"IF(D147>=0,TRUNC(D147/$K$107,0)+1,0)","v":1},{"$f":"IF(E147>=0,TRUNC(E147/$K$107,0)+1,0)","v":1},{"$f":"IF(F147>=0,TRUNC(F147/$K$107,0)+1,0)","v":1},{"$f":"IF(G147>=0,TRUNC(G147/$K$107,0)+1,0)","v":1},{"$f":"IF(H147>=0,TRUNC(H147/$K$107,0)+1,0)","v":1},{"$f":"IF(I147>=0,TRUNC(I147/$K$107,0)+1,0)","v":1}]
[null,"Large-TP",{"$f":"C69-C119","v":150.7638461538462},114.76384615384615,60.763846153846146,12.302307692307693,11.276666666666657,10.324285714285708,5.6099999999999994,null,null,2,1,1,1,1,1,1]
[null,"Large-Jet",{"$f":"C70-C120","v":156.94333333333338},120.94333333333333,66.943333333333328,18.481794871794875,10.276666666666657,9.3242857142857076,4.6099999999999994,null,null,3,2,1,1,1,1,1]
[null,"Large-757",{"$f":"C71-C121","v":198.61},158.61000000000001,98.610000000000014,47.840769230769268,38.610000000000014,30.038571428571416,23.61,null,null,3,2,1,1,1,1,1]
[null,"Heavy",{"$f":"C72-C122","v":246.61},202.61,106.61000000000001,83.533076923076919,73.276666666666642,63.75285714285711,19.61,null,null,3,3,2,1,1,1,1]
[null,null,null,null,null,null,null,null,null,null,null,4,3,2,2,1,1,1]
[]
[]
[null,null,"Small - S","Small - T","Small +","Large-TP","Large-Jet","Large-757","Heavy"]
[null,"Average Dep. Runway Occ. Times (sec)",{"$f":"'Single Work Tab'!$C$155","v":34},{"$f":"'Single Work Tab'!$D$155","v":42},{"$f":"'Single Work Tab'!$E$155","v":34},{"$f":"'Single Work Tab'!$F$155","v":34},{"$f":"'Single Work Tab'!$G$155","v":46},{"$f":"'Single Work Tab'!$H$155","v":38},{"$f":"'Single Work Tab'!$I$155","v":51}]
[null,null,"linked to Single Work Tab inputs"]

{"sheet":"Dual Work Tab (4)","index":12,"n_rows":171,"n_cols":20,"rows_kept":171,"cut":false,"hidden":true,"merged":[]}
[null,"Dual Model Worksheet #4 with working Calculated Values"]
[]
[null,"Arrivals Pairing Probability Matrix",null,"(chance of landing behind an aircraft from each class)",null,null,null,null,null,null,0,"Calculated Cells"]
[null,null,"Small - S","Small - T","Small +","Large-TP","Large-Jet","Large-757","Heavy",null,0,"Linked Input Cells"]
[null,"Small - S",{"$f":"'Dual Model'!$C22*'Dual Model'!C22","v":0},{"$f":"'Dual Model'!$C22*'Dual Model'!D22","v":0},{"$f":"'Dual Model'!$C22*'Dual Model'!E22","v":0},{"$f":"'Dual Model'!$C22*'Dual Model'!F22","v":0},{"$f":"'Dual Model'!$C22*'Dual Model'!G22","v":0},{"$f":"'Dual Model'!$C22*'Dual Model'!H22","v":0},{"$f":"'Dual Model'!$C22*'Dual Model'!I22","v":0},null,0,"Linked Cells (within this worksheet)"]
[null,"Small - T",{"$f":"'Dual Model'!$D22*'Dual Model'!C22","v":0},{"$f":"'Dual Model'!$D22*'Dual Model'!D22","v":1.0000000000000002E-2},{"$f":"'Dual Model'!$D22*'Dual Model'!E22","v":0},{"$f":"'Dual Model'!$D22*'Dual Model'!F22","v":0.03},{"$f":"'Dual Model'!$D22*'Dual Model'!G22","v":0.05},{"$f":"'Dual Model'!$D22*'Dual Model'!H22","v":5.000000000000001E-3},{"$f":"'Dual Model'!$D22*'Dual Model'!I22","v":5.000000000000001E-3}]
[null,"Small +",{"$f":"'Dual Model'!$E22*'Dual Model'!C22","v":0},{"$f":"'Dual Model'!$E22*'Dual Model'!D22","v":0},{"$f":"'Dual Model'!$E22*'Dual Model'!E22","v":0},{"$f":"'Dual Model'!$E22*'Dual Model'!F22","v":0},{"$f":"'Dual Model'!$E22*'Dual Model'!G22","v":0},{"$f":"'Dual Model'!$E22*'Dual Model'!H22","v":0},{"$f":"'Dual Model'!$E22*'Dual Model'!I22","v":0}]
[null,"Large-TP",{"$f":"'Dual Model'!$F22*'Dual Model'!C22","v":0},{"$f":"'Dual Model'!$F22*'Dual Model'!D22","v":0.03},{"$f":"'Dual Model'!$F22*'Dual Model'!E22","v":0},{"$f":"'Dual Model'!$F22*'Dual Model'!F22","v":0.09},{"$f":"'Dual Model'!$F22*'Dual Model'!G22","v":0.15},{"$f":"'Dual Model'!$F22*'Dual Model'!H22","v":1.4999999999999999E-2},{"$f":"'Dual Model'!$F22*'Dual Model'!I22","v":1.4999999999999999E-2},null,null,null,"Diagonal Separation chosen on model work tab."]
[null,"Large-Jet",{"$f":"'Dual Model'!$G22*'Dual Model'!C22","v":0},{"$f":"'Dual Model'!$G22*'Dual Model'!D22","v":0.05},{"$f":"'Dual Model'!$G22*'Dual Model'!E22","v":0},{"$f":"'Dual Model'!$G22*'Dual Model'!F22","v":0.15},{"$f":"'Dual Model'!$G22*'Dual Model'!G22","v":0.25},{"$f":"'Dual Model'!$G22*'Dual Model'!H22","v":2.5000000000000001E-2},{"$f":"'Dual Model'!$G22*'Dual Model'!I22","v":2.5000000000000001E-2},null,null,null,{"$f":"'Dual Model'!$H$37","v":1.5},"nmiles","ARR to ARR separation on each runway when operating under "]
[null,"Large-757",{"$f":"'Dual Model'!$H22*'Dual Model'!C22","v":0},{"$f":"'Dual Model'!$H22*'Dual Model'!D22","v":5.000000000000001E-3},{"$f":"'Dual Model'!$H22*'Dual Model'!E22","v":0},{"$f":"'Dual Model'!$H22*'Dual Model'!F22","v":1.4999999999999999E-2},{"$f":"'Dual Model'!$H22*'Dual Model'!G22","v":2.5000000000000001E-2},{"$f":"'Dual Model'!$H22*'Dual Model'!H22","v":2.5000000000000005E-3},{"$f":"'Dual Model'!$H22*'Dual Model'!I22","v":2.5000000000000005E-3},"Summary Check",null,null,null,null,"diagonal separation rules"]
[null,"Heavy",{"$f":"'Dual Model'!$I22*'Dual Model'!C22","v":0},{"$f":"'Dual Model'!$I22*'Dual Model'!D22","v":5.000000000000001E-3},{"$f":"'Dual Model'!$I22*'Dual Model'!E22","v":0},{"$f":"'Dual Model'!$I22*'Dual Model'!F22","v":1.4999999999999999E-2},{"$f":"'Dual Model'!$I22*'Dual Model'!G22","v":2.5000000000000001E-2},{"$f":"'Dual Model'!$I22*'Dual Model'!H22","v":2.5000000000000005E-3},{"$f":"'Dual Model'!$I22*'Dual Model'!I22","v":2.5000000000000005E-3},"Total = ",{"$f":"SUM(C5:I11)","v":0.99999999999999989},null,{"$f":"SQRT(M9^2-(('Dual Model'!$C$10/5280)/1.1508)^2)*2","v":2.9898257881746693},"Linear separtation of diagonal (nm) (x2)"]
[]
[null,"VMC Required Separation for arrivals following an aircraft from each class",null,null,null,"Distance in Nautical Miles"]
[null,null,"Small - S","Small - T","Small +","Large-TP","Large-Jet","Large-757","Heavy","Separations equals the larger of the linear portion of the diagonal separation or the standard separation"]
[null,"Small - S",{"$f":"MAX('Dual Model'!$H$36+'Dual Model'!D41,$M$11)","v":2.9898257881746693},{"$f":"$C$15","v":2.9898257881746693},2.9898257881746693,2.9898257881746693,2.9898257881746693,2.9898257881746693,2.9898257881746693]
[null,"Small - T",{"$f":"$C$15","v":2.9898257881746693},2.9898257881746693,2.9898257881746693,2.9898257881746693,2.9898257881746693,2.9898257881746693,2.9898257881746693]
[null,"Small +",{"$f":"MAX('Dual Model'!$H$36+'Dual Model'!D42,$M$11)","v":2.9898257881746693},{"$f":"$C$17","v":2.9898257881746693},{"$f":"$C$17","v":2.9898257881746693},{"$f":"MAX('Dual Model'!$H$36+'Dual Model'!D43,$M$11)","v":2.9898257881746693},{"$f":"$F$17","v":2.9898257881746693},{"$f":"$F$17","v":2.9898257881746693},{"$f":"$F$17","v":2.9898257881746693}]
[null,"Large-TP",{"$f":"MAX('Dual Model'!$H$36+'Dual Model'!D44,$M$11)","v":2.9898257881746693},{"$f":"$C$18","v":2.9898257881746693},{"$f":"$C$18","v":2.9898257881746693},{"$f":"MAX('Dual Model'!$H$36+'Dual Model'!D45,$M$11)","v":2.9898257881746693},{"$f":"$F$18","v":2.9898257881746693},2.9898257881746693,2.9898257881746693]
[null,"Large-Jet",{"$f":"MAX('Dual Model'!$H$36+'Dual Model'!D44,$M$11)","v":2.9898257881746693},{"$f":"$C$19","v":2.9898257881746693},{"$f":"$C$19","v":2.9898257881746693},{"$f":"$F$18","v":2.9898257881746693},2.9898257881746693,2.9898257881746693,2.9898257881746693]
[null,"Large-757",{"$f":"MAX('Dual Model'!$H$36+'Dual Model'!D46,$M$11)","v":3.7},{"$f":"$C$20","v":3.7},{"$f":"$C$20","v":3.7},{"$f":"MAX('Dual Model'!$H$36+'Dual Model'!D47,$M$11)","v":2.9898257881746693},{"$f":"$F$20","v":2.9898257881746693},{"$f":"$F$20","v":2.9898257881746693},{"$f":"$F$20","v":2.9898257881746693}]
[null,"Heavy",{"$f":"MAX('Dual Model'!$H$36+'Dual Model'!D48,$M$11)","v":4.5999999999999996},{"$f":"$C$21","v":4.5999999999999996},{"$f":"MAX('Dual Model'!$H$36+'Dual Model'!D49,$M$11)","v":3.6},{"$f":"$E$21","v":3.6},{"$f":"$E$21","v":3.6},{"$f":"$E$21","v":3.6},{"$f":"MAX('Dual Model'!$H$36+'Dual Model'!D50,$M$11)","v":2.9898257881746693}]
[]
[null,"IMC Required Separation for arrivals following an aircraft from each class",null,null,null,"Distance in Nautical Miles"]
[null,null,"Small - S","Small - T","Small +","Large-TP","Large-Jet","Large-757","Heavy","Separations equals the larger of the linear portion of the diagonal separation or the standard separation"]
[null,"Small - S",{"$f":"MAX('Dual Model'!$H$36+'Dual Model'!E41,$M$11)","v":3},{"$f":"$C$25","v":3},3,3,3,3,3]
[null,"Small - T",{"$f":"$C$25","v":3},3,3,3,3,3,3]
[null,"Small +",{"$f":"MAX('Dual Model'!$H$36+'Dual Model'!E42,$M$11)","v":3},{"$f":"$C$27","v":3},{"$f":"$C$27","v":3},{"$f":"MAX('Dual Model'!$H$36+'Dual Model'!E43,$M$11)","v":3},{"$f":"$F$27","v":3},{"$f":"$F$27","v":3},{"$f":"$F$27","v":3}]
[null,"Large-TP",{"$f":"MAX('Dual Model'!$H$36+'Dual Model'!E44,$M$11)","v":4},{"$f":"$C$28","v":4},{"$f":"$C$28","v":4},{"$f":"MAX('Dual Model'!$H$36+'Dual Model'!E45,$M$11)","v":3},{"$f":"$F$28","v":3},3,3]
[null,"Large-Jet",{"$f":"MAX('Dual Model'!$H$36+'Dual Model'!E44,$M$11)","v":4},{"$f":"$C$29","v":4},{"$f":"$C$29","v":4},{"$f":"$F$28","v":3},3,3,3]
[null,"Large-757",{"$f":"MAX('Dual Model'!$H$36+'Dual Model'!E46,$M$11)","v":5},{"$f":"$C$30","v":5},{"$f":"$C$30","v":5},{"$f":"MAX('Dual Model'!$H$36+'Dual Model'!E47,$M$11)","v":4},{"$f":"$F$30","v":4},{"$f":"$F$30","v":4},{"$f":"$F$30","v":4}]
[null,"Heavy",{"$f":"MAX('Dual Model'!$H$36+'Dual Model'!E48,$M$11)","v":6},{"$f":"$C$31","v":6},{"$f":"MAX('Dual Model'!$H$36+'Dual Model'!E49,$M$11)","v":5},{"$f":"$E$31","v":5},{"$f":"$E$31","v":5},{"$f":"$E$31","v":5},{"$f":"MAX('Dual Model'!$H$36+'Dual Model'!E49,$M$11)","v":5}]
[]
[null,"VMC Required Separation for departures following an aircraft from each class",null,null,null,"Time in seconds"]
[null,null,"Small - S","Small - T","Small +","Large-TP","Large-Jet","Large-757","Heavy"]
[null,"Small - S",{"$f":"'Dual Model'!$D$54+'Dual Model'!$C$37","v":45},{"$f":"$C$35","v":45},{"$f":"$C$35","v":45},{"$f":"'Dual Model'!$D$55+'Dual Model'!$C$37","v":55},{"$f":"$F$35","v":55},55,{"$f":"'Dual Model'!$D$56+'Dual Model'!$C$37","v":60}]
[null,"Small - T",{"$f":"$C$35","v":45},45,45,{"$f":"$F$35","v":55},55,55,{"$f":"$I$35","v":60}]
[null,"Small +",45,45,45,{"$f":"$F$35","v":55},55,55,{"$f":"$I$35","v":60}]
[null,"Large-TP",{"$f":"'Dual Model'!$D$57+'Dual Model'!$C$37","v":90},{"$f":"$C$38","v":90},90,{"$f":"'Dual Model'!$D$58+'Dual Model'!$C$37","v":70},{"$f":"$F$38","v":70},70,70]
[null,"Large-Jet",{"$f":"$C$38","v":90},90,90,{"$f":"$F$38","v":70},70,70,70]
[null,"Large-757",{"$f":"$C$38","v":90},90,90,{"$f":"$F$38","v":70},70,70,70]
[null,"Heavy",{"$f":"'Dual Model'!$D$59+'Dual Model'!$C$37","v":130},{"$f":"$C$41","v":130},{"$f":"$C$41","v":130},{"$f":"$C$41","v":130},{"$f":"$C$41","v":130},{"$f":"$C$41","v":130},{"$f":"'Dual Model'!$D$60+'Dual Model'!$C$37","v":100}]
[]
[null,"IMC Required Separation for departures following an aircraft from each class",null,null,null,"Time in seconds"]
[null,null,"Small - S","Small - T","Small +","Large-TP","Large-Jet","Large-757","Heavy"]
[null,"Small - S",{"$f":"'Dual Model'!$E$54+'Dual Model'!$C$37","v":70},{"$f":"$C$45","v":70},70,{"$f":"'Dual Model'!$E$55+'Dual Model'!$C$37","v":70},{"$f":"$F$45","v":70},70,{"$f":"'Dual Model'!$E$56+'Dual Model'!$C$37","v":70}]
[null,"Small - T",{"$f":"$C$45","v":70},70,70,{"$f":"$F$45","v":70},70,70,{"$f":"$I$45","v":70}]
[null,"Small +",{"$f":"$C$45","v":70},70,70,{"$f":"$F$45","v":70},70,70,{"$f":"$I$45","v":70}]
[null,"Large-TP",{"$f":"'Dual Model'!$E$57+'Dual Model'!$C$37","v":90},{"$f":"$C$48","v":90},90,{"$f":"'Dual Model'!$E$58+'Dual Model'!$C$37","v":70},{"$f":"$F$48","v":70},70,70]
[null,"Large-Jet",{"$f":"$C$48","v":90},90,90,{"$f":"$F$48","v":70},70,70,70]
[null,"Large-757",{"$f":"$C$48","v":90},90,90,{"$f":"$F$48","v":70},70,70,70]
[null,"Heavy",{"$f":"'Dual Model'!$E$59+'Dual Model'!$C$37","v":130},{"$f":"$C$51","v":130},{"$f":"$C$51","v":130},{"$f":"$C$51","v":130},{"$f":"$C$51","v":130},{"$f":"$C$51","v":130},{"$f":"'Dual Model'!$E$60+'Dual Model'!$C$37","v":100}]
[]
[null,null,null," "]
[null,"VMC Required Separation for arrivals following an aircraft from each class",null,null,null,"Time in Seconds"]
[null,null,"Small - S","Small - T","Small +","Large-TP","Large-Jet","Large-757","Heavy"]
[null,"Small - S",{"$f":"MAXA(3600*C15/('Dual Model'!$C$28)+'Dual Model'!$H$14*'Dual Model'!$H$12+MAXA(0,'Dual Model'!$C$14*3600*(1/'Dual Model'!$C$28-1/'Dual Model'!$C$28)),'Dual Model'!$C$25+'Dual Model'!$H$14*SQRT('Dual Model'!$H$12^2+'Dual Model'!$H$13^2))+'Dual Model'!$C$36","v":149.20303152698676},{"$f":"MAXA(3600*D15/('Dual Model'!$D$28)+'Dual Model'!$H$14*'Dual Model'!$H$12+MAXA(0,'Dual Model'!$C$14*3600*(1/'Dual Model'!$D$28-1/'Dual Model'!$C$28)),'Dual Model'!$C$25+'Dual Model'!$H$14*SQRT('Dual Model'!$H$12^2+'Dual Model'!$H$13^2))+'Dual Model'!$C$36","v":137.24372837428808},{"$f":"MAXA(3600*E15/('Dual Model'!$E$28)+'Dual Model'!$H$14*'Dual Model'!$H$12+MAXA(0,'Dual Model'!$C$14*3600*(1/'Dual Model'!$E$28-1/'Dual Model'!$C$28)),'Dual Model'!$C$25+'Dual Model'!$H$14*SQRT('Dual Model'!$H$12^2+'Dual Model'!$H$13^2))+'Dual Model'!$C$36","v":119.30477364524008},{"$f":"MAXA(3600*F15/('Dual Model'!$F$28)+'Dual Model'!$H$14*'Dual Model'!$H$12+MAXA(0,'Dual Model'!$C$14*3600*(1/'Dual Model'!$F$28-1/'Dual Model'!$C$28)),'Dual Model'!$C$25+'Dual Model'!$H$14*SQRT('Dual Model'!$H$12^2+'Dual Model'!$H$13^2))+'Dual Model'!$C$36","v":112.4051756725293},{"$f":"MAXA(3600*G15/('Dual Model'!$G$28)+'Dual Model'!$H$14*'Dual Model'!$H$12+MAXA(0,'Dual Model'!$C$14*3600*(1/'Dual Model'!$G$28-1/'Dual Model'!$C$28)),'Dual Model'!$C$25+'Dual Model'!$H$14*SQRT('Dual Model'!$H$12^2+'Dual Model'!$H$13^2))+'Dual Model'!$C$36","v":109.33868768465784},{"$f":"MAXA(3600*H15/('Dual Model'!$H$28)+'Dual Model'!$H$14*'Dual Model'!$H$12+MAXA(0,'Dual Model'!$C$14*3600*(1/'Dual Model'!$H$28-1/'Dual Model'!$C$28)),'Dual Model'!$C$25+'Dual Model'!$H$14*SQRT('Dual Model'!$H$12^2+'Dual Model'!$H$13^2))+'Dual Model'!$C$36","v":106.49123455306292},{"$f":"MAXA(3600*I15/('Dual Model'!$I$28)+'Dual Model'!$H$14*'Dual Model'!$H$12+MAXA(0,'Dual Model'!$C$14*3600*(1/'Dual Model'!$I$28-1/'Dual Model'!$C$28)),'Dual Model'!$C$25+'Dual Model'!$H$14*SQRT('Dual Model'!$H$12^2+'Dual Model'!$H$13^2))+'Dual Model'!$C$36","v":101.36581891619207}]
[null,"Small - T",{"$f":"MAXA(3600*C16/('Dual Model'!$C$28)+'Dual Model'!$H$14*'Dual Model'!$H$12+MAXA(0,'Dual Model'!$C$14*3600*(1/'Dual Model'!$C$28-1/'Dual Model'!$D$28)),'Dual Model'!$D$25+'Dual Model'!$H$14*SQRT('Dual Model'!$H$12^2+'Dual Model'!$H$13^2))+'Dual Model'!$C$36","v":177.20303152698676},{"$f":"MAXA(3600*D16/('Dual Model'!$D$28)+'Dual Model'!$H$14*'Dual Model'!$H$12+MAXA(0,'Dual Model'!$C$14*3600*(1/'Dual Model'!$D$28-1/'Dual Model'!$D$28)),'Dual Model'!$D$25+'Dual Model'!$H$14*SQRT('Dual Model'!$H$12^2+'Dual Model'!$H$13^2))+'Dual Model'!$C$36","v":137.24372837428808},{"$f":"MAXA(3600*E16/('Dual Model'!$E$28)+'Dual Model'!$H$14*'Dual Model'!$H$12+MAXA(0,'Dual Model'!$C$14*3600*(1/'Dual Model'!$E$28-1/'Dual Model'!$D$28)),'Dual Model'!$D$25+'Dual Model'!$H$14*SQRT('Dual Model'!$H$12^2+'Dual Model'!$H$13^2))+'Dual Model'!$C$36","v":119.30477364524008},{"$f":"MAXA(3600*F16/('Dual Model'!$F$28)+'Dual Model'!$H$14*'Dual Model'!$H$12+MAXA(0,'Dual Model'!$C$14*3600*(1/'Dual Model'!$F$28-1/'Dual Model'!$D$28)),'Dual Model'!$D$25+'Dual Model'!$H$14*SQRT('Dual Model'!$H$12^2+'Dual Model'!$H$13^2))+'Dual Model'!$C$36","v":112.4051756725293},{"$f":"MAXA(3600*G16/('Dual Model'!$G$28)+'Dual Model'!$H$14*'Dual Model'!$H$12+MAXA(0,'Dual Model'!$C$14*3600*(1/'Dual Model'!$G$28-1/'Dual Model'!$D$28)),'Dual Model'!$D$25+'Dual Model'!$H$14*SQRT('Dual Model'!$H$12^2+'Dual Model'!$H$13^2))+'Dual Model'!$C$36","v":109.33868768465784},{"$f":"MAXA(3600*H16/('Dual Model'!$H$28)+'Dual Model'!$H$14*'Dual Model'!$H$12+MAXA(0,'Dual Model'!$C$14*3600*(1/'Dual Model'!$H$28-1/'Dual Model'!$D$28)),'Dual Model'!$D$25+'Dual Model'!$H$14*SQRT('Dual Model'!$H$12^2+'Dual Model'!$H$13^2))+'Dual Model'!$C$36","v":106.49123455306292},{"$f":"MAXA(3600*I16/('Dual Model'!$I$28)+'Dual Model'!$H$14*'Dual Model'!$H$12+MAXA(0,'Dual Model'!$C$14*3600*(1/'Dual Model'!$I$28-1/'Dual Model'!$D$28)),'Dual Model'!$D$25+'Dual Model'!$H$14*SQRT('Dual Model'!$H$12^2+'Dual Model'!$H$13^2))+'Dual Model'!$C$36","v":101.36581891619207}]
[null,"Small +",{"$f":"MAXA(3600*C17/('Dual Model'!$C$28)+'Dual Model'!$H$14*'Dual Model'!$H$12+MAXA(0,'Dual Model'!$C$14*3600*(1/'Dual Model'!$C$28-1/'Dual Model'!$E$28)),'Dual Model'!$E$25+'Dual Model'!$H$14*SQRT('Dual Model'!$H$12^2+'Dual Model'!$H$13^2))+'Dual Model'!$C$36","v":219.20303152698676},{"$f":"MAXA(3600*D17/('Dual Model'!$D$28)+'Dual Model'!$H$14*'Dual Model'!$H$12+MAXA(0,'Dual Model'!$C$14*3600*(1/'Dual Model'!$D$28-1/'Dual Model'!$E$28)),'Dual Model'!$E$25+'Dual Model'!$H$14*SQRT('Dual Model'!$H$12^2+'Dual Model'!$H$13^2))+'Dual Model'!$C$36","v":179.24372837428808},{"$f":"MAXA(3600*E17/('Dual Model'!$E$28)+'Dual Model'!$H$14*'Dual Model'!$H$12+MAXA(0,'Dual Model'!$C$14*3600*(1/'Dual Model'!$E$28-1/'Dual Model'!$E$28)),'Dual Model'!$E$25+'Dual Model'!$H$14*SQRT('Dual Model'!$H$12^2+'Dual Model'!$H$13^2))+'Dual Model'!$C$36","v":119.30477364524008},{"$f":"MAXA(3600*F17/('Dual Model'!$F$28)+'Dual Model'!$H$14*'Dual Model'!$H$12+MAXA(0,'Dual Model'!$C$14*3600*(1/'Dual Model'!$F$28-1/'Dual Model'!$E$28)),'Dual Model'!$E$25+'Dual Model'!$H$14*SQRT('Dual Model'!$H$12^2+'Dual Model'!$H$13^2))+'Dual Model'!$C$36","v":112.4051756725293},{"$f":"MAXA(3600*G17/('Dual Model'!$G$28)+'Dual Model'!$H$14*'Dual Model'!$H$12+MAXA(0,'Dual Model'!$C$14*3600*(1/'Dual Model'!$G$28-1/'Dual Model'!$E$28)),'Dual Model'!$E$25+'Dual Model'!$H$14*SQRT('Dual Model'!$H$12^2+'Dual Model'!$H$13^2))+'Dual Model'!$C$36","v":109.33868768465784},{"$f":"MAXA(3600*H17/('Dual Model'!$H$28)+'Dual Model'!$H$14*'Dual Model'!$H$12+MAXA(0,'Dual Model'!$C$14*3600*(1/'Dual Model'!$H$28-1/'Dual Model'!$F$28)),'Dual Model'!$F$25+'Dual Model'!$H$14*SQRT('Dual Model'!$H$12^2+'Dual Model'!$H$13^2))+'Dual Model'!$C$36","v":106.49123455306292},{"$f":"MAXA(3600*I17/('Dual Model'!$I$28)+'Dual Model'!$H$14*'Dual Model'!$H$12+MAXA(0,'Dual Model'!$C$14*3600*(1/'Dual Model'!$I$28-1/'Dual Model'!$E$28)),'Dual Model'!$E$25+'Dual Model'!$H$14*SQRT('Dual Model'!$H$12^2+'Dual Model'!$H$13^2))+'Dual Model'!$C$36","v":101.36581891619207}]
[null,"Large-TP",{"$f":"MAXA(3600*C18/('Dual Model'!$C$28)+'Dual Model'!$H$14*'Dual Model'!$H$12+MAXA(0,'Dual Model'!$C$14*3600*(1/'Dual Model'!$C$28-1/'Dual Model'!$F$28)),'Dual Model'!$F$25+'Dual Model'!$H$14*SQRT('Dual Model'!$H$12^2+'Dual Model'!$H$13^2))+'Dual Model'!$C$36","v":235.35687768083292},{"$f":"MAXA(3600*D18/('Dual Model'!$D$28)+'Dual Model'!$H$14*'Dual Model'!$H$12+MAXA(0,'Dual Model'!$C$14*3600*(1/'Dual Model'!$D$28-1/'Dual Model'!$F$28)),'Dual Model'!$F$25+'Dual Model'!$H$14*SQRT('Dual Model'!$H$12^2+'Dual Model'!$H$13^2))+'Dual Model'!$C$36","v":195.39757452813421},{"$f":"MAXA(3600*E18/('Dual Model'!$E$28)+'Dual Model'!$H$14*'Dual Model'!$H$12+MAXA(0,'Dual Model'!$C$14*3600*(1/'Dual Model'!$E$28-1/'Dual Model'!$F$28)),'Dual Model'!$F$25+'Dual Model'!$H$14*SQRT('Dual Model'!$H$12^2+'Dual Model'!$H$13^2))+'Dual Model'!$C$36","v":135.45861979908622},{"$f":"MAXA(3600*F18/('Dual Model'!$F$28)+'Dual Model'!$H$14*'Dual Model'!$H$12+MAXA(0,'Dual Model'!$C$14*3600*(1/'Dual Model'!$F$28-1/'Dual Model'!$F$28)),'Dual Model'!$F$25+'Dual Model'!$H$14*SQRT('Dual Model'!$H$12^2+'Dual Model'!$H$13^2))+'Dual Model'!$C$36","v":112.4051756725293},{"$f":"MAXA(3600*G18/('Dual Model'!$G$28)+'Dual Model'!$H$14*'Dual Model'!$H$12+MAXA(0,'Dual Model'!$C$14*3600*(1/'Dual Model'!$G$28-1/'Dual Model'!$F$28)),'Dual Model'!$F$25+'Dual Model'!$H$14*SQRT('Dual Model'!$H$12^2+'Dual Model'!$H$13^2))+'Dual Model'!$C$36","v":109.33868768465784},{"$f":"MAXA(3600*H18/('Dual Model'!$H$28)+'Dual Model'!$H$14*'Dual Model'!$H$12+MAXA(0,'Dual Model'!$C$14*3600*(1/'Dual Model'!$H$28-1/'Dual Model'!$E$28)),'Dual Model'!$E$25+'Dual Model'!$H$14*SQRT('Dual Model'!$H$12^2+'Dual Model'!$H$13^2))+'Dual Model'!$C$36","v":106.49123455306292},{"$f":"MAXA(3600*I18/('Dual Model'!$I$28)+'Dual Model'!$H$14*'Dual Model'!$H$12+MAXA(0,'Dual Model'!$C$14*3600*(1/'Dual Model'!$I$28-1/'Dual Model'!$F$28)),'Dual Model'!$F$25+'Dual Model'!$H$14*SQRT('Dual Model'!$H$12^2+'Dual Model'!$H$13^2))+'Dual Model'!$C$36","v":101.36581891619207}]
[null,"Large-Jet",{"$f":"MAXA(3600*C19/('Dual Model'!$C$28)+'Dual Model'!$H$14*'Dual Model'!$H$12+MAXA(0,'Dual Model'!$C$14*3600*(1/'Dual Model'!$C$28-1/'Dual Model'!$G$28)),'Dual Model'!$G$25+'Dual Model'!$H$14*SQRT('Dual Model'!$H$12^2+'Dual Model'!$H$13^2))+'Dual Model'!$C$36","v":242.53636486032011},{"$f":"MAXA(3600*D19/('Dual Model'!$D$28)+'Dual Model'!$H$14*'Dual Model'!$H$12+MAXA(0,'Dual Model'!$C$14*3600*(1/'Dual Model'!$D$28-1/'Dual Model'!$G$28)),'Dual Model'!$G$25+'Dual Model'!$H$14*SQRT('Dual Model'!$H$12^2+'Dual Model'!$H$13^2))+'Dual Model'!$C$36","v":202.5770617076214},{"$f":"MAXA(3600*E19/('Dual Model'!$E$28)+'Dual Model'!$H$14*'Dual Model'!$H$12+MAXA(0,'Dual Model'!$C$14*3600*(1/'Dual Model'!$E$28-1/'Dual Model'!$G$28)),'Dual Model'!$G$25+'Dual Model'!$H$14*SQRT('Dual Model'!$H$12^2+'Dual Model'!$H$13^2))+'Dual Model'!$C$36","v":142.6381069785734},{"$f":"MAXA(3600*F19/('Dual Model'!$F$28)+'Dual Model'!$H$14*'Dual Model'!$H$12+MAXA(0,'Dual Model'!$C$14*3600*(1/'Dual Model'!$F$28-1/'Dual Model'!$G$28)),'Dual Model'!$G$25+'Dual Model'!$H$14*SQRT('Dual Model'!$H$12^2+'Dual Model'!$H$13^2))+'Dual Model'!$C$36","v":119.58466285201648},{"$f":"MAXA(3600*G19/('Dual Model'!$G$28)+'Dual Model'!$H$14*'Dual Model'!$H$12+MAXA(0,'Dual Model'!$C$14*3600*(1/'Dual Model'!$G$28-1/'Dual Model'!$G$28)),'Dual Model'!$G$25+'Dual Model'!$H$14*SQRT('Dual Model'!$H$12^2+'Dual Model'!$H$13^2))+'Dual Model'!$C$36","v":109.33868768465784},{"$f":"MAXA(3600*H19/('Dual Model'!$H$28)+'Dual Model'!$H$14*'Dual Model'!$H$12+MAXA(0,'Dual Model'!$C$14*3600*(1/'Dual Model'!$H$28-1/'Dual Model'!$G$28)),'Dual Model'!$G$25+'Dual Model'!$H$14*SQRT('Dual Model'!$H$12^2+'Dual Model'!$H$13^2))+'Dual Model'!$C$36","v":106.49123455306292},{"$f":"MAXA(3600*I19/('Dual Model'!$I$28)+'Dual Model'!$H$14*'Dual Model'!$H$12+MAXA(0,'Dual Model'!$C$14*3600*(1/'Dual Model'!$I$28-1/'Dual Model'!$G$28)),'Dual Model'!$G$25+'Dual Model'!$H$14*SQRT('Dual Model'!$H$12^2+'Dual Model'!$H$13^2))+'Dual Model'!$C$36","v":101.36581891619207}]
[null,"Large-757",{"$f":"MAXA(3600*C20/('Dual Model'!$C$28)+'Dual Model'!$H$14*'Dual Model'!$H$12+MAXA(0,'Dual Model'!$C$14*3600*(1/'Dual Model'!$C$28-1/'Dual Model'!$H$28)),'Dual Model'!$G$25+'Dual Model'!$H$14*SQRT('Dual Model'!$H$12^2+'Dual Model'!$H$13^2))+'Dual Model'!$C$36","v":277.61},{"$f":"MAXA(3600*D20/('Dual Model'!$D$28)+'Dual Model'!$H$14*'Dual Model'!$H$12+MAXA(0,'Dual Model'!$C$14*3600*(1/'Dual Model'!$D$28-1/'Dual Model'!$H$28)),'Dual Model'!$H$25+'Dual Model'!$H$14*SQRT('Dual Model'!$H$12^2+'Dual Model'!$H$13^2))+'Dual Model'!$C$36","v":234.81},{"$f":"MAXA(3600*E20/('Dual Model'!$E$28)+'Dual Model'!$H$14*'Dual Model'!$H$12+MAXA(0,'Dual Model'!$C$14*3600*(1/'Dual Model'!$E$28-1/'Dual Model'!$H$28)),'Dual Model'!$H$25+'Dual Model'!$H$14*SQRT('Dual Model'!$H$12^2+'Dual Model'!$H$13^2))+'Dual Model'!$C$36","v":170.61},{"$f":"MAXA(3600*F20/('Dual Model'!$F$28)+'Dual Model'!$H$14*'Dual Model'!$H$12+MAXA(0,'Dual Model'!$C$14*3600*(1/'Dual Model'!$F$28-1/'Dual Model'!$H$28)),'Dual Model'!$H$25+'Dual Model'!$H$14*SQRT('Dual Model'!$H$12^2+'Dual Model'!$H$13^2))+'Dual Model'!$C$36","v":126.25132951868316},{"$f":"MAXA(3600*G20/('Dual Model'!$G$28)+'Dual Model'!$H$14*'Dual Model'!$H$12+MAXA(0,'Dual Model'!$C$14*3600*(1/'Dual Model'!$G$28-1/'Dual Model'!$H$28)),'Dual Model'!$H$25+'Dual Model'!$H$14*SQRT('Dual Model'!$H$12^2+'Dual Model'!$H$13^2))+'Dual Model'!$C$36","v":116.00535435132453},{"$f":"MAXA(3600*H20/('Dual Model'!$G$28)+'Dual Model'!$H$14*'Dual Model'!$H$12+MAXA(0,'Dual Model'!$C$14*3600*(1/'Dual Model'!$H$28-1/'Dual Model'!$H$28)),'Dual Model'!$H$25+'Dual Model'!$H$14*SQRT('Dual Model'!$H$12^2+'Dual Model'!$H$13^2))+'Dual Model'!$C$36","v":109.33868768465784},{"$f":"MAXA(3600*I20/('Dual Model'!$I$28)+'Dual Model'!$H$14*'Dual Model'!$H$12+MAXA(0,'Dual Model'!$C$14*3600*(1/'Dual Model'!$I$28-1/'Dual Model'!$H$28)),'Dual Model'!$H$25+'Dual Model'!$H$14*SQRT('Dual Model'!$H$12^2+'Dual Model'!$H$13^2))+'Dual Model'!$C$36","v":101.36581891619207}]
[null,"Heavy",{"$f":"MAXA(3600*C21/('Dual Model'!$C$28)+'Dual Model'!$H$14*'Dual Model'!$H$12+MAXA(0,'Dual Model'!$C$14*3600*(1/'Dual Model'!$C$28-1/'Dual Model'!$I$28)),'Dual Model'!$I$25+'Dual Model'!$H$14*SQRT('Dual Model'!$H$12^2+'Dual Model'!$H$13^2))+'Dual Model'!$C$36","v":325.61},{"$f":"MAXA(3600*D21/('Dual Model'!$D$28)+'Dual Model'!$H$14*'Dual Model'!$H$12+MAXA(0,'Dual Model'!$C$14*3600*(1/'Dual Model'!$D$28-1/'Dual Model'!$I$28)),'Dual Model'!$I$25+'Dual Model'!$H$14*SQRT('Dual Model'!$H$12^2+'Dual Model'!$H$13^2))+'Dual Model'!$C$36","v":279.20999999999998},{"$f":"MAXA(3600*E21/('Dual Model'!$E$28)+'Dual Model'!$H$14*'Dual Model'!$H$12+MAXA(0,'Dual Model'!$C$14*3600*(1/'Dual Model'!$E$28-1/'Dual Model'!$I$28)),'Dual Model'!$I$25+'Dual Model'!$H$14*SQRT('Dual Model'!$H$12^2+'Dual Model'!$H$13^2))+'Dual Model'!$C$36","v":179.61},{"$f":"MAXA(3600*F21/('Dual Model'!$F$28)+'Dual Model'!$H$14*'Dual Model'!$H$12+MAXA(0,'Dual Model'!$C$14*3600*(1/'Dual Model'!$F$28-1/'Dual Model'!$I$28)),'Dual Model'!$I$25+'Dual Model'!$H$14*SQRT('Dual Model'!$H$12^2+'Dual Model'!$H$13^2))+'Dual Model'!$C$36","v":155.14846153846153},{"$f":"MAXA(3600*G21/('Dual Model'!$G$28)+'Dual Model'!$H$14*'Dual Model'!$H$12+MAXA(0,'Dual Model'!$C$14*3600*(1/'Dual Model'!$G$28-1/'Dual Model'!$I$28)),'Dual Model'!$I$25+'Dual Model'!$H$14*SQRT('Dual Model'!$H$12^2+'Dual Model'!$H$13^2))+'Dual Model'!$C$36","v":144.27666666666667},{"$f":"MAXA(3600*H21/('Dual Model'!$G$28)+'Dual Model'!$H$14*'Dual Model'!$H$12+MAXA(0,'Dual Model'!$C$14*3600*(1/'Dual Model'!$H$28-1/'Dual Model'!$I$28)),'Dual Model'!$I$25+'Dual Model'!$H$14*SQRT('Dual Model'!$H$12^2+'Dual Model'!$H$13^2))+'Dual Model'!$C$36","v":137.60999999999999},{"$f":"MAXA(3600*I21/('Dual Model'!$I$28)+'Dual Model'!$H$14*'Dual Model'!$H$12+MAXA(0,'Dual Model'!$C$14*3600*(1/'Dual Model'!$I$28-1/'Dual Model'!$I$28)),'Dual Model'!$I$25+'Dual Model'!$H$14*SQRT('Dual Model'!$H$12^2+'Dual Model'!$H$13^2))+'Dual Model'!$C$36","v":101.36581891619207}]
[]
[null,"IMC Required Separation for arrivals following an aircraft from each class",null,null,null,"Time in Seconds"]
[null,null,"Small - S","Small - T","Small +","Large-TP","Large-Jet","Large-757","Heavy"]
[null,"Small - S",{"$f":"MAXA(3600*C25/('Dual Model'!$C$28)+'Dual Model'!$H$14*'Dual Model'!$H$12+MAXA(0,'Dual Model'!$C$14*3600*(1/'Dual Model'!$C$28-1/'Dual Model'!$C$28)),'Dual Model'!$C$25+'Dual Model'!$H$14*SQRT('Dual Model'!$H$12^2+'Dual Model'!$H$13^2))+'Dual Model'!$C$36","v":149.61000000000001},{"$f":"MAXA(3600*D25/('Dual Model'!$D$28)+'Dual Model'!$H$14*'Dual Model'!$H$12+MAXA(0,'Dual Model'!$C$14*3600*(1/'Dual Model'!$D$28-1/'Dual Model'!$C$28)),'Dual Model'!$C$25+'Dual Model'!$H$14*SQRT('Dual Model'!$H$12^2+'Dual Model'!$H$13^2))+'Dual Model'!$C$36","v":137.61000000000001},{"$f":"MAXA(3600*E25/('Dual Model'!$E$28)+'Dual Model'!$H$14*'Dual Model'!$H$12+MAXA(0,'Dual Model'!$C$14*3600*(1/'Dual Model'!$E$28-1/'Dual Model'!$C$28)),'Dual Model'!$C$25+'Dual Model'!$H$14*SQRT('Dual Model'!$H$12^2+'Dual Model'!$H$13^2))+'Dual Model'!$C$36","v":119.61},{"$f":"MAXA(3600*F25/('Dual Model'!$F$28)+'Dual Model'!$H$14*'Dual Model'!$H$12+MAXA(0,'Dual Model'!$C$14*3600*(1/'Dual Model'!$F$28-1/'Dual Model'!$C$28)),'Dual Model'!$C$25+'Dual Model'!$H$14*SQRT('Dual Model'!$H$12^2+'Dual Model'!$H$13^2))+'Dual Model'!$C$36","v":112.68692307692308},{"$f":"MAXA(3600*G25/('Dual Model'!$G$28)+'Dual Model'!$H$14*'Dual Model'!$H$12+MAXA(0,'Dual Model'!$C$14*3600*(1/'Dual Model'!$G$28-1/'Dual Model'!$C$28)),'Dual Model'!$C$25+'Dual Model'!$H$14*SQRT('Dual Model'!$H$12^2+'Dual Model'!$H$13^2))+'Dual Model'!$C$36","v":109.61},{"$f":"MAXA(3600*H25/('Dual Model'!$H$28)+'Dual Model'!$H$14*'Dual Model'!$H$12+MAXA(0,'Dual Model'!$C$14*3600*(1/'Dual Model'!$H$28-1/'Dual Model'!$C$28)),'Dual Model'!$C$25+'Dual Model'!$H$14*SQRT('Dual Model'!$H$12^2+'Dual Model'!$H$13^2))+'Dual Model'!$C$36","v":106.75285714285714},{"$f":"MAXA(3600*I25/('Dual Model'!$I$28)+'Dual Model'!$H$14*'Dual Model'!$H$12+MAXA(0,'Dual Model'!$C$14*3600*(1/'Dual Model'!$I$28-1/'Dual Model'!$C$28)),'Dual Model'!$C$25+'Dual Model'!$H$14*SQRT('Dual Model'!$H$12^2+'Dual Model'!$H$13^2))+'Dual Model'!$C$36","v":101.61}]
[null,"Small - T",{"$f":"MAXA(3600*C26/('Dual Model'!$C$28)+'Dual Model'!$H$14*'Dual Model'!$H$12+MAXA(0,'Dual Model'!$C$14*3600*(1/'Dual Model'!$C$28-1/'Dual Model'!$D$28)),'Dual Model'!$D$25+'Dual Model'!$H$14*SQRT('Dual Model'!$H$12^2+'Dual Model'!$H$13^2))+'Dual Model'!$C$36","v":177.61},{"$f":"MAXA(3600*D26/('Dual Model'!$D$28)+'Dual Model'!$H$14*'Dual Model'!$H$12+MAXA(0,'Dual Model'!$C$14*3600*(1/'Dual Model'!$D$28-1/'Dual Model'!$D$28)),'Dual Model'!$D$25+'Dual Model'!$H$14*SQRT('Dual Model'!$H$12^2+'Dual Model'!$H$13^2))+'Dual Model'!$C$36","v":137.61000000000001},{"$f":"MAXA(3600*E26/('Dual Model'!$E$28)+'Dual Model'!$H$14*'Dual Model'!$H$12+MAXA(0,'Dual Model'!$C$14*3600*(1/'Dual Model'!$E$28-1/'Dual Model'!$D$28)),'Dual Model'!$D$25+'Dual Model'!$H$14*SQRT('Dual Model'!$H$12^2+'Dual Model'!$H$13^2))+'Dual Model'!$C$36","v":119.61},{"$f":"MAXA(3600*F26/('Dual Model'!$F$28)+'Dual Model'!$H$14*'Dual Model'!$H$12+MAXA(0,'Dual Model'!$C$14*3600*(1/'Dual Model'!$F$28-1/'Dual Model'!$D$28)),'Dual Model'!$D$25+'Dual Model'!$H$14*SQRT('Dual Model'!$H$12^2+'Dual Model'!$H$13^2))+'Dual Model'!$C$36","v":112.68692307692308},{"$f":"MAXA(3600*G26/('Dual Model'!$G$28)+'Dual Model'!$H$14*'Dual Model'!$H$12+MAXA(0,'Dual Model'!$C$14*3600*(1/'Dual Model'!$G$28-1/'Dual Model'!$D$28)),'Dual Model'!$D$25+'Dual Model'!$H$14*SQRT('Dual Model'!$H$12^2+'Dual Model'!$H$13^2))+'Dual Model'!$C$36","v":109.61},{"$f":"MAXA(3600*H26/('Dual Model'!$H$28)+'Dual Model'!$H$14*'Dual Model'!$H$12+MAXA(0,'Dual Model'!$C$14*3600*(1/'Dual Model'!$H$28-1/'Dual Model'!$D$28)),'Dual Model'!$D$25+'Dual Model'!$H$14*SQRT('Dual Model'!$H$12^2+'Dual Model'!$H$13^2))+'Dual Model'!$C$36","v":106.75285714285714},{"$f":"MAXA(3600*I26/('Dual Model'!$I$28)+'Dual Model'!$H$14*'Dual Model'!$H$12+MAXA(0,'Dual Model'!$C$14*3600*(1/'Dual Model'!$I$28-1/'Dual Model'!$D$28)),'Dual Model'!$D$25+'Dual Model'!$H$14*SQRT('Dual Model'!$H$12^2+'Dual Model'!$H$13^2))+'Dual Model'!$C$36","v":101.61}]
[null,"Small +",{"$f":"MAXA(3600*C27/('Dual Model'!$C$28)+'Dual Model'!$H$14*'Dual Model'!$H$12+MAXA(0,'Dual Model'!$C$14*3600*(1/'Dual Model'!$C$28-1/'Dual Model'!$E$28)),'Dual Model'!$E$25+'Dual Model'!$H$14*SQRT('Dual Model'!$H$12^2+'Dual Model'!$H$13^2))+'Dual Model'!$C$36","v":219.61},{"$f":"MAXA(3600*D27/('Dual Model'!$D$28)+'Dual Model'!$H$14*'Dual Model'!$H$12+MAXA(0,'Dual Model'!$C$14*3600*(1/'Dual Model'!$D$28-1/'Dual Model'!$E$28)),'Dual Model'!$E$25+'Dual Model'!$H$14*SQRT('Dual Model'!$H$12^2+'Dual Model'!$H$13^2))+'Dual Model'!$C$36","v":179.61},{"$f":"MAXA(3600*E27/('Dual Model'!$E$28)+'Dual Model'!$H$14*'Dual Model'!$H$12+MAXA(0,'Dual Model'!$C$14*3600*(1/'Dual Model'!$E$28-1/'Dual Model'!$E$28)),'Dual Model'!$E$25+'Dual Model'!$H$14*SQRT('Dual Model'!$H$12^2+'Dual Model'!$H$13^2))+'Dual Model'!$C$36","v":119.61},{"$f":"MAXA(3600*F27/('Dual Model'!$F$28)+'Dual Model'!$H$14*'Dual Model'!$H$12+MAXA(0,'Dual Model'!$C$14*3600*(1/'Dual Model'!$F$28-1/'Dual Model'!$E$28)),'Dual Model'!$E$25+'Dual Model'!$H$14*SQRT('Dual Model'!$H$12^2+'Dual Model'!$H$13^2))+'Dual Model'!$C$36","v":112.68692307692308},{"$f":"MAXA(3600*G27/('Dual Model'!$G$28)+'Dual Model'!$H$14*'Dual Model'!$H$12+MAXA(0,'Dual Model'!$C$14*3600*(1/'Dual Model'!$G$28-1/'Dual Model'!$E$28)),'Dual Model'!$E$25+'Dual Model'!$H$14*SQRT('Dual Model'!$H$12^2+'Dual Model'!$H$13^2))+'Dual Model'!$C$36","v":109.61},{"$f":"MAXA(3600*H27/('Dual Model'!$H$28)+'Dual Model'!$H$14*'Dual Model'!$H$12+MAXA(0,'Dual Model'!$C$14*3600*(1/'Dual Model'!$H$28-1/'Dual Model'!$E$28)),'Dual Model'!$E$25+'Dual Model'!$H$14*SQRT('Dual Model'!$H$12^2+'Dual Model'!$H$13^2))+'Dual Model'!$C$36","v":106.75285714285714},{"$f":"MAXA(3600*I27/('Dual Model'!$I$28)+'Dual Model'!$H$14*'Dual Model'!$H$12+MAXA(0,'Dual Model'!$C$14*3600*(1/'Dual Model'!$I$28-1/'Dual Model'!$E$28)),'Dual Model'!$E$25+'Dual Model'!$H$14*SQRT('Dual Model'!$H$12^2+'Dual Model'!$H$13^2))+'Dual Model'!$C$36","v":101.61}]
[null,"Large-TP",{"$f":"MAXA(3600*C28/('Dual Model'!$C$28)+'Dual Model'!$H$14*'Dual Model'!$H$12+MAXA(0,'Dual Model'!$C$14*3600*(1/'Dual Model'!$C$28-1/'Dual Model'!$F$28)),'Dual Model'!$F$25+'Dual Model'!$H$14*SQRT('Dual Model'!$H$12^2+'Dual Model'!$H$13^2))+'Dual Model'!$C$36","v":275.7638461538462},{"$f":"MAXA(3600*D28/('Dual Model'!$D$28)+'Dual Model'!$H$14*'Dual Model'!$H$12+MAXA(0,'Dual Model'!$C$14*3600*(1/'Dual Model'!$D$28-1/'Dual Model'!$F$28)),'Dual Model'!$F$25+'Dual Model'!$H$14*SQRT('Dual Model'!$H$12^2+'Dual Model'!$H$13^2))+'Dual Model'!$C$36","v":231.76384615384615},{"$f":"MAXA(3600*E28/('Dual Model'!$E$28)+'Dual Model'!$H$14*'Dual Model'!$H$12+MAXA(0,'Dual Model'!$C$14*3600*(1/'Dual Model'!$E$28-1/'Dual Model'!$F$28)),'Dual Model'!$F$25+'Dual Model'!$H$14*SQRT('Dual Model'!$H$12^2+'Dual Model'!$H$13^2))+'Dual Model'!$C$36","v":165.76384615384615},{"$f":"MAXA(3600*F28/('Dual Model'!$F$28)+'Dual Model'!$H$14*'Dual Model'!$H$12+MAXA(0,'Dual Model'!$C$14*3600*(1/'Dual Model'!$F$28-1/'Dual Model'!$F$28)),'Dual Model'!$F$25+'Dual Model'!$H$14*SQRT('Dual Model'!$H$12^2+'Dual Model'!$H$13^2))+'Dual Model'!$C$36","v":112.68692307692308},{"$f":"MAXA(3600*G28/('Dual Model'!$G$28)+'Dual Model'!$H$14*'Dual Model'!$H$12+MAXA(0,'Dual Model'!$C$14*3600*(1/'Dual Model'!$G$28-1/'Dual Model'!$F$28)),'Dual Model'!$F$25+'Dual Model'!$H$14*SQRT('Dual Model'!$H$12^2+'Dual Model'!$H$13^2))+'Dual Model'!$C$36","v":109.61},{"$f":"MAXA(3600*H28/('Dual Model'!$H$28)+'Dual Model'!$H$14*'Dual Model'!$H$12+MAXA(0,'Dual Model'!$C$14*3600*(1/'Dual Model'!$H$28-1/'Dual Model'!$F$28)),'Dual Model'!$F$25+'Dual Model'!$H$14*SQRT('Dual Model'!$H$12^2+'Dual Model'!$H$13^2))+'Dual Model'!$C$36","v":106.75285714285714},{"$f":"MAXA(3600*I28/('Dual Model'!$I$28)+'Dual Model'!$H$14*'Dual Model'!$H$12+MAXA(0,'Dual Model'!$C$14*3600*(1/'Dual Model'!$I$28-1/'Dual Model'!$F$28)),'Dual Model'!$F$25+'Dual Model'!$H$14*SQRT('Dual Model'!$H$12^2+'Dual Model'!$H$13^2))+'Dual Model'!$C$36","v":101.61}]
[null,"Large-Jet",{"$f":"MAXA(3600*C29/('Dual Model'!$C$28)+'Dual Model'!$H$14*'Dual Model'!$H$12+MAXA(0,'Dual Model'!$C$14*3600*(1/'Dual Model'!$C$28-1/'Dual Model'!$G$28)),'Dual Model'!$G$25+'Dual Model'!$H$14*SQRT('Dual Model'!$H$12^2+'Dual Model'!$H$13^2))+'Dual Model'!$C$36","v":282.94333333333338},{"$f":"MAXA(3600*D29/('Dual Model'!$D$28)+'Dual Model'!$H$14*'Dual Model'!$H$12+MAXA(0,'Dual Model'!$C$14*3600*(1/'Dual Model'!$D$28-1/'Dual Model'!$G$28)),'Dual Model'!$G$25+'Dual Model'!$H$14*SQRT('Dual Model'!$H$12^2+'Dual Model'!$H$13^2))+'Dual Model'!$C$36","v":238.94333333333333},{"$f":"MAXA(3600*E29/('Dual Model'!$E$28)+'Dual Model'!$H$14*'Dual Model'!$H$12+MAXA(0,'Dual Model'!$C$14*3600*(1/'Dual Model'!$E$28-1/'Dual Model'!$G$28)),'Dual Model'!$G$25+'Dual Model'!$H$14*SQRT('Dual Model'!$H$12^2+'Dual Model'!$H$13^2))+'Dual Model'!$C$36","v":172.94333333333333},{"$f":"MAXA(3600*F29/('Dual Model'!$F$28)+'Dual Model'!$H$14*'Dual Model'!$H$12+MAXA(0,'Dual Model'!$C$14*3600*(1/'Dual Model'!$F$28-1/'Dual Model'!$G$28)),'Dual Model'!$G$25+'Dual Model'!$H$14*SQRT('Dual Model'!$H$12^2+'Dual Model'!$H$13^2))+'Dual Model'!$C$36","v":119.86641025641026},{"$f":"MAXA(3600*G29/('Dual Model'!$G$28)+'Dual Model'!$H$14*'Dual Model'!$H$12+MAXA(0,'Dual Model'!$C$14*3600*(1/'Dual Model'!$G$28-1/'Dual Model'!$G$28)),'Dual Model'!$G$25+'Dual Model'!$H$14*SQRT('Dual Model'!$H$12^2+'Dual Model'!$H$13^2))+'Dual Model'!$C$36","v":109.61},{"$f":"MAXA(3600*H29/('Dual Model'!$H$28)+'Dual Model'!$H$14*'Dual Model'!$H$12+MAXA(0,'Dual Model'!$C$14*3600*(1/'Dual Model'!$H$28-1/'Dual Model'!$G$28)),'Dual Model'!$G$25+'Dual Model'!$H$14*SQRT('Dual Model'!$H$12^2+'Dual Model'!$H$13^2))+'Dual Model'!$C$36","v":106.75285714285714},{"$f":"MAXA(3600*I29/('Dual Model'!$I$28)+'Dual Model'!$H$14*'Dual Model'!$H$12+MAXA(0,'Dual Model'!$C$14*3600*(1/'Dual Model'!$I$28-1/'Dual Model'!$G$28)),'Dual Model'!$G$25+'Dual Model'!$H$14*SQRT('Dual Model'!$H$12^2+'Dual Model'!$H$13^2))+'Dual Model'!$C$36","v":101.61}]
[null,"Large-757",{"$f":"MAXA(3600*C30/('Dual Model'!$C$28)+'Dual Model'!$H$14*'Dual Model'!$H$12+MAXA(0,'Dual Model'!$C$14*3600*(1/'Dual Model'!$C$28-1/'Dual Model'!$H$28)),'Dual Model'!$H$25+'Dual Model'!$H$14*SQRT('Dual Model'!$H$12^2+'Dual Model'!$H$13^2))+'Dual Model'!$C$36","v":329.61},{"$f":"MAXA(3600*D30/('Dual Model'!$D$28)+'Dual Model'!$H$14*'Dual Model'!$H$12+MAXA(0,'Dual Model'!$C$14*3600*(1/'Dual Model'!$D$28-1/'Dual Model'!$H$28)),'Dual Model'!$H$25+'Dual Model'!$H$14*SQRT('Dual Model'!$H$12^2+'Dual Model'!$H$13^2))+'Dual Model'!$C$36","v":281.61},{"$f":"MAXA(3600*E30/('Dual Model'!$E$28)+'Dual Model'!$H$14*'Dual Model'!$H$12+MAXA(0,'Dual Model'!$C$14*3600*(1/'Dual Model'!$E$28-1/'Dual Model'!$H$28)),'Dual Model'!$H$25+'Dual Model'!$H$14*SQRT('Dual Model'!$H$12^2+'Dual Model'!$H$13^2))+'Dual Model'!$C$36","v":209.61},{"$f":"MAXA(3600*F30/('Dual Model'!$F$28)+'Dual Model'!$H$14*'Dual Model'!$H$12+MAXA(0,'Dual Model'!$C$14*3600*(1/'Dual Model'!$F$28-1/'Dual Model'!$H$28)),'Dual Model'!$H$25+'Dual Model'!$H$14*SQRT('Dual Model'!$H$12^2+'Dual Model'!$H$13^2))+'Dual Model'!$C$36","v":154.22538461538466},{"$f":"MAXA(3600*G30/('Dual Model'!$G$28)+'Dual Model'!$H$14*'Dual Model'!$H$12+MAXA(0,'Dual Model'!$C$14*3600*(1/'Dual Model'!$G$28-1/'Dual Model'!$H$28)),'Dual Model'!$H$25+'Dual Model'!$H$14*SQRT('Dual Model'!$H$12^2+'Dual Model'!$H$13^2))+'Dual Model'!$C$36","v":142.94333333333336},{"$f":"MAXA(3600*H30/('Dual Model'!$H$28)+'Dual Model'!$H$14*'Dual Model'!$H$12+MAXA(0,'Dual Model'!$C$14*3600*(1/'Dual Model'!$H$28-1/'Dual Model'!$H$28)),'Dual Model'!$H$25+'Dual Model'!$H$14*SQRT('Dual Model'!$H$12^2+'Dual Model'!$H$13^2))+'Dual Model'!$C$36","v":132.46714285714285},{"$f":"MAXA(3600*I30/('Dual Model'!$I$28)+'Dual Model'!$H$14*'Dual Model'!$H$12+MAXA(0,'Dual Model'!$C$14*3600*(1/'Dual Model'!$I$28-1/'Dual Model'!$H$28)),'Dual Model'!$H$25+'Dual Model'!$H$14*SQRT('Dual Model'!$H$12^2+'Dual Model'!$H$13^2))+'Dual Model'!$C$36","v":125.61}]
[null,"Heavy",{"$f":"MAXA(3600*C31/('Dual Model'!$C$28)+'Dual Model'!$H$14*'Dual Model'!$H$12+MAXA(0,'Dual Model'!$C$14*3600*(1/'Dual Model'!$C$28-1/'Dual Model'!$I$28)),'Dual Model'!$I$25+'Dual Model'!$H$14*SQRT('Dual Model'!$H$12^2+'Dual Model'!$H$13^2))+'Dual Model'!$C$36","v":381.61},{"$f":"MAXA(3600*D31/('Dual Model'!$D$28)+'Dual Model'!$H$14*'Dual Model'!$H$12+MAXA(0,'Dual Model'!$C$14*3600*(1/'Dual Model'!$D$28-1/'Dual Model'!$I$28)),'Dual Model'!$I$25+'Dual Model'!$H$14*SQRT('Dual Model'!$H$12^2+'Dual Model'!$H$13^2))+'Dual Model'!$C$36","v":329.61},{"$f":"MAXA(3600*E31/('Dual Model'!$E$28)+'Dual Model'!$H$14*'Dual Model'!$H$12+MAXA(0,'Dual Model'!$C$14*3600*(1/'Dual Model'!$E$28-1/'Dual Model'!$I$28)),'Dual Model'!$I$25+'Dual Model'!$H$14*SQRT('Dual Model'!$H$12^2+'Dual Model'!$H$13^2))+'Dual Model'!$C$36","v":221.61},{"$f":"MAXA(3600*F31/('Dual Model'!$F$28)+'Dual Model'!$H$14*'Dual Model'!$H$12+MAXA(0,'Dual Model'!$C$14*3600*(1/'Dual Model'!$F$28-1/'Dual Model'!$I$28)),'Dual Model'!$I$25+'Dual Model'!$H$14*SQRT('Dual Model'!$H$12^2+'Dual Model'!$H$13^2))+'Dual Model'!$C$36","v":193.91769230769231},{"$f":"MAXA(3600*G31/('Dual Model'!$G$28)+'Dual Model'!$H$14*'Dual Model'!$H$12+MAXA(0,'Dual Model'!$C$14*3600*(1/'Dual Model'!$G$28-1/'Dual Model'!$I$28)),'Dual Model'!$I$25+'Dual Model'!$H$14*SQRT('Dual Model'!$H$12^2+'Dual Model'!$H$13^2))+'Dual Model'!$C$36","v":181.60999999999999},{"$f":"MAXA(3600*H31/('Dual Model'!$H$28)+'Dual Model'!$H$14*'Dual Model'!$H$12+MAXA(0,'Dual Model'!$C$14*3600*(1/'Dual Model'!$H$28-1/'Dual Model'!$I$28)),'Dual Model'!$I$25+'Dual Model'!$H$14*SQRT('Dual Model'!$H$12^2+'Dual Model'!$H$13^2))+'Dual Model'!$C$36","v":170.18142857142854},{"$f":"MAXA(3600*I31/('Dual Model'!$I$28)+'Dual Model'!$H$14*'Dual Model'!$H$12+MAXA(0,'Dual Model'!$C$14*3600*(1/'Dual Model'!$I$28-1/'Dual Model'!$I$28)),'Dual Model'!$I$25+'Dual Model'!$H$14*SQRT('Dual Model'!$H$12^2+'Dual Model'!$H$13^2))+'Dual Model'!$C$36","v":149.61000000000001}]
[]
[null,"VMC Average time between Arrivals",null,null,null,"Time in Seconds"]
[null,null,"Small - S","Small - T","Small +","Large-TP","Large-Jet","Large-757","Heavy"]
[null,"Small - S",{"$f":"C5*C56","v":0},{"$f":"D5*D56","v":0},0,0,0,0,0,null,"Average Arrival separation"]
[null,"Small - T",{"$f":"C6*C57","v":0},1.3724372837428811,0,3.3721552701758788,5.4669343842328928,0.53245617276531476,0.50682909458096048,null,{"$f":"SUM(C76:I82)","v":121.76786318278599},"seconds",{"$f":"(3600-'Dual Model'!$I$30)/K77","v":29.564450799272322}]
[null,"Small +",{"$f":"C7*C58","v":0},0,0,0,0,0,0,null,{"$f":"(K77+'Dual Work Tab (2)'!K77)/2","v":109.16325091579594},null,{"$f":"(3600-'Dual Model'!$I$30)/K78","v":32.978131099969644},"averaged for diagonal separation"]
[null,"Large-TP",{"$f":"C8*C59","v":0},5.8619272358440266,0,10.116465810527636,16.400803152698675,1.5973685182959438,1.5204872837428809]
[null,"Large-Jet",{"$f":"C9*C60","v":0},10.128853085381071,0,17.937699427802471,27.33467192116446,2.6622808638265734,2.5341454729048021]
[null,"Large-757",{"$f":"C10*C61","v":0},1.1740500000000003,0,1.8937699427802475,2.9001338587831134,0.27334671921164466,0.25341454729048024]
[null,"Heavy",{"$f":"C11*C62","v":0},1.3960500000000002,0,2.3272269230769229,3.6069166666666668,0.34402500000000003,0.25341454729048024]
[]
[null,"VMC Average time between Departures",null,null,null,"Time in Seconds"]
[null,null,"Small - S","Small - T","Small +","Large-TP","Large-Jet","Large-757","Heavy"]
[null,"Small - S",{"$f":"C5*C35","v":0},{"$f":"D5*D35","v":0},0,0,0,0,0,null,"Average Departure separation"]
[null,"Small - T",{"$f":"C6*C36","v":0},0.45000000000000007,0,1.65,2.75,0.27500000000000008,0.30000000000000004,null,{"$f":"SUM(C86:I92)","v":73.050000000000011},"seconds",{"$f":"(3600-'Dual Model'!$I$30)/K87","v":49.281314168377818}]
[null,"Small +",{"$f":"C7*C37","v":0},0,0,0,0,0,0]
[null,"Large-TP",{"$f":"C8*C38","v":0},2.6999999999999997,0,6.3,10.5,1.05,1.05]
[null,"Large-Jet",{"$f":"C9*C39","v":0},4.5,0,10.5,17.5,1.75,1.75]
[null,"Large-757",{"$f":"C10*C40","v":0},0.45000000000000007,0,1.05,1.75,0.17500000000000004,0.17500000000000004]
[null,"Heavy",{"$f":"C11*C41","v":0},0.65000000000000013,0,1.95,3.25,0.32500000000000007,0.25000000000000006]
[]
[null,"IMC Average time between Arrivals",null,null,null,"Time in Seconds"]
[null,null,"Small - S","Small - T","Small +","Large-TP","Large-Jet","Large-757","Heavy"]
[null,"Small - S",{"$f":"C5*C66","v":0},{"$f":"D5*D66","v":0},0,0,0,0,0,null,"Average Arrival separation"]
[null,"Small - T",{"$f":"C6*C67","v":0},1.3761000000000003,0,3.3806076923076924,5.4805000000000001,0.5337642857142858,0.50805000000000011,null,{"$f":"SUM(C96:I102)","v":128.31615384615384},"seconds",{"$f":"(3600-'Dual Model'!$I$30)/K97","v":28.05570376054337}]
[null,"Small +",{"$f":"C7*C68","v":0},0,0,0,0,0,0,null,{"$f":"(K97+'Dual Work Tab (2)'!K97)/2","v":128.12115384615385},null,{"$f":"(3600-'Dual Model'!$I$30)/K98","v":28.098404454917972},"averaged for diagonal separation"]
[null,"Large-TP",{"$f":"C8*C69","v":0},6.9529153846153839,0,10.141823076923076,16.441499999999998,1.6012928571428571,1.5241499999999999]
[null,"Large-Jet",{"$f":"C9*C70","v":0},11.947166666666668,0,17.979961538461538,27.4025,2.6688214285714285,2.5402500000000003]
[null,"Large-757",{"$f":"C10*C71","v":0},1.4080500000000002,0,2.3133807692307697,3.573583333333334,0.33116785714285718,0.31402500000000005]
[null,"Heavy",{"$f":"C11*C72","v":0},1.6480500000000005,0,2.9087653846153847,4.5402499999999995,0.42545357142857143,0.37402500000000011]
[]
[null,"IMC Average time between Departures",null,null,null,"Time in Seconds"]
[null,null,"Small - S","Small - T","Small +","Large-TP","Large-Jet","Large-757","Heavy"]
[null,"Small - S",{"$f":"C5*C45","v":0},{"$f":"D5*D45","v":0},0,0,0,0,0,null,"Average Departure separation"]
[null,"Small - T",{"$f":"C6*C46","v":0},0.70000000000000018,0,2.1,3.5,0.35000000000000009,0.35000000000000009,null,{"$f":"SUM(C106:I112)","v":74.625},"seconds",{"$f":"(3600-'Dual Model'!$I$30)/K107","v":48.241206030150757}]
[null,"Small +",{"$f":"C7*C47","v":0},0,0,0,0,0,0]
[null,"Large-TP",{"$f":"C8*C48","v":0},2.6999999999999997,0,6.3,10.5,1.05,1.05]
[null,"Large-Jet",{"$f":"C9*C49","v":0},4.5,0,10.5,17.5,1.75,1.75]
[null,"Large-757",{"$f":"C10*C50","v":0},0.45000000000000007,0,1.05,1.75,0.17500000000000004,0.17500000000000004]
[null,"Heavy",{"$f":"C11*C51","v":0},0.65000000000000013,0,1.95,3.25,0.32500000000000007,0.25000000000000006]
[]
[null,"VMC Average Time Required for Departure between Arrivals",null,null,null,"Time in Seconds"]
[null,null,"Small - S","Small - T","Small +","Large-TP","Large-Jet","Large-757","Heavy"]
[null,"Small - S",{"$f":"IF('Dual Model'!$C$9=\"Yes\",0,'Dual Model'!$C$25)+MAXA((3600*C15/('Dual Model'!C$28)),C$156)+$K$120","v":119.59303152698678},{"$f":"IF('Dual Model'!$C$9=\"Yes\",0,'Dual Model'!$C$25)+MAXA((3600*D15/('Dual Model'!D$28)),D$156)+$K$120","v":107.6337283742881},{"$f":"IF('Dual Model'!$C$9=\"Yes\",0,'Dual Model'!$C$25)+MAXA((3600*E15/('Dual Model'!E$28)),E$156)+$K$120","v":89.694773645240076},{"$f":"IF('Dual Model'!$C$9=\"Yes\",0,'Dual Model'!$C$25)+MAXA((3600*F15/('Dual Model'!F$28)),F$156)+$K$120","v":82.795175672529297},{"$f":"IF('Dual Model'!$C$9=\"Yes\",0,'Dual Model'!$C$25)+MAXA((3600*G15/('Dual Model'!G$28)),G$156)+$K$120","v":79.728687684657842},{"$f":"IF('Dual Model'!$C$9=\"Yes\",0,'Dual Model'!$C$25)+MAXA((3600*H15/('Dual Model'!H$28)),H$156)+$K$120","v":76.881234553062924},{"$f":"IF('Dual Model'!$C$9=\"Yes\",0,'Dual Model'!$C$25)+MAXA((3600*I15/('Dual Model'!I$28)),I$156)+$K$120","v":71.755818916192069},null," AROT should be 0, if no 15 degree minimum divergence"]
[null,"Small - T",{"$f":"IF('Dual Model'!$C$9=\"Yes\",0,'Dual Model'!$D$25)+MAXA((3600*C16/('Dual Model'!C$28)),C$156)+$K$120","v":119.59303152698678},{"$f":"IF('Dual Model'!$C$9=\"Yes\",0,'Dual Model'!$D$25)+MAXA((3600*D16/('Dual Model'!D$28)),D$156)+$K$120","v":107.6337283742881},{"$f":"IF('Dual Model'!$C$9=\"Yes\",0,'Dual Model'!$D$25)+MAXA((3600*E16/('Dual Model'!E$28)),E$156)+$K$120","v":89.694773645240076},{"$f":"IF('Dual Model'!$C$9=\"Yes\",0,'Dual Model'!$D$25)+MAXA((3600*F16/('Dual Model'!F$28)),F$156)+$K$120","v":82.795175672529297},{"$f":"IF('Dual Model'!$C$9=\"Yes\",0,'Dual Model'!$D$25)+MAXA((3600*G16/('Dual Model'!G$28)),G$156)+$K$120","v":79.728687684657842},{"$f":"IF('Dual Model'!$C$9=\"Yes\",0,'Dual Model'!$D$25)+MAXA((3600*H16/('Dual Model'!H$28)),H$156)+$K$120","v":76.881234553062924},{"$f":"IF('Dual Model'!$C$9=\"Yes\",0,'Dual Model'!$D$25)+MAXA((3600*I16/('Dual Model'!I$28)),I$156)+$K$120","v":71.755818916192069}]
[null,"Small +",{"$f":"IF('Dual Model'!$C$9=\"Yes\",0,'Dual Model'!$E$25)+MAXA((3600*C17/('Dual Model'!C$28)),C$156)+$K$120","v":119.59303152698678},{"$f":"IF('Dual Model'!$C$9=\"Yes\",0,'Dual Model'!$E$25)+MAXA((3600*D17/('Dual Model'!D$28)),D$156)+$K$120","v":107.6337283742881},{"$f":"IF('Dual Model'!$C$9=\"Yes\",0,'Dual Model'!$E$25)+MAXA((3600*E17/('Dual Model'!E$28)),E$156)+$K$120","v":89.694773645240076},{"$f":"IF('Dual Model'!$C$9=\"Yes\",0,'Dual Model'!$E$25)+MAXA((3600*F17/('Dual Model'!F$28)),F$156)+$K$120","v":82.795175672529297},{"$f":"IF('Dual Model'!$C$9=\"Yes\",0,'Dual Model'!$E$25)+MAXA((3600*G17/('Dual Model'!G$28)),G$156)+$K$120","v":79.728687684657842},{"$f":"IF('Dual Model'!$C$9=\"Yes\",0,'Dual Model'!$E$25)+MAXA((3600*H17/('Dual Model'!H$28)),H$156)+$K$120","v":76.881234553062924},{"$f":"IF('Dual Model'!$C$9=\"Yes\",0,'Dual Model'!$E$25)+MAXA((3600*I17/('Dual Model'!I$28)),I$156)+$K$120","v":71.755818916192069}]
[null,"Large-TP",{"$f":"IF('Dual Model'!$C$9=\"Yes\",0,'Dual Model'!$F$25)+MAXA((3600*C18/('Dual Model'!C$28)),C$156)+$K$120","v":119.59303152698678},{"$f":"IF('Dual Model'!$C$9=\"Yes\",0,'Dual Model'!$F$25)+MAXA((3600*D18/('Dual Model'!D$28)),D$156)+$K$120","v":107.6337283742881},{"$f":"IF('Dual Model'!$C$9=\"Yes\",0,'Dual Model'!$F$25)+MAXA((3600*E18/('Dual Model'!E$28)),E$156)+$K$120","v":89.694773645240076},{"$f":"IF('Dual Model'!$C$9=\"Yes\",0,'Dual Model'!$F$25)+MAXA((3600*F18/('Dual Model'!F$28)),F$156)+$K$120","v":82.795175672529297},{"$f":"IF('Dual Model'!$C$9=\"Yes\",0,'Dual Model'!$F$25)+MAXA((3600*G18/('Dual Model'!G$28)),G$156)+$K$120","v":79.728687684657842},{"$f":"IF('Dual Model'!$C$9=\"Yes\",0,'Dual Model'!$F$25)+MAXA((3600*H18/('Dual Model'!H$28)),H$156)+$K$120","v":76.881234553062924},{"$f":"IF('Dual Model'!$C$9=\"Yes\",0,'Dual Model'!$F$25)+MAXA((3600*I18/('Dual Model'!I$28)),I$156)+$K$120","v":71.755818916192069},null,"Departure Roll & Clearance Buffer w/ Staggered arrivals"]
[null,"Large-Jet",{"$f":"IF('Dual Model'!$C$9=\"Yes\",0,'Dual Model'!$G$25)+MAXA((3600*C19/('Dual Model'!C$28)),C$156)+$K$120","v":119.59303152698678},{"$f":"IF('Dual Model'!$C$9=\"Yes\",0,'Dual Model'!$G$25)+MAXA((3600*D19/('Dual Model'!D$28)),D$156)+$K$120","v":107.6337283742881},{"$f":"IF('Dual Model'!$C$9=\"Yes\",0,'Dual Model'!$G$25)+MAXA((3600*E19/('Dual Model'!E$28)),E$156)+$K$120","v":89.694773645240076},{"$f":"IF('Dual Model'!$C$9=\"Yes\",0,'Dual Model'!$G$25)+MAXA((3600*F19/('Dual Model'!F$28)),F$156)+$K$120","v":82.795175672529297},{"$f":"IF('Dual Model'!$C$9=\"Yes\",0,'Dual Model'!$G$25)+MAXA((3600*G19/('Dual Model'!G$28)),G$156)+$K$120","v":79.728687684657842},{"$f":"IF('Dual Model'!$C$9=\"Yes\",0,'Dual Model'!$G$25)+MAXA((3600*H19/('Dual Model'!H$28)),H$156)+$K$120","v":76.881234553062924},{"$f":"IF('Dual Model'!$C$9=\"Yes\",0,'Dual Model'!$G$25)+MAXA((3600*I19/('Dual Model'!I$28)),I$156)+$K$120","v":71.755818916192069},null,0,"seconds"]
[null,"Large-757",{"$f":"IF('Dual Model'!$C$9=\"Yes\",0,'Dual Model'!$H$25)+MAXA((3600*C20/('Dual Model'!C$28)),C$156)+$K$120","v":148},{"$f":"IF('Dual Model'!$C$9=\"Yes\",0,'Dual Model'!$H$25)+MAXA((3600*D20/('Dual Model'!D$28)),D$156)+$K$120","v":133.19999999999999},{"$f":"IF('Dual Model'!$C$9=\"Yes\",0,'Dual Model'!$H$25)+MAXA((3600*E20/('Dual Model'!E$28)),E$156)+$K$120","v":111},{"$f":"IF('Dual Model'!$C$9=\"Yes\",0,'Dual Model'!$H$25)+MAXA((3600*F20/('Dual Model'!F$28)),F$156)+$K$120","v":82.795175672529297},{"$f":"IF('Dual Model'!$C$9=\"Yes\",0,'Dual Model'!$H$25)+MAXA((3600*G20/('Dual Model'!G$28)),G$156)+$K$120","v":79.728687684657842},{"$f":"IF('Dual Model'!$C$9=\"Yes\",0,'Dual Model'!$H$25)+MAXA((3600*H20/('Dual Model'!H$28)),H$156)+$K$120","v":76.881234553062924},{"$f":"IF('Dual Model'!$C$9=\"Yes\",0,'Dual Model'!$H$25)+MAXA((3600*I20/('Dual Model'!I$28)),I$156)+$K$120","v":71.755818916192069}]
[null,"Heavy",{"$f":"IF('Dual Model'!$C$9=\"Yes\",0,'Dual Model'!$I$25)+MAXA((3600*C21/('Dual Model'!C$28)),C$156)+$K$120","v":184},{"$f":"IF('Dual Model'!$C$9=\"Yes\",0,'Dual Model'!$I$25)+MAXA((3600*D21/('Dual Model'!D$28)),D$156)+$K$120","v":165.6},{"$f":"IF('Dual Model'!$C$9=\"Yes\",0,'Dual Model'!$I$25)+MAXA((3600*E21/('Dual Model'!E$28)),E$156)+$K$120","v":108},{"$f":"IF('Dual Model'!$C$9=\"Yes\",0,'Dual Model'!$I$25)+MAXA((3600*F21/('Dual Model'!F$28)),F$156)+$K$120","v":99.692307692307693},{"$f":"IF('Dual Model'!$C$9=\"Yes\",0,'Dual Model'!$I$25)+MAXA((3600*G21/('Dual Model'!G$28)),G$156)+$K$120","v":96},{"$f":"IF('Dual Model'!$C$9=\"Yes\",0,'Dual Model'!$I$25)+MAXA((3600*H21/('Dual Model'!H$28)),H$156)+$K$120","v":92.571428571428569},{"$f":"IF('Dual Model'!$C$9=\"Yes\",0,'Dual Model'!$I$25)+MAXA((3600*I21/('Dual Model'!I$28)),I$156)+$K$120","v":71.755818916192069}]
[]
[null,"IMC Average Time Required for Departure between Arrivals",null,null,null,"Time in Seconds"]
[null,null,"Small - S","Small - T","Small +","Large-TP","Large-Jet","Large-757","Heavy"]
[null,"Small - S",{"$f":"IF('Dual Model'!$C$9=\"Yes\",0,'Dual Model'!$C$25)+MAXA(3600*C25/('Dual Model'!C$28),C$156)+$K$120","v":120},{"$f":"IF('Dual Model'!$C$9=\"Yes\",0,'Dual Model'!$C$25)+MAXA(3600*D25/('Dual Model'!D$28),D$156)+$K$120","v":108},{"$f":"IF('Dual Model'!$C$9=\"Yes\",0,'Dual Model'!$C$25)+MAXA(3600*E25/('Dual Model'!E$28),E$156)+$K$120","v":90},{"$f":"IF('Dual Model'!$C$9=\"Yes\",0,'Dual Model'!$C$25)+MAXA(3600*F25/('Dual Model'!F$28),F$156)+$K$120","v":83.07692307692308},{"$f":"IF('Dual Model'!$C$9=\"Yes\",0,'Dual Model'!$C$25)+MAXA(3600*G25/('Dual Model'!G$28),G$156)+$K$120","v":80},{"$f":"IF('Dual Model'!$C$9=\"Yes\",0,'Dual Model'!$C$25)+MAXA(3600*H25/('Dual Model'!H$28),H$156)+$K$120","v":77.142857142857139},{"$f":"IF('Dual Model'!$C$9=\"Yes\",0,'Dual Model'!$C$25)+MAXA(3600*I25/('Dual Model'!I$28),I$156)+$K$120","v":72}]
[null,"Small - T",{"$f":"IF('Dual Model'!$C$9=\"Yes\",0,'Dual Model'!$D$25)+MAXA(3600*C26/('Dual Model'!C$28),C$156)+$K$120","v":120},{"$f":"IF('Dual Model'!$C$9=\"Yes\",0,'Dual Model'!$D$25)+MAXA(3600*D26/('Dual Model'!D$28),D$156)+$K$120","v":108},{"$f":"IF('Dual Model'!$C$9=\"Yes\",0,'Dual Model'!$D$25)+MAXA(3600*E26/('Dual Model'!E$28),E$156)+$K$120","v":90},{"$f":"IF('Dual Model'!$C$9=\"Yes\",0,'Dual Model'!$D$25)+MAXA(3600*F26/('Dual Model'!F$28),F$156)+$K$120","v":83.07692307692308},{"$f":"IF('Dual Model'!$C$9=\"Yes\",0,'Dual Model'!$D$25)+MAXA(3600*G26/('Dual Model'!G$28),G$156)+$K$120","v":80},{"$f":"IF('Dual Model'!$C$9=\"Yes\",0,'Dual Model'!$D$25)+MAXA(3600*H26/('Dual Model'!H$28),H$156)+$K$120","v":77.142857142857139},{"$f":"IF('Dual Model'!$C$9=\"Yes\",0,'Dual Model'!$D$25)+MAXA(3600*I26/('Dual Model'!I$28),I$156)+$K$120","v":72}]
[null,"Small +",{"$f":"IF('Dual Model'!$C$9=\"Yes\",0,'Dual Model'!$E$25)+MAXA(3600*C27/('Dual Model'!C$28),C$156)+$K$120","v":120},{"$f":"IF('Dual Model'!$C$9=\"Yes\",0,'Dual Model'!$E$25)+MAXA(3600*D27/('Dual Model'!D$28),D$156)+$K$120","v":108},{"$f":"IF('Dual Model'!$C$9=\"Yes\",0,'Dual Model'!$E$25)+MAXA(3600*E27/('Dual Model'!E$28),E$156)+$K$120","v":90},{"$f":"IF('Dual Model'!$C$9=\"Yes\",0,'Dual Model'!$E$25)+MAXA(3600*F27/('Dual Model'!F$28),F$156)+$K$120","v":83.07692307692308},{"$f":"IF('Dual Model'!$C$9=\"Yes\",0,'Dual Model'!$E$25)+MAXA(3600*G27/('Dual Model'!G$28),G$156)+$K$120","v":80},{"$f":"IF('Dual Model'!$C$9=\"Yes\",0,'Dual Model'!$E$25)+MAXA(3600*H27/('Dual Model'!H$28),H$156)+$K$120","v":77.142857142857139},{"$f":"IF('Dual Model'!$C$9=\"Yes\",0,'Dual Model'!$E$25)+MAXA(3600*I27/('Dual Model'!I$28),I$156)+$K$120","v":72}]
[null,"Large-TP",{"$f":"IF('Dual Model'!$C$9=\"Yes\",0,'Dual Model'!$F$25)+MAXA(3600*C28/('Dual Model'!C$28),C$156)+$K$120","v":160},{"$f":"IF('Dual Model'!$C$9=\"Yes\",0,'Dual Model'!$F$25)+MAXA(3600*D28/('Dual Model'!D$28),D$156)+$K$120","v":144},{"$f":"IF('Dual Model'!$C$9=\"Yes\",0,'Dual Model'!$F$25)+MAXA(3600*E28/('Dual Model'!E$28),E$156)+$K$120","v":120},{"$f":"IF('Dual Model'!$C$9=\"Yes\",0,'Dual Model'!$F$25)+MAXA(3600*F28/('Dual Model'!F$28),F$156)+$K$120","v":83.07692307692308},{"$f":"IF('Dual Model'!$C$9=\"Yes\",0,'Dual Model'!$F$25)+MAXA(3600*G28/('Dual Model'!G$28),G$156)+$K$120","v":80},{"$f":"IF('Dual Model'!$C$9=\"Yes\",0,'Dual Model'!$F$25)+MAXA(3600*H28/('Dual Model'!H$28),H$156)+$K$120","v":77.142857142857139},{"$f":"IF('Dual Model'!$C$9=\"Yes\",0,'Dual Model'!$F$25)+MAXA(3600*I28/('Dual Model'!I$28),I$156)+$K$120","v":72}]
[null,"Large-Jet",{"$f":"IF('Dual Model'!$C$9=\"Yes\",0,'Dual Model'!$G$25)+MAXA(3600*C29/('Dual Model'!C$28),C$156)+$K$120","v":160},{"$f":"IF('Dual Model'!$C$9=\"Yes\",0,'Dual Model'!$G$25)+MAXA(3600*D29/('Dual Model'!D$28),D$156)+$K$120","v":144},{"$f":"IF('Dual Model'!$C$9=\"Yes\",0,'Dual Model'!$G$25)+MAXA(3600*E29/('Dual Model'!E$28),E$156)+$K$120","v":120},{"$f":"IF('Dual Model'!$C$9=\"Yes\",0,'Dual Model'!$G$25)+MAXA(3600*F29/('Dual Model'!F$28),F$156)+$K$120","v":83.07692307692308},{"$f":"IF('Dual Model'!$C$9=\"Yes\",0,'Dual Model'!$G$25)+MAXA(3600*G29/('Dual Model'!G$28),G$156)+$K$120","v":80},{"$f":"IF('Dual Model'!$C$9=\"Yes\",0,'Dual Model'!$G$25)+MAXA(3600*H29/('Dual Model'!H$28),H$156)+$K$120","v":77.142857142857139},{"$f":"IF('Dual Model'!$C$9=\"Yes\",0,'Dual Model'!$G$25)+MAXA(3600*I29/('Dual Model'!I$28),I$156)+$K$120","v":72}]
[null,"Large-757",{"$f":"IF('Dual Model'!$C$9=\"Yes\",0,'Dual Model'!$H$25)+MAXA(3600*C30/('Dual Model'!C$28),C$156)+$K$120","v":200},{"$f":"IF('Dual Model'!$C$9=\"Yes\",0,'Dual Model'!$H$25)+MAXA(3600*D30/('Dual Model'!D$28),D$156)+$K$120","v":180},{"$f":"IF('Dual Model'!$C$9=\"Yes\",0,'Dual Model'!$H$25)+MAXA(3600*E30/('Dual Model'!E$28),E$156)+$K$120","v":150},{"$f":"IF('Dual Model'!$C$9=\"Yes\",0,'Dual Model'!$H$25)+MAXA(3600*F30/('Dual Model'!F$28),F$156)+$K$120","v":110.76923076923077},{"$f":"IF('Dual Model'!$C$9=\"Yes\",0,'Dual Model'!$H$25)+MAXA(3600*G30/('Dual Model'!G$28),G$156)+$K$120","v":106.66666666666667},{"$f":"IF('Dual Model'!$C$9=\"Yes\",0,'Dual Model'!$H$25)+MAXA(3600*H30/('Dual Model'!H$28),H$156)+$K$120","v":102.85714285714286},{"$f":"IF('Dual Model'!$C$9=\"Yes\",0,'Dual Model'!$H$25)+MAXA(3600*I30/('Dual Model'!I$28),I$156)+$K$120","v":96}]
[null,"Heavy",{"$f":"IF('Dual Model'!$C$9=\"Yes\",0,'Dual Model'!$I$25)+MAXA(3600*C31/('Dual Model'!C$28),C$156)+$K$120","v":240},{"$f":"IF('Dual Model'!$C$9=\"Yes\",0,'Dual Model'!$I$25)+MAXA(3600*D31/('Dual Model'!D$28),D$156)+$K$120","v":216},{"$f":"IF('Dual Model'!$C$9=\"Yes\",0,'Dual Model'!$I$25)+MAXA(3600*E31/('Dual Model'!E$28),E$156)+$K$120","v":150},{"$f":"IF('Dual Model'!$C$9=\"Yes\",0,'Dual Model'!$I$25)+MAXA(3600*F31/('Dual Model'!F$28),F$156)+$K$120","v":138.46153846153845},{"$f":"IF('Dual Model'!$C$9=\"Yes\",0,'Dual Model'!$I$25)+MAXA(3600*G31/('Dual Model'!G$28),G$156)+$K$120","v":133.33333333333334},{"$f":"IF('Dual Model'!$C$9=\"Yes\",0,'Dual Model'!$I$25)+MAXA(3600*H31/('Dual Model'!H$28),H$156)+$K$120","v":128.57142857142858},{"$f":"IF('Dual Model'!$C$9=\"Yes\",0,'Dual Model'!$I$25)+MAXA(3600*I31/('Dual Model'!I$28),I$156)+$K$120","v":120}]
[null,"  "]
["New","VMC Average Required for Departure between Arrivals",null,null,null,"Time in Seconds"]
[null,null,"Small - S","Small - T","Small +","Large-TP","Large-Jet","Large-757","Heavy",null,null,"Departures between Arrivals on Runway 1",null,null,"VMC"]
[null,"Small - S",{"$f":"C56-C116","v":29.609999999999985},{"$f":"D56-D116","v":29.609999999999985},29.61,29.61,29.61,29.61,29.61,null,null,{"$f":"SUMPRODUCT(L137:L143,C5:C11)+SUMPRODUCT(M137:M143,D5:D11)+SUMPRODUCT(N137:N143,E5:E11)+SUMPRODUCT(O137:O143,F5:F11)+SUMPRODUCT(P137:P143,G5:G11)+SUMPRODUCT(Q137:Q143,I5:I11)","v":1.04},{"$f":"+L136*0.5*(3600-'Dual Model'!$I$30)/'Dual Work Tab (3)'!$N$76","v":19.387183023661553}]
[null,"Small - T",{"$f":"C57-C117","v":57.609999999999985},29.609999999999985,29.61,29.61,29.61,29.61,29.61,null,null,{"$f":"IF(C136>=0,TRUNC(C136/$K$87,0)+1,0)","v":1},{"$f":"IF(D136>=0,TRUNC(D136/$K$87,0)+1,0)","v":1},1,1,1,1,1]
[null,"Small +",{"$f":"C58-C118","v":99.609999999999985},71.609999999999985,29.61,29.61,29.61,29.61,29.61,null,null,{"$f":"IF(C137>=0,TRUNC(C137/$K$87,0)+1,0)","v":1},{"$f":"IF(D137>=0,TRUNC(D137/$K$87,0)+1,0)","v":1},{"$f":"IF(E137>=0,TRUNC(E137/$K$87,0)+1,0)","v":1},{"$f":"IF(F137>=0,TRUNC(F137/$K$87,0)+1,0)","v":1},{"$f":"IF(G137>=0,TRUNC(G137/$K$87,0)+1,0)","v":1},{"$f":"IF(H137>=0,TRUNC(H137/$K$87,0)+1,0)","v":1},{"$f":"IF(I137>=0,TRUNC(I137/$K$87,0)+1,0)","v":1}]
[null,"Large-TP",{"$f":"C59-C119","v":115.76384615384615},87.763846153846117,45.763846153846146,29.61,29.61,29.61,29.61,null,null,2,1,1,1,1,1,1]
[null,"Large-Jet",{"$f":"C60-C120","v":122.94333333333333},94.9433333333333,52.943333333333328,36.789487179487182,29.61,29.61,29.61,null,null,2,2,1,1,1,1,1]
[null,"Large-757",{"$f":"C61-C121","v":129.61000000000001},101.61000000000001,59.610000000000014,43.456153846153867,36.276666666666685,32.457453131594917,29.61,null,null,2,2,1,1,1,1,1]
[null,"Heavy",{"$f":"C62-C122","v":141.61000000000001},113.60999999999999,71.610000000000014,55.456153846153839,48.276666666666671,45.038571428571416,29.61,null,null,2,2,1,1,1,1,1]
[null,null,null,null,null,null,null,null,null,null,null,2,2,1,1,1,1,1]
["New","IMC Average Required for Departure between Arrivals",null,null,null,"Time in Seconds"]
[null,null,"Small - S","Small - T","Small +","Large-TP","Large-Jet","Large-757","Heavy",null,null,"Departures between Arrivals on Runway 1",null,null,"IMC"]
[null,"Small - S",{"$f":"C66-C116","v":30.016968473013236},{"$f":"D66-D116","v":29.976271625711917},29.915226354759923,29.891747404393783,29.881312315342157,29.871622589794214,29.85418108380793,null,null,{"$f":"SUMPRODUCT(L147:L153,C5:C11)+SUMPRODUCT(M147:M153,D5:D11)+SUMPRODUCT(N147:N153,E5:E11)+SUMPRODUCT(O147:O153,F5:F11)+SUMPRODUCT(P147:P153,G5:G11)+SUMPRODUCT(Q147:Q153,I5:I11)","v":1.0875000000000001},{"$f":"+L146*0.5*(3600-'Dual Model'!$I$30)/'Dual Work Tab (3)'!$N$96","v":15.26242555462926}]
[null,"Small - T",{"$f":"C67-C117","v":58.016968473013236},29.976271625711917,29.915226354759923,29.891747404393783,29.881312315342157,29.871622589794214,29.85418108380793,null,null,{"$f":"IF(C146>=0,TRUNC(C146/$K$107,0)+1,0)","v":1},{"$f":"IF(D146>=0,TRUNC(D146/$K$107,0)+1,0)","v":1},1,1,1,1,1]
[null,"Small +",{"$f":"C68-C118","v":100.01696847301324},71.976271625711917,29.915226354759923,29.891747404393783,29.881312315342157,29.871622589794214,29.85418108380793,null,null,{"$f":"IF(C147>=0,TRUNC(C147/$K$107,0)+1,0)","v":1},{"$f":"IF(D147>=0,TRUNC(D147/$K$107,0)+1,0)","v":1},{"$f":"IF(E147>=0,TRUNC(E147/$K$107,0)+1,0)","v":1},{"$f":"IF(F147>=0,TRUNC(F147/$K$107,0)+1,0)","v":1},{"$f":"IF(G147>=0,TRUNC(G147/$K$107,0)+1,0)","v":1},{"$f":"IF(H147>=0,TRUNC(H147/$K$107,0)+1,0)","v":1},{"$f":"IF(I147>=0,TRUNC(I147/$K$107,0)+1,0)","v":1}]
[null,"Large-TP",{"$f":"C69-C119","v":156.17081462685942},124.13011777955805,76.06907250860607,29.891747404393783,29.881312315342157,29.871622589794214,29.85418108380793,null,null,2,1,1,1,1,1,1]
[null,"Large-Jet",{"$f":"C70-C120","v":163.35030180634661},131.30960495904523,83.248559688093252,37.071234583880965,29.881312315342157,29.871622589794214,29.85418108380793,null,null,3,2,2,1,1,1,1]
[null,"Large-757",{"$f":"C71-C121","v":181.61},148.41000000000003,98.610000000000014,71.430208942855359,63.214645648675514,55.585908304079922,53.85418108380793,null,null,3,2,2,1,1,1,1]
[null,"Heavy",{"$f":"C72-C122","v":197.61},164.01000000000002,113.61000000000001,94.225384615384613,85.609999999999985,77.609999999999971,77.854181083807944,null,null,3,2,2,1,1,1,1]
[null,null,null,null,null,null,null,null,null,null,null,3,3,2,2,2,2,2]
[]
[null,null,"Small - S","Small - T","Small +","Large-TP","Large-Jet","Large-757","Heavy"]
[null,"Average Dep. Runway Occ. Times (sec)",{"$f":"'Single Work Tab'!$C$155","v":34},{"$f":"'Single Work Tab'!$D$155","v":42},{"$f":"'Single Work Tab'!$E$155","v":34},{"$f":"'Single Work Tab'!$F$155","v":34},{"$f":"'Single Work Tab'!$G$155","v":46},{"$f":"'Single Work Tab'!$H$155","v":38},{"$f":"'Single Work Tab'!$I$155","v":51}]
[null,null,"linked to Single Work Tab inputs"]
[]
[]
[]
[]
[]
[]
[]
[]
[]
[]
[]
[]
[]
[null,null,null,null,null,null,null,null,null,null,null,null,null,null,null,null,null,null,null," "]

{"sheet":"Default Values2","index":13,"n_rows":66,"n_cols":5,"rows_kept":66,"cut":false,"hidden":true,"merged":[]}
["SAVE!!!","These default values and cell links are used when the Reset Inputs Button on the model is chosen."]
[]
[null,"Default Variable Description",null,"Value","Cell Location for RESET BUTTON"]
["v1","VMC-Arrival/Departure Separation",null,2,{"$f":"CELL(\"address\",'Dual Model'!C12)","v":"'[Planilla-Runway capacity (2).xlsm]Dual Model'!$C$12"}]
["v2","IMC-Arrival/Departure Separation",null,2,{"$f":"CELL(\"address\",'Dual Model'!C13)","v":"'[Planilla-Runway capacity (2).xlsm]Dual Model'!$C$13"}]
["v3","Length of Common Approach",null,7,{"$f":"CELL(\"address\",'Dual Model'!C14)","v":"'[Planilla-Runway capacity (2).xlsm]Dual Model'!$C$14"}]
["v4","Arrival - Arrival Std. Dev.",null,18,{"$f":"CELL(\"address\",'Dual Model'!H12)","v":"'[Planilla-Runway capacity (2).xlsm]Dual Model'!$H$12"}]
["v5","Departure ROT Std. Dev.",null,6,{"$f":"CELL(\"address\",'Dual Model'!H13)","v":"'[Planilla-Runway capacity (2).xlsm]Dual Model'!$H$13"}]
["v6","Z-Value, 95% Confidence Level (5% miss)",null,1.645,{"$f":"CELL(\"address\",'Dual Model'!H14)","v":"'[Planilla-Runway capacity (2).xlsm]Dual Model'!$H$14"}]
["v7","AROT, Small-S",null,32,{"$f":"CELL(\"address\",'Dual Model'!C25)","v":"'[Planilla-Runway capacity (2).xlsm]Dual Model'!$C$25"}]
["v8","AROT, Small-T",null,40,{"$f":"CELL(\"address\",'Dual Model'!D25)","v":"'[Planilla-Runway capacity (2).xlsm]Dual Model'!$D$25"}]
["v9","AROT, Small+",null,42,{"$f":"CELL(\"address\",'Dual Model'!E25)","v":"'[Planilla-Runway capacity (2).xlsm]Dual Model'!$E$25"}]
["v10","AROT, Large-TP",null,45,{"$f":"CELL(\"address\",'Dual Model'!F25)","v":"'[Planilla-Runway capacity (2).xlsm]Dual Model'!$F$25"}]
["v11","AROT, Large-Jet",null,46,{"$f":"CELL(\"address\",'Dual Model'!G25)","v":"'[Planilla-Runway capacity (2).xlsm]Dual Model'!$G$25"}]
["v12","AROT, Large-757",null,51,{"$f":"CELL(\"address\",'Dual Model'!H25)","v":"'[Planilla-Runway capacity (2).xlsm]Dual Model'!$H$25"}]
["v13","AROT, Heavy",null,55,{"$f":"CELL(\"address\",'Dual Model'!I25)","v":"'[Planilla-Runway capacity (2).xlsm]Dual Model'!$I$25"}]
["v14","Avg. Approach Speed, Small-S",null,90,{"$f":"CELL(\"address\",'Dual Model'!C28)","v":"'[Planilla-Runway capacity (2).xlsm]Dual Model'!$C$28"}]
["v15","Avg. Approach Speed, Small-T",null,100,{"$f":"CELL(\"address\",'Dual Model'!D28)","v":"'[Planilla-Runway capacity (2).xlsm]Dual Model'!$D$28"}]
["v16","Avg. Approach Speed, Small+",null,120,{"$f":"CELL(\"address\",'Dual Model'!E28)","v":"'[Planilla-Runway capacity (2).xlsm]Dual Model'!$E$28"}]
["v17","Avg. Approach Speed, Large-TP",null,130,{"$f":"CELL(\"address\",'Dual Model'!F28)","v":"'[Planilla-Runway capacity (2).xlsm]Dual Model'!$F$28"}]
["v18","Avg. Approach Speed, Large-Jet",null,135,{"$f":"CELL(\"address\",'Dual Model'!G28)","v":"'[Planilla-Runway capacity (2).xlsm]Dual Model'!$G$28"}]
["v19","Avg. Approach Speed, Large-757",null,140,{"$f":"CELL(\"address\",'Dual Model'!H28)","v":"'[Planilla-Runway capacity (2).xlsm]Dual Model'!$H$28"}]
["v20","Avg. Approach Speed, Heavy",null,150,{"$f":"CELL(\"address\",'Dual Model'!I28)","v":"'[Planilla-Runway capacity (2).xlsm]Dual Model'!$I$28"}]
["v21","Gap Spacing Buffer (sec)",null,0,{"$f":"CELL(\"address\",'Dual Model'!C36)","v":"'[Planilla-Runway capacity (2).xlsm]Dual Model'!$C$36"}]
["v22","Departure Hold Buffer (sec)",null,10,{"$f":"CELL(\"address\",'Dual Model'!C37)","v":"'[Planilla-Runway capacity (2).xlsm]Dual Model'!$C$37"}]
["v23","Gap Spacing Buffer (nm)",null,0,{"$f":"CELL(\"address\",'Dual Model'!H36)","v":"'[Planilla-Runway capacity (2).xlsm]Dual Model'!$H$36"}]
[null,"Trailing Aircraft","Leading Aircraft","VMC"]
["v24","Small-S --- Heavy","Small-S, Small-T",1.9,{"$f":"CELL(\"address\",'Dual Model'!D41)","v":"'[Planilla-Runway capacity (2).xlsm]Dual Model'!$D$41"}]
["v25","Small-S --- Small+","Small +",1.9,{"$f":"CELL(\"address\",'Dual Model'!D42)","v":"'[Planilla-Runway capacity (2).xlsm]Dual Model'!$D$42"}]
["v26","Large --- Heavy","Small +",1.9,{"$f":"CELL(\"address\",'Dual Model'!D43)","v":"'[Planilla-Runway capacity (2).xlsm]Dual Model'!$D$43"}]
["v27","Small-S --- Small+","Large-TP, Jet",2.7,{"$f":"CELL(\"address\",'Dual Model'!D44)","v":"'[Planilla-Runway capacity (2).xlsm]Dual Model'!$D$44"}]
["v28","Large --- Heavy","Large-TP, Jet",1.9,{"$f":"CELL(\"address\",'Dual Model'!D45)","v":"'[Planilla-Runway capacity (2).xlsm]Dual Model'!$D$45"}]
["v29","Small-S --- Small+","Large-757",3.7,{"$f":"CELL(\"address\",'Dual Model'!D46)","v":"'[Planilla-Runway capacity (2).xlsm]Dual Model'!$D$46"}]
["v30","Large --- Heavy","Large-757",2.7,{"$f":"CELL(\"address\",'Dual Model'!D47)","v":"'[Planilla-Runway capacity (2).xlsm]Dual Model'!$D$47"}]
["v31","Small-S --- Small-T","Heavy",4.5999999999999996,{"$f":"CELL(\"address\",'Dual Model'!D48)","v":"'[Planilla-Runway capacity (2).xlsm]Dual Model'!$D$48"}]
["v32","Small + --- 757","Heavy",3.6,{"$f":"CELL(\"address\",'Dual Model'!D49)","v":"'[Planilla-Runway capacity (2).xlsm]Dual Model'!$D$49"}]
["v33","Heavy","Heavy",2.7,{"$f":"CELL(\"address\",'Dual Model'!D50)","v":"'[Planilla-Runway capacity (2).xlsm]Dual Model'!$D$50"}]
[null,"Trailing Aircraft","Leading Aircraft","IMC"]
["v34","Small-S --- Heavy","Small-S, Small-T",3,{"$f":"CELL(\"address\",'Dual Model'!E41)","v":"'[Planilla-Runway capacity (2).xlsm]Dual Model'!$E$41"}]
["v35","Small-S --- Small+","Small +",3,{"$f":"CELL(\"address\",'Dual Model'!E42)","v":"'[Planilla-Runway capacity (2).xlsm]Dual Model'!$E$42"}]
["v36","Large --- Heavy","Small +",3,{"$f":"CELL(\"address\",'Dual Model'!E43)","v":"'[Planilla-Runway capacity (2).xlsm]Dual Model'!$E$43"}]
["v37","Small-S --- Small+","Large-TP, Jet",4,{"$f":"CELL(\"address\",'Dual Model'!E44)","v":"'[Planilla-Runway capacity (2).xlsm]Dual Model'!$E$44"}]
["v38","Large --- Heavy","Large-TP, Jet",3,{"$f":"CELL(\"address\",'Dual Model'!E45)","v":"'[Planilla-Runway capacity (2).xlsm]Dual Model'!$E$45"}]
["v39","Small-S --- Small+","Large-757",5,{"$f":"CELL(\"address\",'Dual Model'!E46)","v":"'[Planilla-Runway capacity (2).xlsm]Dual Model'!$E$46"}]
["v40","Large --- Heavy","Large-757",4,{"$f":"CELL(\"address\",'Dual Model'!E47)","v":"'[Planilla-Runway capacity (2).xlsm]Dual Model'!$E$47"}]
["v41","Small-S --- Small-T","Heavy",6,{"$f":"CELL(\"address\",'Dual Model'!E48)","v":"'[Planilla-Runway capacity (2).xlsm]Dual Model'!$E$48"}]
["v42","Small + --- 757","Heavy",5,{"$f":"CELL(\"address\",'Dual Model'!E49)","v":"'[Planilla-Runway capacity (2).xlsm]Dual Model'!$E$49"}]
["v43","Heavy","Heavy",4,{"$f":"CELL(\"address\",'Dual Model'!E50)","v":"'[Planilla-Runway capacity (2).xlsm]Dual Model'!$E$50"}]
[null,"Trailing Aircraft","Leading Aircraft","VMC"]
["v44","Small-S --- Small +","Small-S- Small +",35,{"$f":"CELL(\"address\",'Dual Model'!D54)","v":"'[Planilla-Runway capacity (2).xlsm]Dual Model'!$D$54"}]
["v45","Large -TP --- Large 757","Small-S- Small +",45,{"$f":"CELL(\"address\",'Dual Model'!D55)","v":"'[Planilla-Runway capacity (2).xlsm]Dual Model'!$D$55"}]
["v46","Heavy","Small-S- Small +",50,{"$f":"CELL(\"address\",'Dual Model'!D56)","v":"'[Planilla-Runway capacity (2).xlsm]Dual Model'!$D$56"}]
["v47","Small-S --- Small+","Large TP, Large Jet",80,{"$f":"CELL(\"address\",'Dual Model'!D57)","v":"'[Planilla-Runway capacity (2).xlsm]Dual Model'!$D$57"}]
["v48","Large --- Heavy","Large TP, Large Jet",60,{"$f":"CELL(\"address\",'Dual Model'!D58)","v":"'[Planilla-Runway capacity (2).xlsm]Dual Model'!$D$58"}]
["v49","Small-S --- Large Jet","Large 757, Heavy",120,{"$f":"CELL(\"address\",'Dual Model'!D59)","v":"'[Planilla-Runway capacity (2).xlsm]Dual Model'!$D$59"}]
["v50","Large 757, Heavy","Large 757, Heavy",90,{"$f":"CELL(\"address\",'Dual Model'!D60)","v":"'[Planilla-Runway capacity (2).xlsm]Dual Model'!$D$60"}]
[null,"Trailing Aircraft","Leading Aircraft","IMC"]
["v51","Small-S --- Small +","Small-S- Small +",60,{"$f":"CELL(\"address\",'Dual Model'!E54)","v":"'[Planilla-Runway capacity (2).xlsm]Dual Model'!$E$54"}]
["v52","Large -TP --- Large 757","Small-S- Small +",60,{"$f":"CELL(\"address\",'Dual Model'!E55)","v":"'[Planilla-Runway capacity (2).xlsm]Dual Model'!$E$55"}]
["v53","Heavy","Small-S- Small +",60,{"$f":"CELL(\"address\",'Dual Model'!E56)","v":"'[Planilla-Runway capacity (2).xlsm]Dual Model'!$E$56"}]
["v54","Small-S --- Small+","Large TP, Large Jet",80,{"$f":"CELL(\"address\",'Dual Model'!E57)","v":"'[Planilla-Runway capacity (2).xlsm]Dual Model'!$E$57"}]
["v55","Large --- Heavy","Large TP, Large Jet",60,{"$f":"CELL(\"address\",'Dual Model'!E58)","v":"'[Planilla-Runway capacity (2).xlsm]Dual Model'!$E$58"}]
["v56","Small-S --- Large Jet","Large 757, Heavy",120,{"$f":"CELL(\"address\",'Dual Model'!E59)","v":"'[Planilla-Runway capacity (2).xlsm]Dual Model'!$E$59"}]
["v57","Large 757, Heavy","Large 757, Heavy",90,{"$f":"CELL(\"address\",'Dual Model'!E60)","v":"'[Planilla-Runway capacity (2).xlsm]Dual Model'!$E$60"}]
[]
["v58","% Touch and Go",null,0,{"$f":"CELL(\"address\",'Dual Model'!D15)","v":"'[Planilla-Runway capacity (2).xlsm]Dual Model'!$D$15"}]

{"sheet":"Dual Lookup","index":14,"n_rows":41,"n_cols":13,"rows_kept":41,"cut":false,"hidden":true,"merged":[]}
[]
[null,null,"VFR"]
[null,null,"Dual Parallel Scenarios"]
[null,null,1,2,3,4,5,6,7,8,null,"Bold = Dependent"]
[null,"Arrivals only Capacity (Rnwy 1)",{"$f":"'Dual Work Tab (1)'!M77","v":37.283044276272214},{"$f":"'Dual Work Tab (1)'!M77","v":37.283044276272214},{"$f":"'Dual Work Tab (1)'!M77","v":37.283044276272214},{"$f":"'Dual Work Tab (1)'!M77","v":37.283044276272214},{"$f":"'Dual Work Tab (4)'!$M$78","v":32.978131099969644},{"$f":"3600/'Dual Work Tab (1)'!K77","v":37.283044276272214},{"$f":"'Dual Work Tab (4)'!$M$78","v":32.978131099969644},{"$f":"3600/'Dual Work Tab (1)'!K77","v":37.283044276272214}]
[null,"Mixed Departures Capacity (Rnwy 1)",0,0,{"$f":"IF('Dual Model'!$C$10<699,0,IF('Dual Model'!$C$9=\"Yes\",'Dual Work Tab (2)'!$M$136,0))","v":6.9905708018010397},{"$f":"IF('Dual Model'!$C$9=\"Yes\",'Dual Work Tab (3)'!$M$136,0)","v":8.8547230156146526},{"$f":"'Dual Work Tab (4)'!$M$136","v":19.387183023661553},{"$f":"'Dual Work Tab (2)'!M136","v":6.9905708018010397},{"$f":"'Dual Work Tab (4)'!$M$136","v":19.387183023661553},{"$f":"'Dual Work Tab (2)'!M136","v":6.9905708018010397}]
[null,"Arrivals only Capacity (Rnwy 2)",0,0,0,0,{"$f":"G5","v":32.978131099969644},{"$f":"3600/'Dual Work Tab (1)'!K77","v":37.283044276272214},{"$f":"I5","v":32.978131099969644},{"$f":"3600/'Dual Work Tab (1)'!K77","v":37.283044276272214}]
[null,"Mixed Departures Capacity (Rnwy 2)",0,0,0,0,0,0,{"$f":"I6","v":19.387183023661553},{"$f":"J6","v":6.9905708018010397}]
[null,"Departures only Capacity (Rnwy 2)",{"$f":"IF('Dual Model'!$C$10<699,'Dual Work Tab (2)'!$M$136,IF('Dual Model'!$C$9=\"Yes\",'Dual Work Tab (1)'!$M$136,'Dual Work Tab (2)'!$M$136))","v":42.595878085641004},{"$f":"'Dual Work Tab (1)'!M87","v":49.281314168377818},{"$f":"IF('Dual Model'!$C$10<699,'Dual Work Tab (2)'!$M$136,IF('Dual Model'!$C$9=\"Yes\",'Dual Work Tab (1)'!$M$136,'Dual Work Tab (2)'!$M$136))","v":42.595878085641004},{"$f":"IF('Dual Model'!C9='Dual Model'!M161,'Dual Work Tab (1)'!M87,'Dual Work Tab (1)'!M136)","v":49.281314168377818},0,0,0,0]
[null,"Departures Priority",{"$f":"C9","v":42.595878085641004},{"$f":"D9","v":49.281314168377818},{"$f":"E9","v":42.595878085641004},{"$f":"F9","v":49.281314168377818}]
[null,null,{"$f":"SUM(C5:C9)","v":79.878922361913226},{"$f":"SUM(D5:D9)","v":86.564358444650026},86.869493163714253,95.419081460264692,85.343445223600838,81.55665935434547,104.73062824726239,88.547230156146512]
[null,null,"IFR"]
[null,null,"Dual Parallel Scenarios"]
[null,null,1,2,3,4,5,6,7,8]
[null,"Arrivals only Capacity (Rnwy 1)",{"$f":"'Dual Work Tab (1)'!M97","v":28.06882860621473},{"$f":"'Dual Work Tab (1)'!M97","v":28.06882860621473},{"$f":"'Dual Work Tab (1)'!M97","v":28.06882860621473},{"$f":"'Dual Work Tab (1)'!M97","v":28.06882860621473},{"$f":"'Dual Work Tab (4)'!$M$98","v":28.098404454917972},{"$f":"3600/'Dual Work Tab (1)'!K97","v":28.06882860621473},{"$f":"'Dual Work Tab (4)'!$M$98","v":28.098404454917972},{"$f":"3600/'Dual Work Tab (1)'!K97","v":28.06882860621473}]
[null,"Mixed Departures Capacity (Rnwy 1)",0,0,0,{"$f":"IF('Dual Model'!$C$9=\"Yes\",'Dual Work Tab (3)'!$M$146,0)","v":31.296743895929431},{"$f":"'Dual Work Tab (4)'!$M$146","v":15.26242555462926},{"$f":"'Dual Work Tab (2)'!$M$146","v":31.236771214162026},{"$f":"'Dual Work Tab (4)'!$M$146","v":15.26242555462926},{"$f":"'Dual Work Tab (2)'!$M$146","v":31.236771214162026}]
[null,"Arrivals only Capacity (Rnwy 2)",0,0,0,0,{"$f":"G15","v":28.098404454917972},{"$f":"3600/'Dual Work Tab (1)'!K97","v":28.06882860621473},{"$f":"I15","v":28.098404454917972},{"$f":"3600/'Dual Work Tab (1)'!K97","v":28.06882860621473}]
[null,"Mixed Departures Capacity (Rnwy 2)",0,0,0,0,0,0,{"$f":"I16","v":15.26242555462926},{"$f":"J16","v":31.236771214162026}]
[null,"Departures only Capacity (Rnwy 2)",{"$f":"IF('Dual Model'!$C$10<2499,'Dual Work Tab (2)'!$M$146,IF('Dual Model'!$C$9=\"Yes\",'Dual Work Tab (1)'!$M$146,'Dual Work Tab (2)'!$M$146))","v":31.236771214162026},{"$f":"'Dual Work Tab (1)'!M107","v":48.241206030150757},{"$f":"IF('Dual Model'!$C$10<2499,'Dual Work Tab (2)'!$M$146,IF('Dual Model'!$C$9=\"Yes\",'Dual Work Tab (1)'!$M$146,'Dual Work Tab (2)'!$M$146))","v":31.236771214162026},{"$f":"IF('Dual Model'!$C$9='Dual Model'!$M$161,'Dual Work Tab (1)'!M107,'Dual Work Tab (1)'!M146)","v":48.241206030150757},0,0,0,0]
[null,"Departures Priority"]
[]
[]
[null,null,"VFR"]
[null,null,"Dual Intersecting Scenarios"]
[null,null,1,2,3,4,5,6,7,8,null,"8 ALTERNATIVE"]
[null,"Arrivals only Capacity (Rnwy 1)",{"$f":"'Intersecting Work Tab (1)'!O77","v":37.283044276272214},{"$f":"'Intersecting Work Tab (1)'!O77","v":37.283044276272214},{"$f":"C26","v":37.283044276272214},37.283044276272214,{"$f":"'Intersecting Work Tab (4)'!$O$77","v":37.283044276272214},{"$f":"'Intersecting Work Tab (2)'!$O$77","v":37.283044276272214},{"$f":"'Intersecting Work Tab (3)'!O77","v":37.283044276272214},null,null,{"$f":"$I$26","v":37.283044276272214},"use dual model with diagonal approach separations"]
[null,"Mixed Departures Capacity (Rnwy 1)",0,{"$f":"'Intersecting Work Tab (1)'!O157","v":15.658878596034331},0,15.658878596034331,0,{"$f":"'Intersecting Work Tab (2)'!O135","v":8.8547230156146526},0,null,null,0]
[null,"Arrivals only Capacity (Rnwy 2)",0,0,0,0,0,0,0,null,null,{"$f":"IF('Intersecting Model'!$C$12>=2500,'Dual Lookup'!$J$26,0)","v":0}]
[null,"Mixed Departures Capacity (Rnwy 2)",0,0,0,0,0,0,0,null,null,0]
[null,"Departures only Capacity (Rnwy 2)",{"$f":"'Intersecting Work Tab (1)'!O135","v":41.384179146662177},{"$f":"'Intersecting Work Tab (1)'!O135","v":41.384179146662177},41.384179146662177,41.384179146662177,{"$f":"IF('Intersecting Model'!$C$11=\"No\",'Intersecting Work Tab (4)'!O87,'Intersecting Work Tab (4)'!O135)","v":49.281314168377818},{"$f":"IF('Intersecting Model'!$C$11=\"No\",'Intersecting Work Tab (4)'!O87,'Intersecting Work Tab (4)'!O135)","v":49.281314168377818},{"$f":"'Intersecting Work Tab (3)'!O135","v":42.595878085641012},null,null,{"$f":"$I$30","v":42.595878085641012}]
[null,"Departures Priority"]
[]
[null,null,"IFR"]
[null,null,"Dual Intersecting Scenarios"]
[null,null,1,2,3,4,5,6,7,8,null,"8 ALTERNATIVE"]
[null,"Arrivals only Capacity (Rnwy 1)",{"$f":"'Intersecting Work Tab (1)'!O97","v":28.06882860621473},{"$f":"'Intersecting Work Tab (1)'!O97","v":28.06882860621473},{"$f":"C36","v":28.06882860621473},28.06882860621473,{"$f":"'Intersecting Work Tab (4)'!$O$97","v":28.06882860621473},{"$f":"'Intersecting Work Tab (2)'!O97","v":28.06882860621473},{"$f":"'Intersecting Work Tab (3)'!O97","v":28.06882860621473},null,null,{"$f":"$I$36","v":28.06882860621473},"use dual model with diagonal approach separations"]
[null,"Mixed Departures Capacity (Rnwy 1)",0,{"$f":"'Intersecting Work Tab (1)'!O168","v":30.735367323805129},0,30.735367323805129,0,{"$f":"'Intersecting Work Tab (2)'!O146","v":29.612614179556541},0,null,null,0]
[null,"Arrivals only Capacity (Rnwy 2)",0,0,0,0,0,0,0,null,null,{"$f":"IF('Intersecting Model'!$C$12>=4300,'Dual Lookup'!$J$36,IF(AND('Intersecting Model'!$C$12>=3400,'Intersecting Model'!$C$35=\"Yes\"),'Dual Lookup'!$J$36,0))","v":0}]
[null,"Mixed Departures Capacity (Rnwy 2)",0,0,0,0,0,0,0,null,null,0]
[null,"Departures only Capacity (Rnwy 2)",{"$f":"'Intersecting Work Tab (1)'!O146","v":31.437088038960507},{"$f":"'Intersecting Work Tab (1)'!O146","v":31.437088038960507},31.437088038960507,31.437088038960507,{"$f":"IF(AND('Intersecting Model'!$C$12=\"No\",'Intersecting Model'!$C$11=\"NO\"),'Intersecting Work Tab (4)'!$O$107,IF('Intersecting Work Tab (4)'!$O$146>'Intersecting Work Tab (4)'!$O$107,'Intersecting Work Tab (4)'!$O$107,'Intersecting Work Tab (4)'!$O$146))","v":34.805347471706263},{"$f":"IF(AND('Intersecting Model'!$C$12=\"No\",'Intersecting Model'!$C$11=\"NO\"),'Intersecting Work Tab (4)'!$O$107,IF('Intersecting Work Tab (4)'!$O$146>'Intersecting Work Tab (4)'!$O$107,'Intersecting Work Tab (4)'!$O$107,'Intersecting Work Tab (4)'!$O$146))","v":34.805347471706263},{"$f":"'Intersecting Work Tab (3)'!O146","v":34.665003328675191},null,null,{"$f":"$I$40","v":34.665003328675191}]
[null,"Departures Priority"]

{"sheet":"Intersecting Work Tab (1)","index":15,"n_rows":179,"n_cols":21,"rows_kept":179,"cut":false,"hidden":true,"merged":[]}
["Departure Intersection Clearance - Rnwy 1 (Seconds)",null,{"$f":"IF('Intersecting Model'!$C$13='Intersecting Model'!$M$169,120,SQRT(2*'Intersecting Model'!$C$10/'Intersecting Model'!$H$13))","v":22.360679774997898},"Departure Intersection Clearance - Rnwy 2 (Seconds)",null,null,null,null,{"$f":"SQRT(2*'Intersecting Model'!$C$9/'Intersecting Model'!$H$13)","v":17.320508075688775},{"$f":"IF('Intersecting Model'!$C$13='Intersecting Model'!$M$169,120,SQRT(2*'Intersecting Model'!$C$10/'Intersecting Model'!$H$13))","v":22.360679774997898}]
["Arrival-Shortened ROT on Runway 1",null,{"$f":"'Intersecting Model'!$C$9/('Intersecting Model'!C31*1.1508*5280/3600)","v":7.8996429361392853},{"$f":"'Intersecting Model'!$C$9/('Intersecting Model'!D31*1.1508*5280/3600)","v":7.1096786425253571},{"$f":"'Intersecting Model'!$C$9/('Intersecting Model'!E31*1.1508*5280/3600)","v":5.9247322021044653},{"$f":"'Intersecting Model'!$C$9/('Intersecting Model'!F31*1.1508*5280/3600)","v":5.4689835711733519},{"$f":"'Intersecting Model'!$C$9/('Intersecting Model'!G31*1.1508*5280/3600)","v":5.2664286240928577},{"$f":"'Intersecting Model'!$C$9/('Intersecting Model'!H31*1.1508*5280/3600)","v":5.0783418875181132},{"$f":"'Intersecting Model'!$C$9/('Intersecting Model'!I31*1.1508*5280/3600)","v":4.7397857616835726},null,null,null,"CALCULATIONS FOR INTERSECTION POSITIONING"]
["Arrival-Shortened ROT on Runway 2",null,{"$f":"'Intersecting Model'!$C$10/('Intersecting Model'!C31*1.1508*5280/3600)","v":13.166071560232142},{"$f":"'Intersecting Model'!$C$10/('Intersecting Model'!D31*1.1508*5280/3600)","v":11.849464404208929},{"$f":"'Intersecting Model'!$C$10/('Intersecting Model'!E31*1.1508*5280/3600)","v":9.8745536701741088},{"$f":"'Intersecting Model'!$C$10/('Intersecting Model'!F31*1.1508*5280/3600)","v":9.1149726186222537},{"$f":"'Intersecting Model'!$C$10/('Intersecting Model'!G31*1.1508*5280/3600)","v":8.7773810401547632},{"$f":"'Intersecting Model'!$C$10/('Intersecting Model'!H31*1.1508*5280/3600)","v":8.4639031458635223},{"$f":"'Intersecting Model'!$C$10/('Intersecting Model'!I31*1.1508*5280/3600)","v":7.899642936139287}]
[null,null,null,null,null,null,null,null,null,null,null,null,"Intersection Location Type ",null,{"$f":"IF('Intersecting Model'!$C$9<1500,1,(IF('Intersecting Model'!$C$12='Intersecting Model'!$M$177,2,3)))","v":1}]
[null,"Arrivals Pairing Probability Matrix",null,"(chance of landing behind an aircraft from each class)",null,null,null,null,null,null,0,"Calculated Cells",null,"Target Landing Point ",1500,"ft"]
[null,null,"Small - S","Small - T","Small +","Large-TP","Large-Jet","Large-757","Heavy",null,0,"Linked Input Cells",null,"Deccelration Rate",{"$f":"'Intersecting Model'!$H$12","v":5.3},"ft/sec/sec"]
[null,"Small - S",{"$f":"'Intersecting Model'!$C25*'Intersecting Model'!C25","v":0},{"$f":"'Intersecting Model'!$C25*'Intersecting Model'!D25","v":0},{"$f":"'Intersecting Model'!$C25*'Intersecting Model'!E25","v":0},{"$f":"'Intersecting Model'!$C25*'Intersecting Model'!F25","v":0},{"$f":"'Intersecting Model'!$C25*'Intersecting Model'!G25","v":0},{"$f":"'Intersecting Model'!$C25*'Intersecting Model'!H25","v":0},{"$f":"'Intersecting Model'!$C25*'Intersecting Model'!I25","v":0},null,0,"Linked Cells",null,"Taxi Speed",60,"knots",{"$f":"O7*1.151*5280/3600","v":101.288},"ft/sec","Additional slow down time (sec)"]
[null,"Small - T",{"$f":"'Intersecting Model'!$D25*'Intersecting Model'!C25","v":0},{"$f":"'Intersecting Model'!$D25*'Intersecting Model'!D25","v":1.0000000000000002E-2},{"$f":"'Intersecting Model'!$D25*'Intersecting Model'!E25","v":0},{"$f":"'Intersecting Model'!$D25*'Intersecting Model'!F25","v":0.03},{"$f":"'Intersecting Model'!$D25*'Intersecting Model'!G25","v":0.05},{"$f":"'Intersecting Model'!$D25*'Intersecting Model'!H25","v":5.000000000000001E-3},{"$f":"'Intersecting Model'!$D25*'Intersecting Model'!I25","v":5.000000000000001E-3},null,null,"(within this worksheet)",null,"30 deg Exit Speed",50,"knots",{"$f":"O8*1.151*5280/3600","v":84.406666666666666},"ft/sec",{"$f":"($Q$7-Q8)/$O$6","v":3.1851572327044022}]
[null,"Small +",{"$f":"'Intersecting Model'!$E25*'Intersecting Model'!C25","v":0},{"$f":"'Intersecting Model'!$E25*'Intersecting Model'!D25","v":0},{"$f":"'Intersecting Model'!$E25*'Intersecting Model'!E25","v":0},{"$f":"'Intersecting Model'!$E25*'Intersecting Model'!F25","v":0},{"$f":"'Intersecting Model'!$E25*'Intersecting Model'!G25","v":0},{"$f":"'Intersecting Model'!$E25*'Intersecting Model'!H25","v":0},{"$f":"'Intersecting Model'!$E25*'Intersecting Model'!I25","v":0},null,null,null,null,"45 deg Exit Speed",30,"knots",{"$f":"O9*1.151*5280/3600","v":50.643999999999998},"ft/sec",{"$f":"($Q$7-Q9)/$O$6","v":9.5554716981132071}]
[null,"Large-TP",{"$f":"'Intersecting Model'!$F25*'Intersecting Model'!C25","v":0},{"$f":"'Intersecting Model'!$F25*'Intersecting Model'!D25","v":0.03},{"$f":"'Intersecting Model'!$F25*'Intersecting Model'!E25","v":0},{"$f":"'Intersecting Model'!$F25*'Intersecting Model'!F25","v":0.09},{"$f":"'Intersecting Model'!$F25*'Intersecting Model'!G25","v":0.15},{"$f":"'Intersecting Model'!$F25*'Intersecting Model'!H25","v":1.4999999999999999E-2},{"$f":"'Intersecting Model'!$F25*'Intersecting Model'!I25","v":1.4999999999999999E-2},null,null,null,null,"90 deg Exit Speed",20,"knots",{"$f":"O10*1.151*5280/3600","v":33.762666666666661},"ft/sec",{"$f":"($Q$7-Q10)/$O$6","v":12.740628930817611}]
[null,"Large-Jet",{"$f":"'Intersecting Model'!$G25*'Intersecting Model'!C25","v":0},{"$f":"'Intersecting Model'!$G25*'Intersecting Model'!D25","v":0.05},{"$f":"'Intersecting Model'!$G25*'Intersecting Model'!E25","v":0},{"$f":"'Intersecting Model'!$G25*'Intersecting Model'!F25","v":0.15},{"$f":"'Intersecting Model'!$G25*'Intersecting Model'!G25","v":0.25},{"$f":"'Intersecting Model'!$G25*'Intersecting Model'!H25","v":2.5000000000000001E-2},{"$f":"'Intersecting Model'!$G25*'Intersecting Model'!I25","v":2.5000000000000001E-2}]
[null,"Large-757",{"$f":"'Intersecting Model'!$H25*'Intersecting Model'!C25","v":0},{"$f":"'Intersecting Model'!$H25*'Intersecting Model'!D25","v":5.000000000000001E-3},{"$f":"'Intersecting Model'!$H25*'Intersecting Model'!E25","v":0},{"$f":"'Intersecting Model'!$H25*'Intersecting Model'!F25","v":1.4999999999999999E-2},{"$f":"'Intersecting Model'!$H25*'Intersecting Model'!G25","v":2.5000000000000001E-2},{"$f":"'Intersecting Model'!$H25*'Intersecting Model'!H25","v":2.5000000000000005E-3},{"$f":"'Intersecting Model'!$H25*'Intersecting Model'!I25","v":2.5000000000000005E-3},"Summary Check"]
[null,"Heavy",{"$f":"'Intersecting Model'!$I25*'Intersecting Model'!C25","v":0},{"$f":"'Intersecting Model'!$I25*'Intersecting Model'!D25","v":5.000000000000001E-3},{"$f":"'Intersecting Model'!$I25*'Intersecting Model'!E25","v":0},{"$f":"'Intersecting Model'!$I25*'Intersecting Model'!F25","v":1.4999999999999999E-2},{"$f":"'Intersecting Model'!$I25*'Intersecting Model'!G25","v":2.5000000000000001E-2},{"$f":"'Intersecting Model'!$I25*'Intersecting Model'!H25","v":2.5000000000000005E-3},{"$f":"'Intersecting Model'!$I25*'Intersecting Model'!I25","v":2.5000000000000005E-3},"Total = ",{"$f":"SUM(C7:I13)","v":0.99999999999999989},null,null,"Approach Speed"]
[null,null,null,null,null,null,null,null,null,null,null,null,null,"Small - S","Small - T","Small +","Large-TP","Large-Jet","Large-757","Heavy"]
[null,"VMC Required Separation for arrivals following an aircraft from each class",null,null,null,"Distance in Nautical Miles",null,null,null,null,null,null,null,{"$f":"'Intersecting Model'!C31","v":90},{"$f":"'Intersecting Model'!D31","v":100},{"$f":"'Intersecting Model'!E31","v":120},{"$f":"'Intersecting Model'!F31","v":130},{"$f":"'Intersecting Model'!G31","v":135},{"$f":"'Intersecting Model'!H31","v":140},{"$f":"'Intersecting Model'!I31","v":150},"knots"]
[null,null,"Small - S","Small - T","Small +","Large-TP","Large-Jet","Large-757","Heavy",null,null,null,null,{"$f":"N15*1.1508*5280/3600","v":151.90560000000002},{"$f":"O15*1.1508*5280/3600","v":168.78400000000002},202.54079999999999,219.41920000000002,227.85839999999999,236.29759999999999,253.17599999999999,"ft/sec"]
[null,"Small - S",{"$f":"'Intersecting Model'!$D$44+'Intersecting Model'!$H$39","v":1.9},{"$f":"$C$17","v":1.9},1.9,1.9,1.9,1.9,1.9,null,null,null,"Time to Rnwy Clearance"]
[null,"Small - T",{"$f":"$C$17","v":1.9},1.9,1.9,1.9,1.9,1.9,1.9,null,null,null,"Type",{"$f":"VLOOKUP($O$4,$M$19:$T$21,2,FALSE)","v":7.8996429361392853},{"$f":"VLOOKUP($O$4,$M$19:$T$21,3,FALSE)","v":7.1096786425253571},{"$f":"VLOOKUP($O$4,$M$19:$T$21,4,FALSE)","v":5.9247322021044653},{"$f":"VLOOKUP($O$4,$M$19:$T$21,5,FALSE)","v":5.4689835711733519},{"$f":"VLOOKUP($O$4,$M$19:$T$21,6,FALSE)","v":5.2664286240928577},{"$f":"VLOOKUP($O$4,$M$19:$T$21,7,FALSE)","v":5.0783418875181132},{"$f":"VLOOKUP($O$4,$M$19:$T$21,8,FALSE)","v":4.7397857616835726}]
[null,"Small +",{"$f":"'Intersecting Model'!$D$45+'Intersecting Model'!$H$39","v":1.9},{"$f":"$C$19","v":1.9},{"$f":"$C$19","v":1.9},{"$f":"'Intersecting Model'!$D$46+'Intersecting Model'!$H$39","v":1.9},{"$f":"$F$19","v":1.9},{"$f":"$F$19","v":1.9},{"$f":"$F$19","v":1.9},null,null,"seconds",1,{"$f":"'Intersecting Model'!$C$9/'Intersecting Work Tab (1)'!N$16","v":7.8996429361392853},{"$f":"'Intersecting Model'!$C$9/'Intersecting Work Tab (1)'!O$16","v":7.1096786425253571},{"$f":"'Intersecting Model'!$C$9/'Intersecting Work Tab (1)'!P$16","v":5.9247322021044653},{"$f":"'Intersecting Model'!$C$9/'Intersecting Work Tab (1)'!Q$16","v":5.4689835711733519},{"$f":"'Intersecting Model'!$C$9/'Intersecting Work Tab (1)'!R$16","v":5.2664286240928577},{"$f":"'Intersecting Model'!$C$9/'Intersecting Work Tab (1)'!S$16","v":5.0783418875181132},{"$f":"'Intersecting Model'!$C$9/'Intersecting Work Tab (1)'!T$16","v":4.7397857616835726},"Shortened AROT"]
[null,"Large-TP",{"$f":"'Intersecting Model'!$D$47+'Intersecting Model'!$H$39","v":2.7},{"$f":"$C$20","v":2.7},{"$f":"$C$20","v":2.7},{"$f":"'Intersecting Model'!$D$48+'Intersecting Model'!$H$39","v":1.9},{"$f":"$F$20","v":1.9},{"$f":"$F$20","v":1.9},{"$f":"$F$20","v":1.9},null,null,null,2,{"$f":"IF(N33=\"NO\",(N26+N35),(N26+N29+N32))","v":17.519314193847315},15.808727824664267,13.220074918909893,12.217770143600283,11.771202801647044,11.355952373679697,10.607145585485885,"Modified AROT"]
[null,"Large-Jet",{"$f":"'Intersecting Model'!$D$47+'Intersecting Model'!$H$39","v":2.7},{"$f":"$C$21","v":2.7},{"$f":"$C$21","v":2.7},{"$f":"'Intersecting Model'!$D$48+'Intersecting Model'!$H$39","v":1.9},{"$f":"$F$21","v":1.9},{"$f":"$F$21","v":1.9},{"$f":"$F$21","v":1.9},null,null,null,3,{"$f":"'Intersecting Model'!C28","v":32},{"$f":"'Intersecting Model'!D28","v":40},{"$f":"'Intersecting Model'!E28","v":42},{"$f":"'Intersecting Model'!F28","v":45},{"$f":"'Intersecting Model'!G28","v":46},{"$f":"'Intersecting Model'!H28","v":51},{"$f":"'Intersecting Model'!I28","v":55},"AROT"]
[null,"Large-757",{"$f":"'Intersecting Model'!$D$49+'Intersecting Model'!$H$39","v":3.7},{"$f":"$C$22","v":3.7},{"$f":"$C$22","v":3.7},{"$f":"'Intersecting Model'!$D$50+'Intersecting Model'!$H$39","v":2.7},{"$f":"F22","v":2.7},{"$f":"$F$22","v":2.7},{"$f":"$F$22","v":2.7}]
[null,"Heavy",{"$f":"'Intersecting Model'!$D$51+'Intersecting Model'!$H$39","v":4.5999999999999996},{"$f":"$C$23","v":4.5999999999999996},{"$f":"'Intersecting Model'!$D$52+'Intersecting Model'!$H$39","v":3.6},{"$f":"$E$23","v":3.6},{"$f":"$E$23","v":3.6},{"$f":"$E$23","v":3.6},{"$f":"'Intersecting Model'!$D$53+'Intersecting Model'!$H$39","v":2.7},null,null,null,"Vx, at intersection",{"$f":"IF(ISERROR(SQRT(N16^2-2*('Intersecting Model'!$C$9-$O$5)*$O$6)),\"NO\",SQRT(N16^2-2*('Intersecting Model'!$C$9-$O$5)*$O$6))","v":162.03490769386701},{"$f":"IF(ISERROR(SQRT(O16^2-2*('Intersecting Model'!$C$9-$O$5)*$O$6)),\"NO\",SQRT(O16^2-2*('Intersecting Model'!$C$9-$O$5)*$O$6))","v":177.95515911599756},{"$f":"IF(ISERROR(SQRT(P16^2-2*('Intersecting Model'!$C$9-$O$5)*$O$6)),\"NO\",SQRT(P16^2-2*('Intersecting Model'!$C$9-$O$5)*$O$6))","v":210.24456155782008},{"$f":"IF(ISERROR(SQRT(Q16^2-2*('Intersecting Model'!$C$9-$O$5)*$O$6)),\"NO\",SQRT(Q16^2-2*('Intersecting Model'!$C$9-$O$5)*$O$6))","v":226.54974140051453},{"$f":"IF(ISERROR(SQRT(R16^2-2*('Intersecting Model'!$C$9-$O$5)*$O$6)),\"NO\",SQRT(R16^2-2*('Intersecting Model'!$C$9-$O$5)*$O$6))","v":234.73272130352854},{"$f":"IF(ISERROR(SQRT(S16^2-2*('Intersecting Model'!$C$9-$O$5)*$O$6)),\"NO\",SQRT(S16^2-2*('Intersecting Model'!$C$9-$O$5)*$O$6))","v":242.9332331439237},{"$f":"IF(ISERROR(SQRT(T16^2-2*('Intersecting Model'!$C$9-$O$5)*$O$6)),\"NO\",SQRT(T16^2-2*('Intersecting Model'!$C$9-$O$5)*$O$6))","v":259.38019773298038},"ft/sec"]
[null,null,null,null,null,null,null,null,null,null,null,null,"Time to Dx (intersection)",{"$f":"IF(N23=\"NO\",\"NO\",(2*'Intersecting Model'!$C$9/(N$16+N$23)))","v":7.6447605236732086},{"$f":"IF(O23=\"NO\",\"NO\",(2*'Intersecting Model'!$C$9/(O$16+O$23)))","v":6.9216295215075707},{"$f":"IF(P23=\"NO\",\"NO\",(2*'Intersecting Model'!$C$9/(P$16+P$23)))","v":5.8141596662793109},{"$f":"IF(Q23=\"NO\",\"NO\",(2*'Intersecting Model'!$C$9/(Q$16+Q$23)))","v":5.3815406796335949},{"$f":"IF(R23=\"NO\",\"NO\",(2*'Intersecting Model'!$C$9/(R$16+R$23)))","v":5.1881670215309716},{"$f":"IF(S23=\"NO\",\"NO\",(2*'Intersecting Model'!$C$9/(S$16+S$23)))","v":5.0080250142820564},{"$f":"IF(T23=\"NO\",\"NO\",(2*'Intersecting Model'!$C$9/(T$16+T$23)))","v":4.6824133833814194},"sec"]
[null,"IMC Required Separation for arrivals following an aircraft from each class",null,null,null,"Distance in Nautical Miles",null,null,null,null,null,null,"V1",{"$f":"N16","v":151.90560000000002},168.78400000000002,202.54079999999999,219.41920000000002,227.85839999999999,236.29759999999999,253.17599999999999,"ft/sec"]
[null,null,"Small - S","Small - T","Small +","Large-TP","Large-Jet","Large-757","Heavy",null,null,null,"T1, Air Time to Target TD",{"$f":"$O$5/N16","v":9.874553670174107},8.8870983031566961,7.4059152526305816,6.8362294639666894,6.5830357801160728,6.3479273593976409,5.9247322021044653,"sec"]
[null,"Small - S",{"$f":"'Intersecting Model'!$E$44+'Intersecting Model'!$H$39","v":3},{"$f":"$C$27","v":3},3,3,3,3,3,null,null,null,"D1",{"$f":"$O$5","v":1500},{"$f":"$O$5","v":1500},1500,1500,1500,1500,1500,"ft"]
[null,"Small - T",{"$f":"$C$27","v":3},3,3,3,3,3,3,null,null,null,"V2",{"$f":"$Q$7","v":101.288},{"$f":"$Q$7","v":101.288},101.288,101.288,101.288,101.288,101.288,"ft/sec"]
[null,"Small +",{"$f":"'Intersecting Model'!$E$45+'Intersecting Model'!$H$39","v":3},{"$f":"$C$29","v":3},{"$f":"$C$29","v":3},{"$f":"'Intersecting Model'!$E$46+'Intersecting Model'!$H$39","v":3},{"$f":"$F$29","v":3},{"$f":"$F$29","v":3},{"$f":"$F$29","v":3},null,null,null,"T2, Time from TD to Taxi Spd",{"$f":"(N16-$Q$7)/$O$6","v":9.550490566037741},12.735094339622647,19.104301886792452,22.288905660377363,23.881207547169812,25.47350943396226,28.658113207547167,"sec"]
[null,"Large-TP",{"$f":"'Intersecting Model'!$E$47+'Intersecting Model'!$H$39","v":4},{"$f":"$C$30","v":4},{"$f":"$C$30","v":4},{"$f":"'Intersecting Model'!$E$48+'Intersecting Model'!$H$39","v":3},{"$f":"$F$30","v":3},{"$f":"$F$30","v":3},{"$f":"$F$30","v":3},null,null,null,"D2",{"$f":"N29*0.5*(N16+$Q$7)","v":1209.0615440905667},1719.6961992452837,2902.2185585509433,3574.1062627018878,3930.2067459018863,4299.7449831849053,5079.1347199999991,"ft"]
[null,"Large-Jet",{"$f":"'Intersecting Model'!$E$47+'Intersecting Model'!$H$39","v":4},{"$f":"$C$31","v":4},{"$f":"$C$31","v":4},{"$f":"'Intersecting Model'!$E$48+'Intersecting Model'!$H$39","v":3},{"$f":"$F$31","v":3},{"$f":"$F$31","v":3},{"$f":"$F$31","v":3},null,null,null,"V3",{"$f":"IF('Intersecting Model'!$C$9<('Intersecting Work Tab (1)'!N27+'Intersecting Work Tab (1)'!N30),'Intersecting Work Tab (1)'!N23,'Intersecting Work Tab (1)'!$Q$7)","v":162.03490769386701},{"$f":"IF('Intersecting Model'!$C$9<('Intersecting Work Tab (1)'!O27+'Intersecting Work Tab (1)'!O30),'Intersecting Work Tab (1)'!O23,'Intersecting Work Tab (1)'!$Q$7)","v":177.95515911599756},{"$f":"IF('Intersecting Model'!$C$9<('Intersecting Work Tab (1)'!P27+'Intersecting Work Tab (1)'!P30),'Intersecting Work Tab (1)'!P23,'Intersecting Work Tab (1)'!$Q$7)","v":210.24456155782008},{"$f":"IF('Intersecting Model'!$C$9<('Intersecting Work Tab (1)'!Q27+'Intersecting Work Tab (1)'!Q30),'Intersecting Work Tab (1)'!Q23,'Intersecting Work Tab (1)'!$Q$7)","v":226.54974140051453},{"$f":"IF('Intersecting Model'!$C$9<('Intersecting Work Tab (1)'!R27+'Intersecting Work Tab (1)'!R30),'Intersecting Work Tab (1)'!R23,'Intersecting Work Tab (1)'!$Q$7)","v":234.73272130352854},{"$f":"IF('Intersecting Model'!$C$9<('Intersecting Work Tab (1)'!S27+'Intersecting Work Tab (1)'!S30),'Intersecting Work Tab (1)'!S23,'Intersecting Work Tab (1)'!$Q$7)","v":242.9332331439237},{"$f":"IF('Intersecting Model'!$C$9<('Intersecting Work Tab (1)'!T27+'Intersecting Work Tab (1)'!T30),'Intersecting Work Tab (1)'!T23,'Intersecting Work Tab (1)'!$Q$7)","v":259.38019773298038},"ft/sec"]
[null,"Large-757",{"$f":"'Intersecting Model'!$E$49+'Intersecting Model'!$H$39","v":5},{"$f":"$C$32","v":5},{"$f":"$C$32","v":5},{"$f":"'Intersecting Model'!$E$50+'Intersecting Model'!$H$39","v":4},{"$f":"$F$32","v":4},{"$f":"$F$32","v":4},{"$f":"$F$32","v":4},null,null,null,"T3, Time @ Taxi Speed to \"X\"",{"$f":"IF('Intersecting Model'!$C$9<('Intersecting Work Tab (1)'!N27+'Intersecting Work Tab (1)'!N30),\"NO\",('Intersecting Model'!$C$9-'Intersecting Work Tab (1)'!N30-'Intersecting Work Tab (1)'!N27)/$Q$7)","v":"NO"},{"$f":"IF('Intersecting Model'!$C$9<('Intersecting Work Tab (1)'!O27+'Intersecting Work Tab (1)'!O30),\"NO\",('Intersecting Model'!$C$9-'Intersecting Work Tab (1)'!O30-'Intersecting Work Tab (1)'!O27)/$Q$7)","v":"NO"},{"$f":"IF('Intersecting Model'!$C$9<('Intersecting Work Tab (1)'!P27+'Intersecting Work Tab (1)'!P30),\"NO\",('Intersecting Model'!$C$9-'Intersecting Work Tab (1)'!P30-'Intersecting Work Tab (1)'!P27)/$Q$7)","v":"NO"},{"$f":"IF('Intersecting Model'!$C$9<('Intersecting Work Tab (1)'!Q27+'Intersecting Work Tab (1)'!Q30),\"NO\",('Intersecting Model'!$C$9-'Intersecting Work Tab (1)'!Q30-'Intersecting Work Tab (1)'!Q27)/$Q$7)","v":"NO"},{"$f":"IF('Intersecting Model'!$C$9<('Intersecting Work Tab (1)'!R27+'Intersecting Work Tab (1)'!R30),\"NO\",('Intersecting Model'!$C$9-'Intersecting Work Tab (1)'!R30-'Intersecting Work Tab (1)'!R27)/$Q$7)","v":"NO"},{"$f":"IF('Intersecting Model'!$C$9<('Intersecting Work Tab (1)'!S27+'Intersecting Work Tab (1)'!S30),\"NO\",('Intersecting Model'!$C$9-'Intersecting Work Tab (1)'!S30-'Intersecting Work Tab (1)'!S27)/$Q$7)","v":"NO"},{"$f":"IF('Intersecting Model'!$C$9<('Intersecting Work Tab (1)'!T27+'Intersecting Work Tab (1)'!T30),\"NO\",('Intersecting Model'!$C$9-'Intersecting Work Tab (1)'!T30-'Intersecting Work Tab (1)'!T27)/$Q$7)","v":"NO"},"sec"]
[null,"Heavy",{"$f":"'Intersecting Model'!$E$51+'Intersecting Model'!$H$39","v":6},{"$f":"$C$33","v":6},{"$f":"'Intersecting Model'!$E$52+'Intersecting Model'!$H$39","v":5},{"$f":"$E$33","v":5},{"$f":"$E$33","v":5},{"$f":"$E$33","v":5},{"$f":"'Intersecting Model'!$E$53+'Intersecting Model'!$H$39","v":4},null,null,null,"D3",{"$f":"IF(N32=\"NO\",\"NO\",('Intersecting Model'!$C$9-'Intersecting Work Tab (1)'!N30-'Intersecting Work Tab (1)'!N27))","v":"NO"},{"$f":"IF(O32=\"NO\",\"NO\",('Intersecting Model'!$C$9-'Intersecting Work Tab (1)'!O30-'Intersecting Work Tab (1)'!O27))","v":"NO"},{"$f":"IF(P32=\"NO\",\"NO\",('Intersecting Model'!$C$9-'Intersecting Work Tab (1)'!P30-'Intersecting Work Tab (1)'!P27))","v":"NO"},{"$f":"IF(Q32=\"NO\",\"NO\",('Intersecting Model'!$C$9-'Intersecting Work Tab (1)'!Q30-'Intersecting Work Tab (1)'!Q27))","v":"NO"},{"$f":"IF(R32=\"NO\",\"NO\",('Intersecting Model'!$C$9-'Intersecting Work Tab (1)'!R30-'Intersecting Work Tab (1)'!R27))","v":"NO"},{"$f":"IF(S32=\"NO\",\"NO\",('Intersecting Model'!$C$9-'Intersecting Work Tab (1)'!S30-'Intersecting Work Tab (1)'!S27))","v":"NO"},{"$f":"IF(T32=\"NO\",\"NO\",('Intersecting Model'!$C$9-'Intersecting Work Tab (1)'!T30-'Intersecting Work Tab (1)'!T27))","v":"NO"},"ft"]
[null,null,null,null,null,null,null,null,null,null,null,null,"v4",{"$f":"N23","v":162.03490769386701},177.95515911599756,210.24456155782008,226.54974140051453,234.73272130352854,242.9332331439237,259.38019773298038,"ft/sec"]
[null,"VMC Required Separation for departures following an aircraft from each class",null,null,null,"Time in seconds",null,null,null,null,null,null,"T4, Time from TD to \"X\"",7.6447605236732086,6.9216295215075707,5.8141596662793109,5.3815406796335949,5.1881670215309716,5.0080250142820564,4.6824133833814194,"sec"]
[null,null,"Small - S","Small - T","Small +","Large-TP","Large-Jet","Large-757","Heavy",null,null,null,"D4",{"$f":"'Intersecting Model'!$C$9-'Intersecting Work Tab (1)'!$O$5","v":-300},{"$f":"'Intersecting Model'!$C$9-'Intersecting Work Tab (1)'!$O$5","v":-300},{"$f":"'Intersecting Model'!$C$9-'Intersecting Work Tab (1)'!$O$5","v":-300},{"$f":"'Intersecting Model'!$C$9-'Intersecting Work Tab (1)'!$O$5","v":-300},{"$f":"'Intersecting Model'!$C$9-'Intersecting Work Tab (1)'!$O$5","v":-300},{"$f":"'Intersecting Model'!$C$9-'Intersecting Work Tab (1)'!$O$5","v":-300},{"$f":"'Intersecting Model'!$C$9-'Intersecting Work Tab (1)'!$O$5","v":-300},"ft"]
[null,"Small - S",{"$f":"'Intersecting Model'!$D$57+'Intersecting Model'!$C$40","v":45},{"$f":"$C$37","v":45},{"$f":"$C$37","v":45},{"$f":"'Intersecting Model'!$D$58+'Intersecting Model'!$C$40","v":55},{"$f":"$F$37","v":55},55,{"$f":"'Intersecting Model'!$D$59+'Intersecting Model'!$C$40","v":60}]
[null,"Small - T",{"$f":"$C$37","v":45},45,45,{"$f":"$F$37","v":55},55,55,{"$f":"$I$37","v":60}]
[null,"Small +",45,45,45,{"$f":"$F$37","v":55},55,55,{"$f":"$I$37","v":60}]
[null,"Large-TP",{"$f":"'Intersecting Model'!$D$60+'Intersecting Model'!$C$40","v":90},{"$f":"$C$40","v":90},90,{"$f":"'Intersecting Model'!$D$61+'Intersecting Model'!$C$40","v":70},{"$f":"$F$40","v":70},{"$f":"$F$40","v":70},{"$f":"$F$40","v":70}]
[null,"Large-Jet",90,90,90,{"$f":"$F$40","v":70},70,70,70]
[null,"Large-757",90,90,90,70,70,70,70]
[null,"Heavy",{"$f":"'Intersecting Model'!$D$62+'Intersecting Model'!$C$40","v":130},{"$f":"$C$43","v":130},{"$f":"$C$43","v":130},{"$f":"$C$43","v":130},{"$f":"$C$43","v":130},{"$f":"$C$43","v":130},{"$f":"'Intersecting Model'!$D$63+'Intersecting Model'!$C$40","v":100}]
[]
[null,"IMC Required Separation for departures following an aircraft from each class",null,null,null,"Time in seconds"]
[null,null,"Small - S","Small - T","Small +","Large-TP","Large-Jet","Large-757","Heavy"]
[null,"Small - S",{"$f":"'Intersecting Model'!$E$57+'Intersecting Model'!$C$40","v":70},{"$f":"$C$47","v":70},{"$f":"$C$47","v":70},{"$f":"'Intersecting Model'!$D$58+'Intersecting Model'!$C$40","v":55},{"$f":"$F$47","v":55},{"$f":"$F$47","v":55},{"$f":"'Intersecting Model'!$D$59+'Intersecting Model'!$C$40","v":60}]
[null,"Small - T",{"$f":"$C$47","v":70},70,70,{"$f":"$F$47","v":55},55,55,{"$f":"$I$47","v":60}]
[null,"Small +",70,70,70,55,55,55,{"$f":"$I$47","v":60}]
[null,"Large-TP",{"$f":"'Intersecting Model'!$E$60+'Intersecting Model'!$C$40","v":90},{"$f":"$C$50","v":90},90,{"$f":"'Intersecting Model'!$D$61+'Intersecting Model'!$C$40","v":70},{"$f":"$F$50","v":70},{"$f":"$F$50","v":70},{"$f":"$F$50","v":70}]
[null,"Large-Jet",{"$f":"$C$50","v":90},90,90,{"$f":"$F$50","v":70},70,70,70]
[null,"Large-757",{"$f":"$C$50","v":90},90,90,70,70,70,70]
[null,"Heavy",{"$f":"'Intersecting Model'!$D$62+'Intersecting Model'!$C$40","v":130},{"$f":"$C$53","v":130},{"$f":"$C$53","v":130},{"$f":"$C$53","v":130},{"$f":"$C$53","v":130},{"$f":"$C$53","v":130},{"$f":"'Intersecting Model'!$D$63+'Intersecting Model'!$C$40","v":100}]
[]
[null,null,null," "]
[null,"VMC Required Separation for arrivals following an aircraft from each class",null,null,null,"Time in Seconds"]
[null,null,"Small - S","Small - T","Small +","Large-TP","Large-Jet","Large-757","Heavy"]
[null,"Small - S",{"$f":"MAXA(3600*C17/('Intersecting Model'!$C$31)+'Intersecting Model'!$H$17*'Intersecting Model'!$H$15+MAXA(0,'Intersecting Model'!$C$17*3600*(1/'Intersecting Model'!$C$31-1/'Intersecting Model'!$C$31)),'Intersecting Model'!$C$28+'Intersecting Model'!$H$17*SQRT('Intersecting Model'!$H$15^2+'Intersecting Model'!$H$16^2))+'Intersecting Model'!$C$39","v":105.61},{"$f":"MAXA(3600*D17/('Intersecting Model'!$D$31)+'Intersecting Model'!$H$17*'Intersecting Model'!$H$15+MAXA(0,'Intersecting Model'!$C$17*3600*(1/'Intersecting Model'!$D$31-1/'Intersecting Model'!$C$31)),'Intersecting Model'!$C$28+'Intersecting Model'!$H$17*SQRT('Intersecting Model'!$H$15^2+'Intersecting Model'!$H$16^2))+'Intersecting Model'!$C$39","v":98.01},{"$f":"MAXA(3600*E17/('Intersecting Model'!$E$31)+'Intersecting Model'!$H$17*'Intersecting Model'!$H$15+MAXA(0,'Intersecting Model'!$C$17*3600*(1/'Intersecting Model'!$E$31-1/'Intersecting Model'!$C$31)),'Intersecting Model'!$C$28+'Intersecting Model'!$H$17*SQRT('Intersecting Model'!$H$15^2+'Intersecting Model'!$H$16^2))+'Intersecting Model'!$C$39","v":86.61},{"$f":"MAXA(3600*F17/('Intersecting Model'!$F$31)+'Intersecting Model'!$H$17*'Intersecting Model'!$H$15+MAXA(0,'Intersecting Model'!$C$17*3600*(1/'Intersecting Model'!$F$31-1/'Intersecting Model'!$C$31)),'Intersecting Model'!$C$28+'Intersecting Model'!$H$17*SQRT('Intersecting Model'!$H$15^2+'Intersecting Model'!$H$16^2))+'Intersecting Model'!$C$39","v":82.225384615384613},{"$f":"MAXA(3600*G17/('Intersecting Model'!$G$31)+'Intersecting Model'!$H$17*'Intersecting Model'!$H$15+MAXA(0,'Intersecting Model'!$C$17*3600*(1/'Intersecting Model'!$G$31-1/'Intersecting Model'!$C$31)),'Intersecting Model'!$C$28+'Intersecting Model'!$H$17*SQRT('Intersecting Model'!$H$15^2+'Intersecting Model'!$H$16^2))+'Intersecting Model'!$C$39","v":80.276666666666671},{"$f":"MAXA(3600*H17/('Intersecting Model'!$H$31)+'Intersecting Model'!$H$17*'Intersecting Model'!$H$15+MAXA(0,'Intersecting Model'!$C$17*3600*(1/'Intersecting Model'!$H$31-1/'Intersecting Model'!$C$31)),'Intersecting Model'!$C$28+'Intersecting Model'!$H$17*SQRT('Intersecting Model'!$H$15^2+'Intersecting Model'!$H$16^2))+'Intersecting Model'!$C$39","v":78.467142857142846},{"$f":"MAXA(3600*I17/('Intersecting Model'!$I$31)+'Intersecting Model'!$H$17*'Intersecting Model'!$H$15+MAXA(0,'Intersecting Model'!$C$17*3600*(1/'Intersecting Model'!$I$31-1/'Intersecting Model'!$C$31)),'Intersecting Model'!$C$28+'Intersecting Model'!$H$17*SQRT('Intersecting Model'!$H$15^2+'Intersecting Model'!$H$16^2))+'Intersecting Model'!$C$39","v":75.210000000000008}]
[null,"Small - T",{"$f":"MAXA(3600*C18/('Intersecting Model'!$C$31)+'Intersecting Model'!$H$17*'Intersecting Model'!$H$15+MAXA(0,'Intersecting Model'!$C$17*3600*(1/'Intersecting Model'!$C$31-1/'Intersecting Model'!$D$31)),'Intersecting Model'!$D$28+'Intersecting Model'!$H$17*SQRT('Intersecting Model'!$H$15^2+'Intersecting Model'!$H$16^2))+'Intersecting Model'!$C$39","v":133.61000000000001},{"$f":"MAXA(3600*D18/('Intersecting Model'!$D$31)+'Intersecting Model'!$H$17*'Intersecting Model'!$H$15+MAXA(0,'Intersecting Model'!$C$17*3600*(1/'Intersecting Model'!$D$31-1/'Intersecting Model'!$D$31)),'Intersecting Model'!$D$28+'Intersecting Model'!$H$17*SQRT('Intersecting Model'!$H$15^2+'Intersecting Model'!$H$16^2))+'Intersecting Model'!$C$39","v":98.01},{"$f":"MAXA(3600*E18/('Intersecting Model'!$E$31)+'Intersecting Model'!$H$17*'Intersecting Model'!$H$15+MAXA(0,'Intersecting Model'!$C$17*3600*(1/'Intersecting Model'!$E$31-1/'Intersecting Model'!$D$31)),'Intersecting Model'!$D$28+'Intersecting Model'!$H$17*SQRT('Intersecting Model'!$H$15^2+'Intersecting Model'!$H$16^2))+'Intersecting Model'!$C$39","v":86.61},{"$f":"MAXA(3600*F18/('Intersecting Model'!$F$31)+'Intersecting Model'!$H$17*'Intersecting Model'!$H$15+MAXA(0,'Intersecting Model'!$C$17*3600*(1/'Intersecting Model'!$F$31-1/'Intersecting Model'!$D$31)),'Intersecting Model'!$D$28+'Intersecting Model'!$H$17*SQRT('Intersecting Model'!$H$15^2+'Intersecting Model'!$H$16^2))+'Intersecting Model'!$C$39","v":82.225384615384613},{"$f":"MAXA(3600*G18/('Intersecting Model'!$G$31)+'Intersecting Model'!$H$17*'Intersecting Model'!$H$15+MAXA(0,'Intersecting Model'!$C$17*3600*(1/'Intersecting Model'!$G$31-1/'Intersecting Model'!$D$31)),'Intersecting Model'!$D$28+'Intersecting Model'!$H$17*SQRT('Intersecting Model'!$H$15^2+'Intersecting Model'!$H$16^2))+'Intersecting Model'!$C$39","v":80.276666666666671},{"$f":"MAXA(3600*H18/('Intersecting Model'!$H$31)+'Intersecting Model'!$H$17*'Intersecting Model'!$H$15+MAXA(0,'Intersecting Model'!$C$17*3600*(1/'Intersecting Model'!$H$31-1/'Intersecting Model'!$D$31)),'Intersecting Model'!$D$28+'Intersecting Model'!$H$17*SQRT('Intersecting Model'!$H$15^2+'Intersecting Model'!$H$16^2))+'Intersecting Model'!$C$39","v":78.467142857142846},{"$f":"MAXA(3600*I18/('Intersecting Model'!$I$31)+'Intersecting Model'!$H$17*'Intersecting Model'!$H$15+MAXA(0,'Intersecting Model'!$C$17*3600*(1/'Intersecting Model'!$I$31-1/'Intersecting Model'!$D$31)),'Intersecting Model'!$D$28+'Intersecting Model'!$H$17*SQRT('Intersecting Model'!$H$15^2+'Intersecting Model'!$H$16^2))+'Intersecting Model'!$C$39","v":75.210000000000008}]
[null,"Small +",{"$f":"MAXA(3600*C19/('Intersecting Model'!$C$31)+'Intersecting Model'!$H$17*'Intersecting Model'!$H$15+MAXA(0,'Intersecting Model'!$C$17*3600*(1/'Intersecting Model'!$C$31-1/'Intersecting Model'!$E$31)),'Intersecting Model'!$E$28+'Intersecting Model'!$H$17*SQRT('Intersecting Model'!$H$15^2+'Intersecting Model'!$H$16^2))+'Intersecting Model'!$C$39","v":175.61},{"$f":"MAXA(3600*D19/('Intersecting Model'!$D$31)+'Intersecting Model'!$H$17*'Intersecting Model'!$H$15+MAXA(0,'Intersecting Model'!$C$17*3600*(1/'Intersecting Model'!$D$31-1/'Intersecting Model'!$E$31)),'Intersecting Model'!$E$28+'Intersecting Model'!$H$17*SQRT('Intersecting Model'!$H$15^2+'Intersecting Model'!$H$16^2))+'Intersecting Model'!$C$39","v":140.01000000000002},{"$f":"MAXA(3600*E19/('Intersecting Model'!$E$31)+'Intersecting Model'!$H$17*'Intersecting Model'!$H$15+MAXA(0,'Intersecting Model'!$C$17*3600*(1/'Intersecting Model'!$E$31-1/'Intersecting Model'!$E$31)),'Intersecting Model'!$E$28+'Intersecting Model'!$H$17*SQRT('Intersecting Model'!$H$15^2+'Intersecting Model'!$H$16^2))+'Intersecting Model'!$C$39","v":86.61},{"$f":"MAXA(3600*F19/('Intersecting Model'!$F$31)+'Intersecting Model'!$H$17*'Intersecting Model'!$H$15+MAXA(0,'Intersecting Model'!$C$17*3600*(1/'Intersecting Model'!$F$31-1/'Intersecting Model'!$E$31)),'Intersecting Model'!$E$28+'Intersecting Model'!$H$17*SQRT('Intersecting Model'!$H$15^2+'Intersecting Model'!$H$16^2))+'Intersecting Model'!$C$39","v":82.225384615384613},{"$f":"MAXA(3600*G19/('Intersecting Model'!$G$31)+'Intersecting Model'!$H$17*'Intersecting Model'!$H$15+MAXA(0,'Intersecting Model'!$C$17*3600*(1/'Intersecting Model'!$G$31-1/'Intersecting Model'!$E$31)),'Intersecting Model'!$E$28+'Intersecting Model'!$H$17*SQRT('Intersecting Model'!$H$15^2+'Intersecting Model'!$H$16^2))+'Intersecting Model'!$C$39","v":80.276666666666671},{"$f":"MAXA(3600*H19/('Intersecting Model'!$H$31)+'Intersecting Model'!$H$17*'Intersecting Model'!$H$15+MAXA(0,'Intersecting Model'!$C$17*3600*(1/'Intersecting Model'!$H$31-1/'Intersecting Model'!$E$31)),'Intersecting Model'!$E$28+'Intersecting Model'!$H$17*SQRT('Intersecting Model'!$H$15^2+'Intersecting Model'!$H$16^2))+'Intersecting Model'!$C$39","v":78.467142857142846},{"$f":"MAXA(3600*I19/('Intersecting Model'!$I$31)+'Intersecting Model'!$H$17*'Intersecting Model'!$H$15+MAXA(0,'Intersecting Model'!$C$17*3600*(1/'Intersecting Model'!$I$31-1/'Intersecting Model'!$E$31)),'Intersecting Model'!$E$28+'Intersecting Model'!$H$17*SQRT('Intersecting Model'!$H$15^2+'Intersecting Model'!$H$16^2))+'Intersecting Model'!$C$39","v":75.210000000000008}]
[null,"Large-TP",{"$f":"MAXA(3600*C20/('Intersecting Model'!$C$31)+'Intersecting Model'!$H$17*'Intersecting Model'!$H$15+MAXA(0,'Intersecting Model'!$C$17*3600*(1/'Intersecting Model'!$C$31-1/'Intersecting Model'!$F$31)),'Intersecting Model'!$F$28+'Intersecting Model'!$H$17*SQRT('Intersecting Model'!$H$15^2+'Intersecting Model'!$H$16^2))+'Intersecting Model'!$C$39","v":223.76384615384617},{"$f":"MAXA(3600*D20/('Intersecting Model'!$D$31)+'Intersecting Model'!$H$17*'Intersecting Model'!$H$15+MAXA(0,'Intersecting Model'!$C$17*3600*(1/'Intersecting Model'!$D$31-1/'Intersecting Model'!$F$31)),'Intersecting Model'!$F$28+'Intersecting Model'!$H$17*SQRT('Intersecting Model'!$H$15^2+'Intersecting Model'!$H$16^2))+'Intersecting Model'!$C$39","v":184.96384615384613},{"$f":"MAXA(3600*E20/('Intersecting Model'!$E$31)+'Intersecting Model'!$H$17*'Intersecting Model'!$H$15+MAXA(0,'Intersecting Model'!$C$17*3600*(1/'Intersecting Model'!$E$31-1/'Intersecting Model'!$F$31)),'Intersecting Model'!$F$28+'Intersecting Model'!$H$17*SQRT('Intersecting Model'!$H$15^2+'Intersecting Model'!$H$16^2))+'Intersecting Model'!$C$39","v":126.76384615384615},{"$f":"MAXA(3600*F20/('Intersecting Model'!$F$31)+'Intersecting Model'!$H$17*'Intersecting Model'!$H$15+MAXA(0,'Intersecting Model'!$C$17*3600*(1/'Intersecting Model'!$F$31-1/'Intersecting Model'!$F$31)),'Intersecting Model'!$F$28+'Intersecting Model'!$H$17*SQRT('Intersecting Model'!$H$15^2+'Intersecting Model'!$H$16^2))+'Intersecting Model'!$C$39","v":82.225384615384613},{"$f":"MAXA(3600*G20/('Intersecting Model'!$G$31)+'Intersecting Model'!$H$17*'Intersecting Model'!$H$15+MAXA(0,'Intersecting Model'!$C$17*3600*(1/'Intersecting Model'!$G$31-1/'Intersecting Model'!$F$31)),'Intersecting Model'!$F$28+'Intersecting Model'!$H$17*SQRT('Intersecting Model'!$H$15^2+'Intersecting Model'!$H$16^2))+'Intersecting Model'!$C$39","v":80.276666666666671},{"$f":"MAXA(3600*H20/('Intersecting Model'!$H$31)+'Intersecting Model'!$H$17*'Intersecting Model'!$H$15+MAXA(0,'Intersecting Model'!$C$17*3600*(1/'Intersecting Model'!$H$31-1/'Intersecting Model'!$F$31)),'Intersecting Model'!$F$28+'Intersecting Model'!$H$17*SQRT('Intersecting Model'!$H$15^2+'Intersecting Model'!$H$16^2))+'Intersecting Model'!$C$39","v":78.467142857142846},{"$f":"MAXA(3600*I20/('Intersecting Model'!$I$31)+'Intersecting Model'!$H$17*'Intersecting Model'!$H$15+MAXA(0,'Intersecting Model'!$C$17*3600*(1/'Intersecting Model'!$I$31-1/'Intersecting Model'!$F$31)),'Intersecting Model'!$F$28+'Intersecting Model'!$H$17*SQRT('Intersecting Model'!$H$15^2+'Intersecting Model'!$H$16^2))+'Intersecting Model'!$C$39","v":76.211680505861906}]
[null,"Large-Jet",{"$f":"MAXA(3600*C21/('Intersecting Model'!$C$31)+'Intersecting Model'!$H$17*'Intersecting Model'!$H$15+MAXA(0,'Intersecting Model'!$C$17*3600*(1/'Intersecting Model'!$C$31-1/'Intersecting Model'!$G$31)),'Intersecting Model'!$G$28+'Intersecting Model'!$H$17*SQRT('Intersecting Model'!$H$15^2+'Intersecting Model'!$H$16^2))+'Intersecting Model'!$C$39","v":230.94333333333336},{"$f":"MAXA(3600*D21/('Intersecting Model'!$D$31)+'Intersecting Model'!$H$17*'Intersecting Model'!$H$15+MAXA(0,'Intersecting Model'!$C$17*3600*(1/'Intersecting Model'!$D$31-1/'Intersecting Model'!$G$31)),'Intersecting Model'!$G$28+'Intersecting Model'!$H$17*SQRT('Intersecting Model'!$H$15^2+'Intersecting Model'!$H$16^2))+'Intersecting Model'!$C$39","v":192.14333333333332},{"$f":"MAXA(3600*E21/('Intersecting Model'!$E$31)+'Intersecting Model'!$H$17*'Intersecting Model'!$H$15+MAXA(0,'Intersecting Model'!$C$17*3600*(1/'Intersecting Model'!$E$31-1/'Intersecting Model'!$G$31)),'Intersecting Model'!$G$28+'Intersecting Model'!$H$17*SQRT('Intersecting Model'!$H$15^2+'Intersecting Model'!$H$16^2))+'Intersecting Model'!$C$39","v":133.94333333333333},{"$f":"MAXA(3600*F21/('Intersecting Model'!$F$31)+'Intersecting Model'!$H$17*'Intersecting Model'!$H$15+MAXA(0,'Intersecting Model'!$C$17*3600*(1/'Intersecting Model'!$F$31-1/'Intersecting Model'!$G$31)),'Intersecting Model'!$G$28+'Intersecting Model'!$H$17*SQRT('Intersecting Model'!$H$15^2+'Intersecting Model'!$H$16^2))+'Intersecting Model'!$C$39","v":89.404871794871795},{"$f":"MAXA(3600*G21/('Intersecting Model'!$G$31)+'Intersecting Model'!$H$17*'Intersecting Model'!$H$15+MAXA(0,'Intersecting Model'!$C$17*3600*(1/'Intersecting Model'!$G$31-1/'Intersecting Model'!$G$31)),'Intersecting Model'!$G$28+'Intersecting Model'!$H$17*SQRT('Intersecting Model'!$H$15^2+'Intersecting Model'!$H$16^2))+'Intersecting Model'!$C$39","v":80.276666666666671},{"$f":"MAXA(3600*H21/('Intersecting Model'!$H$31)+'Intersecting Model'!$H$17*'Intersecting Model'!$H$15+MAXA(0,'Intersecting Model'!$C$17*3600*(1/'Intersecting Model'!$H$31-1/'Intersecting Model'!$G$31)),'Intersecting Model'!$G$28+'Intersecting Model'!$H$17*SQRT('Intersecting Model'!$H$15^2+'Intersecting Model'!$H$16^2))+'Intersecting Model'!$C$39","v":78.467142857142846},{"$f":"MAXA(3600*I21/('Intersecting Model'!$I$31)+'Intersecting Model'!$H$17*'Intersecting Model'!$H$15+MAXA(0,'Intersecting Model'!$C$17*3600*(1/'Intersecting Model'!$I$31-1/'Intersecting Model'!$G$31)),'Intersecting Model'!$G$28+'Intersecting Model'!$H$17*SQRT('Intersecting Model'!$H$15^2+'Intersecting Model'!$H$16^2))+'Intersecting Model'!$C$39","v":77.211680505861906}]
[null,"Large-757",{"$f":"MAXA(3600*C22/('Intersecting Model'!C$31)+'Intersecting Model'!$H$17*'Intersecting Model'!$H$15+MAXA(0,'Intersecting Model'!$C$17*3600*(1/'Intersecting Model'!C$31-1/'Intersecting Model'!$H$31)),'Intersecting Model'!$H$28+'Intersecting Model'!$H$17*SQRT('Intersecting Model'!$H$15^2+'Intersecting Model'!$H$16^2))+'Intersecting Model'!$C$39","v":277.61},{"$f":"MAXA(3600*D22/('Intersecting Model'!D$31)+'Intersecting Model'!$H$17*'Intersecting Model'!$H$15+MAXA(0,'Intersecting Model'!$C$17*3600*(1/'Intersecting Model'!D$31-1/'Intersecting Model'!$H$31)),'Intersecting Model'!$H$28+'Intersecting Model'!$H$17*SQRT('Intersecting Model'!$H$15^2+'Intersecting Model'!$H$16^2))+'Intersecting Model'!$C$39","v":234.81},{"$f":"MAXA(3600*E22/('Intersecting Model'!E$31)+'Intersecting Model'!$H$17*'Intersecting Model'!$H$15+MAXA(0,'Intersecting Model'!$C$17*3600*(1/'Intersecting Model'!E$31-1/'Intersecting Model'!$H$31)),'Intersecting Model'!$H$28+'Intersecting Model'!$H$17*SQRT('Intersecting Model'!$H$15^2+'Intersecting Model'!$H$16^2))+'Intersecting Model'!$C$39","v":170.61},{"$f":"MAXA(3600*F22/('Intersecting Model'!F$31)+'Intersecting Model'!$H$17*'Intersecting Model'!$H$15+MAXA(0,'Intersecting Model'!$C$17*3600*(1/'Intersecting Model'!F$31-1/'Intersecting Model'!$H$31)),'Intersecting Model'!$H$28+'Intersecting Model'!$H$17*SQRT('Intersecting Model'!$H$15^2+'Intersecting Model'!$H$16^2))+'Intersecting Model'!$C$39","v":118.22538461538464},{"$f":"MAXA(3600*G22/('Intersecting Model'!G$31)+'Intersecting Model'!$H$17*'Intersecting Model'!$H$15+MAXA(0,'Intersecting Model'!$C$17*3600*(1/'Intersecting Model'!G$31-1/'Intersecting Model'!$H$31)),'Intersecting Model'!$H$28+'Intersecting Model'!$H$17*SQRT('Intersecting Model'!$H$15^2+'Intersecting Model'!$H$16^2))+'Intersecting Model'!$C$39","v":108.27666666666669},{"$f":"MAXA(3600*H22/('Intersecting Model'!H$31)+'Intersecting Model'!$H$17*'Intersecting Model'!$H$15+MAXA(0,'Intersecting Model'!$C$17*3600*(1/'Intersecting Model'!H$31-1/'Intersecting Model'!$H$31)),'Intersecting Model'!$H$28+'Intersecting Model'!$H$17*SQRT('Intersecting Model'!$H$15^2+'Intersecting Model'!$H$16^2))+'Intersecting Model'!$C$39","v":99.03857142857143},{"$f":"MAXA(3600*I22/('Intersecting Model'!I$31)+'Intersecting Model'!$H$17*'Intersecting Model'!$H$15+MAXA(0,'Intersecting Model'!$C$17*3600*(1/'Intersecting Model'!I$31-1/'Intersecting Model'!$H$31)),'Intersecting Model'!$H$28+'Intersecting Model'!$H$17*SQRT('Intersecting Model'!$H$15^2+'Intersecting Model'!$H$16^2))+'Intersecting Model'!$C$39","v":94.41}]
[null,"Heavy",{"$f":"MAXA(3600*C23/('Intersecting Model'!$C$31)+'Intersecting Model'!$H$17*'Intersecting Model'!$H$15+MAXA(0,'Intersecting Model'!$C$17*3600*(1/'Intersecting Model'!$C$31-1/'Intersecting Model'!$I$31)),'Intersecting Model'!$I$28+'Intersecting Model'!$H$17*SQRT('Intersecting Model'!$H$15^2+'Intersecting Model'!$H$16^2))+'Intersecting Model'!$C$39","v":325.61},{"$f":"MAXA(3600*D23/('Intersecting Model'!$D$31)+'Intersecting Model'!$H$17*'Intersecting Model'!$H$15+MAXA(0,'Intersecting Model'!$C$17*3600*(1/'Intersecting Model'!$D$31-1/'Intersecting Model'!$I$31)),'Intersecting Model'!$I$28+'Intersecting Model'!$H$17*SQRT('Intersecting Model'!$H$15^2+'Intersecting Model'!$H$16^2))+'Intersecting Model'!$C$39","v":279.20999999999998},{"$f":"MAXA(3600*E23/('Intersecting Model'!$E$31)+'Intersecting Model'!$H$17*'Intersecting Model'!$H$15+MAXA(0,'Intersecting Model'!$C$17*3600*(1/'Intersecting Model'!$E$31-1/'Intersecting Model'!$I$31)),'Intersecting Model'!$I$28+'Intersecting Model'!$H$17*SQRT('Intersecting Model'!$H$15^2+'Intersecting Model'!$H$16^2))+'Intersecting Model'!$C$39","v":179.61},{"$f":"MAXA(3600*F23/('Intersecting Model'!$F$31)+'Intersecting Model'!$H$17*'Intersecting Model'!$H$15+MAXA(0,'Intersecting Model'!$C$17*3600*(1/'Intersecting Model'!$F$31-1/'Intersecting Model'!$I$31)),'Intersecting Model'!$I$28+'Intersecting Model'!$H$17*SQRT('Intersecting Model'!$H$15^2+'Intersecting Model'!$H$16^2))+'Intersecting Model'!$C$39","v":155.14846153846153},{"$f":"MAXA(3600*G23/('Intersecting Model'!$G$31)+'Intersecting Model'!$H$17*'Intersecting Model'!$H$15+MAXA(0,'Intersecting Model'!$C$17*3600*(1/'Intersecting Model'!$G$31-1/'Intersecting Model'!$I$31)),'Intersecting Model'!$I$28+'Intersecting Model'!$H$17*SQRT('Intersecting Model'!$H$15^2+'Intersecting Model'!$H$16^2))+'Intersecting Model'!$C$39","v":144.27666666666667},{"$f":"MAXA(3600*H23/('Intersecting Model'!$H$31)+'Intersecting Model'!$H$17*'Intersecting Model'!$H$15+MAXA(0,'Intersecting Model'!$C$17*3600*(1/'Intersecting Model'!$H$31-1/'Intersecting Model'!$I$31)),'Intersecting Model'!$I$28+'Intersecting Model'!$H$17*SQRT('Intersecting Model'!$H$15^2+'Intersecting Model'!$H$16^2))+'Intersecting Model'!$C$39","v":134.18142857142854},{"$f":"MAXA(3600*I23/('Intersecting Model'!$I$31)+'Intersecting Model'!$H$17*'Intersecting Model'!$H$15+MAXA(0,'Intersecting Model'!$C$17*3600*(1/'Intersecting Model'!$I$31-1/'Intersecting Model'!$I$31)),'Intersecting Model'!$I$28+'Intersecting Model'!$H$17*SQRT('Intersecting Model'!$H$15^2+'Intersecting Model'!$H$16^2))+'Intersecting Model'!$C$39","v":94.41}]
[]
[null,"IMC Required Separation for arrivals following an aircraft from each class",null,null,null,"Time in Seconds"]
[null,null,"Small - S","Small - T","Small +","Large-TP","Large-Jet","Large-757","Heavy"]
[null,"Small - S",{"$f":"MAXA(3600*C27/('Intersecting Model'!$C$31)+'Intersecting Model'!$H$17*'Intersecting Model'!$H$15+MAXA(0,'Intersecting Model'!$C$17*3600*(1/'Intersecting Model'!$C$31-1/'Intersecting Model'!$C$31)),'Intersecting Model'!$C$28+'Intersecting Model'!$H$17*SQRT('Intersecting Model'!$H$15^2+'Intersecting Model'!$H$16^2))+'Intersecting Model'!$C$39","v":149.61000000000001},{"$f":"MAXA(3600*D27/('Intersecting Model'!$D$31)+'Intersecting Model'!$H$17*'Intersecting Model'!$H$15+MAXA(0,'Intersecting Model'!$C$17*3600*(1/'Intersecting Model'!$D$31-1/'Intersecting Model'!$C$31)),'Intersecting Model'!$C$28+'Intersecting Model'!$H$17*SQRT('Intersecting Model'!$H$15^2+'Intersecting Model'!$H$16^2))+'Intersecting Model'!$C$39","v":137.61000000000001},{"$f":"MAXA(3600*E27/('Intersecting Model'!$E$31)+'Intersecting Model'!$H$17*'Intersecting Model'!$H$15+MAXA(0,'Intersecting Model'!$C$17*3600*(1/'Intersecting Model'!$E$31-1/'Intersecting Model'!$C$31)),'Intersecting Model'!$C$28+'Intersecting Model'!$H$17*SQRT('Intersecting Model'!$H$15^2+'Intersecting Model'!$H$16^2))+'Intersecting Model'!$C$39","v":119.61},{"$f":"MAXA(3600*F27/('Intersecting Model'!$F$31)+'Intersecting Model'!$H$17*'Intersecting Model'!$H$15+MAXA(0,'Intersecting Model'!$C$17*3600*(1/'Intersecting Model'!$F$31-1/'Intersecting Model'!$C$31)),'Intersecting Model'!$C$28+'Intersecting Model'!$H$17*SQRT('Intersecting Model'!$H$15^2+'Intersecting Model'!$H$16^2))+'Intersecting Model'!$C$39","v":112.68692307692308},{"$f":"MAXA(3600*G27/('Intersecting Model'!$G$31)+'Intersecting Model'!$H$17*'Intersecting Model'!$H$15+MAXA(0,'Intersecting Model'!$C$17*3600*(1/'Intersecting Model'!$G$31-1/'Intersecting Model'!$C$31)),'Intersecting Model'!$C$28+'Intersecting Model'!$H$17*SQRT('Intersecting Model'!$H$15^2+'Intersecting Model'!$H$16^2))+'Intersecting Model'!$C$39","v":109.61},{"$f":"MAXA(3600*H27/('Intersecting Model'!$H$31)+'Intersecting Model'!$H$17*'Intersecting Model'!$H$15+MAXA(0,'Intersecting Model'!$C$17*3600*(1/'Intersecting Model'!$H$31-1/'Intersecting Model'!$C$31)),'Intersecting Model'!$C$28+'Intersecting Model'!$H$17*SQRT('Intersecting Model'!$H$15^2+'Intersecting Model'!$H$16^2))+'Intersecting Model'!$C$39","v":106.75285714285714},{"$f":"MAXA(3600*I27/('Intersecting Model'!$I$31)+'Intersecting Model'!$H$17*'Intersecting Model'!$H$15+MAXA(0,'Intersecting Model'!$C$17*3600*(1/'Intersecting Model'!$I$31-1/'Intersecting Model'!$C$31)),'Intersecting Model'!$C$28+'Intersecting Model'!$H$17*SQRT('Intersecting Model'!$H$15^2+'Intersecting Model'!$H$16^2))+'Intersecting Model'!$C$39","v":101.61}]
[null,"Small - T",{"$f":"MAXA(3600*C28/('Intersecting Model'!$C$31)+'Intersecting Model'!$H$17*'Intersecting Model'!$H$15+MAXA(0,'Intersecting Model'!$C$17*3600*(1/'Intersecting Model'!$C$31-1/'Intersecting Model'!$D$31)),'Intersecting Model'!$D$28+'Intersecting Model'!$H$17*SQRT('Intersecting Model'!$H$15^2+'Intersecting Model'!$H$16^2))+'Intersecting Model'!$C$39","v":177.61},{"$f":"MAXA(3600*D28/('Intersecting Model'!$D$31)+'Intersecting Model'!$H$17*'Intersecting Model'!$H$15+MAXA(0,'Intersecting Model'!$C$17*3600*(1/'Intersecting Model'!$D$31-1/'Intersecting Model'!$D$31)),'Intersecting Model'!$D$28+'Intersecting Model'!$H$17*SQRT('Intersecting Model'!$H$15^2+'Intersecting Model'!$H$16^2))+'Intersecting Model'!$C$39","v":137.61000000000001},{"$f":"MAXA(3600*E28/('Intersecting Model'!$E$31)+'Intersecting Model'!$H$17*'Intersecting Model'!$H$15+MAXA(0,'Intersecting Model'!$C$17*3600*(1/'Intersecting Model'!$E$31-1/'Intersecting Model'!$D$31)),'Intersecting Model'!$D$28+'Intersecting Model'!$H$17*SQRT('Intersecting Model'!$H$15^2+'Intersecting Model'!$H$16^2))+'Intersecting Model'!$C$39","v":119.61},{"$f":"MAXA(3600*F28/('Intersecting Model'!$F$31)+'Intersecting Model'!$H$17*'Intersecting Model'!$H$15+MAXA(0,'Intersecting Model'!$C$17*3600*(1/'Intersecting Model'!$F$31-1/'Intersecting Model'!$D$31)),'Intersecting Model'!$D$28+'Intersecting Model'!$H$17*SQRT('Intersecting Model'!$H$15^2+'Intersecting Model'!$H$16^2))+'Intersecting Model'!$C$39","v":112.68692307692308},{"$f":"MAXA(3600*G28/('Intersecting Model'!$G$31)+'Intersecting Model'!$H$17*'Intersecting Model'!$H$15+MAXA(0,'Intersecting Model'!$C$17*3600*(1/'Intersecting Model'!$G$31-1/'Intersecting Model'!$D$31)),'Intersecting Model'!$D$28+'Intersecting Model'!$H$17*SQRT('Intersecting Model'!$H$15^2+'Intersecting Model'!$H$16^2))+'Intersecting Model'!$C$39","v":109.61},{"$f":"MAXA(3600*H28/('Intersecting Model'!$H$31)+'Intersecting Model'!$H$17*'Intersecting Model'!$H$15+MAXA(0,'Intersecting Model'!$C$17*3600*(1/'Intersecting Model'!$H$31-1/'Intersecting Model'!$D$31)),'Intersecting Model'!$D$28+'Intersecting Model'!$H$17*SQRT('Intersecting Model'!$H$15^2+'Intersecting Model'!$H$16^2))+'Intersecting Model'!$C$39","v":106.75285714285714},{"$f":"MAXA(3600*I28/('Intersecting Model'!$I$31)+'Intersecting Model'!$H$17*'Intersecting Model'!$H$15+MAXA(0,'Intersecting Model'!$C$17*3600*(1/'Intersecting Model'!$I$31-1/'Intersecting Model'!$D$31)),'Intersecting Model'!$D$28+'Intersecting Model'!$H$17*SQRT('Intersecting Model'!$H$15^2+'Intersecting Model'!$H$16^2))+'Intersecting Model'!$C$39","v":101.61}]
[null,"Small +",{"$f":"MAXA(3600*C29/('Intersecting Model'!$C$31)+'Intersecting Model'!$H$17*'Intersecting Model'!$H$15+MAXA(0,'Intersecting Model'!$C$17*3600*(1/'Intersecting Model'!$C$31-1/'Intersecting Model'!$E$31)),'Intersecting Model'!$E$28+'Intersecting Model'!$H$17*SQRT('Intersecting Model'!$H$15^2+'Intersecting Model'!$H$16^2))+'Intersecting Model'!$C$39","v":219.61},{"$f":"MAXA(3600*D29/('Intersecting Model'!$D$31)+'Intersecting Model'!$H$17*'Intersecting Model'!$H$15+MAXA(0,'Intersecting Model'!$C$17*3600*(1/'Intersecting Model'!$D$31-1/'Intersecting Model'!$E$31)),'Intersecting Model'!$E$28+'Intersecting Model'!$H$17*SQRT('Intersecting Model'!$H$15^2+'Intersecting Model'!$H$16^2))+'Intersecting Model'!$C$39","v":179.61},{"$f":"MAXA(3600*E29/('Intersecting Model'!$E$31)+'Intersecting Model'!$H$17*'Intersecting Model'!$H$15+MAXA(0,'Intersecting Model'!$C$17*3600*(1/'Intersecting Model'!$E$31-1/'Intersecting Model'!$E$31)),'Intersecting Model'!$E$28+'Intersecting Model'!$H$17*SQRT('Intersecting Model'!$H$15^2+'Intersecting Model'!$H$16^2))+'Intersecting Model'!$C$39","v":119.61},{"$f":"MAXA(3600*F29/('Intersecting Model'!$F$31)+'Intersecting Model'!$H$17*'Intersecting Model'!$H$15+MAXA(0,'Intersecting Model'!$C$17*3600*(1/'Intersecting Model'!$F$31-1/'Intersecting Model'!$E$31)),'Intersecting Model'!$E$28+'Intersecting Model'!$H$17*SQRT('Intersecting Model'!$H$15^2+'Intersecting Model'!$H$16^2))+'Intersecting Model'!$C$39","v":112.68692307692308},{"$f":"MAXA(3600*G29/('Intersecting Model'!$G$31)+'Intersecting Model'!$H$17*'Intersecting Model'!$H$15+MAXA(0,'Intersecting Model'!$C$17*3600*(1/'Intersecting Model'!$G$31-1/'Intersecting Model'!$E$31)),'Intersecting Model'!$E$28+'Intersecting Model'!$H$17*SQRT('Intersecting Model'!$H$15^2+'Intersecting Model'!$H$16^2))+'Intersecting Model'!$C$39","v":109.61},{"$f":"MAXA(3600*H29/('Intersecting Model'!$H$31)+'Intersecting Model'!$H$17*'Intersecting Model'!$H$15+MAXA(0,'Intersecting Model'!$C$17*3600*(1/'Intersecting Model'!$H$31-1/'Intersecting Model'!$E$31)),'Intersecting Model'!$E$28+'Intersecting Model'!$H$17*SQRT('Intersecting Model'!$H$15^2+'Intersecting Model'!$H$16^2))+'Intersecting Model'!$C$39","v":106.75285714285714},{"$f":"MAXA(3600*I29/('Intersecting Model'!$I$31)+'Intersecting Model'!$H$17*'Intersecting Model'!$H$15+MAXA(0,'Intersecting Model'!$C$17*3600*(1/'Intersecting Model'!$I$31-1/'Intersecting Model'!$E$31)),'Intersecting Model'!$E$28+'Intersecting Model'!$H$17*SQRT('Intersecting Model'!$H$15^2+'Intersecting Model'!$H$16^2))+'Intersecting Model'!$C$39","v":101.61}]
[null,"Large-TP",{"$f":"MAXA(3600*C30/('Intersecting Model'!$C$31)+'Intersecting Model'!$H$17*'Intersecting Model'!$H$15+MAXA(0,'Intersecting Model'!$C$17*3600*(1/'Intersecting Model'!$C$31-1/'Intersecting Model'!$F$31)),'Intersecting Model'!$F$28+'Intersecting Model'!$H$17*SQRT('Intersecting Model'!$H$15^2+'Intersecting Model'!$H$16^2))+'Intersecting Model'!$C$39","v":275.7638461538462},{"$f":"MAXA(3600*D30/('Intersecting Model'!$D$31)+'Intersecting Model'!$H$17*'Intersecting Model'!$H$15+MAXA(0,'Intersecting Model'!$C$17*3600*(1/'Intersecting Model'!$D$31-1/'Intersecting Model'!$F$31)),'Intersecting Model'!$F$28+'Intersecting Model'!$H$17*SQRT('Intersecting Model'!$H$15^2+'Intersecting Model'!$H$16^2))+'Intersecting Model'!$C$39","v":231.76384615384615},{"$f":"MAXA(3600*E30/('Intersecting Model'!$E$31)+'Intersecting Model'!$H$17*'Intersecting Model'!$H$15+MAXA(0,'Intersecting Model'!$C$17*3600*(1/'Intersecting Model'!$E$31-1/'Intersecting Model'!$F$31)),'Intersecting Model'!$F$28+'Intersecting Model'!$H$17*SQRT('Intersecting Model'!$H$15^2+'Intersecting Model'!$H$16^2))+'Intersecting Model'!$C$39","v":165.76384615384615},{"$f":"MAXA(3600*F30/('Intersecting Model'!$F$31)+'Intersecting Model'!$H$17*'Intersecting Model'!$H$15+MAXA(0,'Intersecting Model'!$C$17*3600*(1/'Intersecting Model'!$F$31-1/'Intersecting Model'!$F$31)),'Intersecting Model'!$F$28+'Intersecting Model'!$H$17*SQRT('Intersecting Model'!$H$15^2+'Intersecting Model'!$H$16^2))+'Intersecting Model'!$C$39","v":112.68692307692308},{"$f":"MAXA(3600*G30/('Intersecting Model'!$G$31)+'Intersecting Model'!$H$17*'Intersecting Model'!$H$15+MAXA(0,'Intersecting Model'!$C$17*3600*(1/'Intersecting Model'!$G$31-1/'Intersecting Model'!$F$31)),'Intersecting Model'!$F$28+'Intersecting Model'!$H$17*SQRT('Intersecting Model'!$H$15^2+'Intersecting Model'!$H$16^2))+'Intersecting Model'!$C$39","v":109.61},{"$f":"MAXA(3600*H30/('Intersecting Model'!$H$31)+'Intersecting Model'!$H$17*'Intersecting Model'!$H$15+MAXA(0,'Intersecting Model'!$C$17*3600*(1/'Intersecting Model'!$H$31-1/'Intersecting Model'!$F$31)),'Intersecting Model'!$F$28+'Intersecting Model'!$H$17*SQRT('Intersecting Model'!$H$15^2+'Intersecting Model'!$H$16^2))+'Intersecting Model'!$C$39","v":106.75285714285714},{"$f":"MAXA(3600*I30/('Intersecting Model'!$I$31)+'Intersecting Model'!$H$17*'Intersecting Model'!$H$15+MAXA(0,'Intersecting Model'!$C$17*3600*(1/'Intersecting Model'!$I$31-1/'Intersecting Model'!$F$31)),'Intersecting Model'!$F$28+'Intersecting Model'!$H$17*SQRT('Intersecting Model'!$H$15^2+'Intersecting Model'!$H$16^2))+'Intersecting Model'!$C$39","v":101.61}]
[null,"Large-Jet",{"$f":"MAXA(3600*C31/('Intersecting Model'!$C$31)+'Intersecting Model'!$H$17*'Intersecting Model'!$H$15+MAXA(0,'Intersecting Model'!$C$17*3600*(1/'Intersecting Model'!$C$31-1/'Intersecting Model'!$G$31)),'Intersecting Model'!$G$28+'Intersecting Model'!$H$17*SQRT('Intersecting Model'!$H$15^2+'Intersecting Model'!$H$16^2))+'Intersecting Model'!$C$39","v":282.94333333333338},{"$f":"MAXA(3600*D31/('Intersecting Model'!$D$31)+'Intersecting Model'!$H$17*'Intersecting Model'!$H$15+MAXA(0,'Intersecting Model'!$C$17*3600*(1/'Intersecting Model'!$D$31-1/'Intersecting Model'!$G$31)),'Intersecting Model'!$G$28+'Intersecting Model'!$H$17*SQRT('Intersecting Model'!$H$15^2+'Intersecting Model'!$H$16^2))+'Intersecting Model'!$C$39","v":238.94333333333333},{"$f":"MAXA(3600*E31/('Intersecting Model'!$E$31)+'Intersecting Model'!$H$17*'Intersecting Model'!$H$15+MAXA(0,'Intersecting Model'!$C$17*3600*(1/'Intersecting Model'!$E$31-1/'Intersecting Model'!$G$31)),'Intersecting Model'!$G$28+'Intersecting Model'!$H$17*SQRT('Intersecting Model'!$H$15^2+'Intersecting Model'!$H$16^2))+'Intersecting Model'!$C$39","v":172.94333333333333},{"$f":"MAXA(3600*F31/('Intersecting Model'!$F$31)+'Intersecting Model'!$H$17*'Intersecting Model'!$H$15+MAXA(0,'Intersecting Model'!$C$17*3600*(1/'Intersecting Model'!$F$31-1/'Intersecting Model'!$G$31)),'Intersecting Model'!$G$28+'Intersecting Model'!$H$17*SQRT('Intersecting Model'!$H$15^2+'Intersecting Model'!$H$16^2))+'Intersecting Model'!$C$39","v":119.86641025641026},{"$f":"MAXA(3600*G31/('Intersecting Model'!$G$31)+'Intersecting Model'!$H$17*'Intersecting Model'!$H$15+MAXA(0,'Intersecting Model'!$C$17*3600*(1/'Intersecting Model'!$G$31-1/'Intersecting Model'!$G$31)),'Intersecting Model'!$G$28+'Intersecting Model'!$H$17*SQRT('Intersecting Model'!$H$15^2+'Intersecting Model'!$H$16^2))+'Intersecting Model'!$C$39","v":109.61},{"$f":"MAXA(3600*H31/('Intersecting Model'!$H$31)+'Intersecting Model'!$H$17*'Intersecting Model'!$H$15+MAXA(0,'Intersecting Model'!$C$17*3600*(1/'Intersecting Model'!$H$31-1/'Intersecting Model'!$G$31)),'Intersecting Model'!$G$28+'Intersecting Model'!$H$17*SQRT('Intersecting Model'!$H$15^2+'Intersecting Model'!$H$16^2))+'Intersecting Model'!$C$39","v":106.75285714285714},{"$f":"MAXA(3600*I31/('Intersecting Model'!$I$31)+'Intersecting Model'!$H$17*'Intersecting Model'!$H$15+MAXA(0,'Intersecting Model'!$C$17*3600*(1/'Intersecting Model'!$I$31-1/'Intersecting Model'!$G$31)),'Intersecting Model'!$G$28+'Intersecting Model'!$H$17*SQRT('Intersecting Model'!$H$15^2+'Intersecting Model'!$H$16^2))+'Intersecting Model'!$C$39","v":101.61}]
[null,"Large-757",{"$f":"MAXA(3600*C32/('Intersecting Model'!$C$31)+'Intersecting Model'!$H$17*'Intersecting Model'!$H$15+MAXA(0,'Intersecting Model'!$C$17*3600*(1/'Intersecting Model'!C$31-1/'Intersecting Model'!$H$31)),'Intersecting Model'!$H$28+'Intersecting Model'!$H$17*SQRT('Intersecting Model'!$H$15^2+'Intersecting Model'!$H$16^2))+'Intersecting Model'!$C$39","v":329.61},{"$f":"MAXA(3600*D32/('Intersecting Model'!$D$31)+'Intersecting Model'!$H$17*'Intersecting Model'!$H$15+MAXA(0,'Intersecting Model'!$C$17*3600*(1/'Intersecting Model'!D$31-1/'Intersecting Model'!$H$31)),'Intersecting Model'!$H$28+'Intersecting Model'!$H$17*SQRT('Intersecting Model'!$H$15^2+'Intersecting Model'!$H$16^2))+'Intersecting Model'!$C$39","v":281.61},{"$f":"MAXA(3600*E32/('Intersecting Model'!$E$31)+'Intersecting Model'!$H$17*'Intersecting Model'!$H$15+MAXA(0,'Intersecting Model'!$C$17*3600*(1/'Intersecting Model'!E$31-1/'Intersecting Model'!$H$31)),'Intersecting Model'!$H$28+'Intersecting Model'!$H$17*SQRT('Intersecting Model'!$H$15^2+'Intersecting Model'!$H$16^2))+'Intersecting Model'!$C$39","v":209.61},{"$f":"MAXA(3600*F32/('Intersecting Model'!$F$31)+'Intersecting Model'!$H$17*'Intersecting Model'!$H$15+MAXA(0,'Intersecting Model'!$C$17*3600*(1/'Intersecting Model'!F$31-1/'Intersecting Model'!$H$31)),'Intersecting Model'!$H$28+'Intersecting Model'!$H$17*SQRT('Intersecting Model'!$H$15^2+'Intersecting Model'!$H$16^2))+'Intersecting Model'!$C$39","v":154.22538461538466},{"$f":"MAXA(3600*G32/('Intersecting Model'!$G$31)+'Intersecting Model'!$H$17*'Intersecting Model'!$H$15+MAXA(0,'Intersecting Model'!$C$17*3600*(1/'Intersecting Model'!G$31-1/'Intersecting Model'!$H$31)),'Intersecting Model'!$H$28+'Intersecting Model'!$H$17*SQRT('Intersecting Model'!$H$15^2+'Intersecting Model'!$H$16^2))+'Intersecting Model'!$C$39","v":142.94333333333336},{"$f":"MAXA(3600*H32/('Intersecting Model'!$H$31)+'Intersecting Model'!$H$17*'Intersecting Model'!$H$15+MAXA(0,'Intersecting Model'!$C$17*3600*(1/'Intersecting Model'!H$31-1/'Intersecting Model'!$H$31)),'Intersecting Model'!$H$28+'Intersecting Model'!$H$17*SQRT('Intersecting Model'!$H$15^2+'Intersecting Model'!$H$16^2))+'Intersecting Model'!$C$39","v":132.46714285714285},{"$f":"MAXA(3600*I32/('Intersecting Model'!$I$31)+'Intersecting Model'!$H$17*'Intersecting Model'!$H$15+MAXA(0,'Intersecting Model'!$C$17*3600*(1/'Intersecting Model'!I$31-1/'Intersecting Model'!$H$31)),'Intersecting Model'!$H$28+'Intersecting Model'!$H$17*SQRT('Intersecting Model'!$H$15^2+'Intersecting Model'!$H$16^2))+'Intersecting Model'!$C$39","v":125.61}]
[null,"Heavy",{"$f":"MAXA(3600*C33/('Intersecting Model'!$C$31)+'Intersecting Model'!$H$17*'Intersecting Model'!$H$15+MAXA(0,'Intersecting Model'!$C$17*3600*(1/'Intersecting Model'!$C$31-1/'Intersecting Model'!$I$31)),'Intersecting Model'!$I$28+'Intersecting Model'!$H$17*SQRT('Intersecting Model'!$H$15^2+'Intersecting Model'!$H$16^2))+'Intersecting Model'!$C$39","v":381.61},{"$f":"MAXA(3600*D33/('Intersecting Model'!$D$31)+'Intersecting Model'!$H$17*'Intersecting Model'!$H$15+MAXA(0,'Intersecting Model'!$C$17*3600*(1/'Intersecting Model'!$D$31-1/'Intersecting Model'!$I$31)),'Intersecting Model'!$I$28+'Intersecting Model'!$H$17*SQRT('Intersecting Model'!$H$15^2+'Intersecting Model'!$H$16^2))+'Intersecting Model'!$C$39","v":329.61},{"$f":"MAXA(3600*E33/('Intersecting Model'!$E$31)+'Intersecting Model'!$H$17*'Intersecting Model'!$H$15+MAXA(0,'Intersecting Model'!$C$17*3600*(1/'Intersecting Model'!$E$31-1/'Intersecting Model'!$I$31)),'Intersecting Model'!$I$28+'Intersecting Model'!$H$17*SQRT('Intersecting Model'!$H$15^2+'Intersecting Model'!$H$16^2))+'Intersecting Model'!$C$39","v":221.61},{"$f":"MAXA(3600*F33/('Intersecting Model'!$F$31)+'Intersecting Model'!$H$17*'Intersecting Model'!$H$15+MAXA(0,'Intersecting Model'!$C$17*3600*(1/'Intersecting Model'!$F$31-1/'Intersecting Model'!$I$31)),'Intersecting Model'!$I$28+'Intersecting Model'!$H$17*SQRT('Intersecting Model'!$H$15^2+'Intersecting Model'!$H$16^2))+'Intersecting Model'!$C$39","v":193.91769230769231},{"$f":"MAXA(3600*G33/('Intersecting Model'!$G$31)+'Intersecting Model'!$H$17*'Intersecting Model'!$H$15+MAXA(0,'Intersecting Model'!$C$17*3600*(1/'Intersecting Model'!$G$31-1/'Intersecting Model'!$I$31)),'Intersecting Model'!$I$28+'Intersecting Model'!$H$17*SQRT('Intersecting Model'!$H$15^2+'Intersecting Model'!$H$16^2))+'Intersecting Model'!$C$39","v":181.60999999999999},{"$f":"MAXA(3600*H33/('Intersecting Model'!$H$31)+'Intersecting Model'!$H$17*'Intersecting Model'!$H$15+MAXA(0,'Intersecting Model'!$C$17*3600*(1/'Intersecting Model'!$H$31-1/'Intersecting Model'!$I$31)),'Intersecting Model'!$I$28+'Intersecting Model'!$H$17*SQRT('Intersecting Model'!$H$15^2+'Intersecting Model'!$H$16^2))+'Intersecting Model'!$C$39","v":170.18142857142854},{"$f":"MAXA(3600*I33/('Intersecting Model'!$I$31)+'Intersecting Model'!$H$17*'Intersecting Model'!$H$15+MAXA(0,'Intersecting Model'!$C$17*3600*(1/'Intersecting Model'!$I$31-1/'Intersecting Model'!$I$31)),'Intersecting Model'!$I$28+'Intersecting Model'!$H$17*SQRT('Intersecting Model'!$H$15^2+'Intersecting Model'!$H$16^2))+'Intersecting Model'!$C$39","v":125.61}]
[]
[null,"VMC Average time between Arrivals",null,null,null,"Time in Seconds",null,null,null,null,null,null,"Average Arrival separation"]
[null,null,"Small - S","Small - T","Small +","Large-TP","Large-Jet","Large-757","Heavy",null,null,null,{"$f":"SUM(C78:I84)","v":96.558638648805896},"seconds",{"$f":"3600/M77","v":37.283044276272214}]
[null,"Small - S",{"$f":"C7*C58","v":0},0,0,0,0,0,0]
[null,"Small - T",{"$f":"C8*C59","v":0},0.98010000000000019,0,2.4667615384615384,4.0138333333333334,0.39233571428571429,0.37605000000000011]
[null,"Small +",{"$f":"C9*C60","v":0},0,0,0,0,0,0]
[null,"Large-TP",{"$f":"C10*C61","v":0},5.548915384615384,0,7.4002846153846145,12.041500000000001,1.1770071428571427,1.1431752075879285]
[null,"Large-Jet",{"$f":"C11*C62","v":0},9.6071666666666662,0,13.410730769230769,20.069166666666668,1.9616785714285712,1.9302920126465477]
[null,"Large-757",{"$f":"C12*C63","v":0},1.1740500000000003,0,1.7733807692307695,2.7069166666666673,0.24759642857142863,0.23602500000000004]
[null,"Heavy",{"$f":"C13*C64","v":0},1.3960500000000002,0,2.3272269230769229,3.6069166666666668,0.33545357142857141,0.23602500000000004]
[]
[null,"VMC Average time between Departures",null,null,null,"Time in Seconds",null,null,null,null,null,null,"Average Departure separation"]
[null,null,"Small - S","Small - T","Small +","Large-TP","Large-Jet","Large-757","Heavy",null,null,null,{"$f":"SUM(C88:I94)","v":73.050000000000011},"seconds",{"$f":"3600/M87","v":49.281314168377818}]
[null,"Small - S",{"$f":"C7*C37","v":0},{"$f":"D7*D37","v":0},0,0,0,0,0]
[null,"Small - T",{"$f":"C8*C38","v":0},0.45000000000000007,0,1.65,2.75,0.27500000000000008,0.30000000000000004]
[null,"Small +",{"$f":"C9*C39","v":0},0,0,0,0,0,0]
[null,"Large-TP",{"$f":"C10*C40","v":0},2.6999999999999997,0,6.3,10.5,1.05,1.05]
[null,"Large-Jet",{"$f":"C11*C41","v":0},4.5,0,10.5,17.5,1.75,1.75]
[null,"Large-757",{"$f":"C12*C42","v":0},0.45000000000000007,0,1.05,1.75,0.17500000000000004,0.17500000000000004]
[null,"Heavy",{"$f":"C13*C43","v":0},0.65000000000000013,0,1.95,3.25,0.32500000000000007,0.25000000000000006]
[]
[null,"IMC Average time between Arrivals",null,null,null,"Time in Seconds",null,null,null,null,null,null,"Average Arrival separation"]
[null,null,"Small - S","Small - T","Small +","Large-TP","Large-Jet","Large-757","Heavy",null,null,null,{"$f":"SUM(C98:I104)","v":128.25615384615384},"seconds",{"$f":"3600/M97","v":28.06882860621473}]
[null,"Small - S",{"$f":"C7*C68","v":0},0,0,0,0,0,0]
[null,"Small - T",{"$f":"C8*C69","v":0},1.3761000000000003,0,3.3806076923076924,5.4805000000000001,0.5337642857142858,0.50805000000000011]
[null,"Small +",{"$f":"C9*C70","v":0},0,0,0,0,0,0]
[null,"Large-TP",{"$f":"C10*C71","v":0},6.9529153846153839,0,10.141823076923076,16.441499999999998,1.6012928571428571,1.5241499999999999]
[null,"Large-Jet",{"$f":"C11*C72","v":0},11.947166666666668,0,17.979961538461538,27.4025,2.6688214285714285,2.5402500000000003]
[null,"Large-757",{"$f":"C12*C73","v":0},1.4080500000000002,0,2.3133807692307697,3.573583333333334,0.33116785714285718,0.31402500000000005]
[null,"Heavy",{"$f":"C13*C74","v":0},1.6480500000000005,0,2.9087653846153847,4.5402499999999995,0.42545357142857143,0.31402500000000005]
[]
[null,"IMC Average time between Departures",null,null,null,"Time in Seconds",null,null,null,null,null,null,"Average Departure separation"]
[null,null,"Small - S","Small - T","Small +","Large-TP","Large-Jet","Large-757","Heavy",null,null,null,{"$f":"SUM(C108:I114)","v":73.300000000000011},"seconds",{"$f":"3600/M107","v":49.113233287858108}]
[null,"Small - S",{"$f":"C7*C47","v":0},{"$f":"D7*D47","v":0},0,0,0,0,0]
[null,"Small - T",{"$f":"C8*C48","v":0},0.70000000000000018,0,1.65,2.75,0.27500000000000008,0.30000000000000004]
[null,"Small +",{"$f":"C9*C49","v":0},0,0,0,0,0,0]
[null,"Large-TP",{"$f":"C10*C50","v":0},2.6999999999999997,0,6.3,10.5,1.05,1.05]
[null,"Large-Jet",{"$f":"C11*C51","v":0},4.5,0,10.5,17.5,1.75,1.75]
[null,"Large-757",{"$f":"C12*C52","v":0},0.45000000000000007,0,1.05,1.75,0.17500000000000004,0.17500000000000004]
[null,"Heavy",{"$f":"C13*C53","v":0},0.65000000000000013,0,1.95,3.25,0.32500000000000007,0.25000000000000006]
[]
[null,"VMC Average Time Required for Departure between Arrivals",null,null,null,"Time in Seconds"]
[null,null,"Small - S","Small - T","Small +","Large-TP","Large-Jet","Large-757","Heavy"]
[null,"Small - S",{"$f":"$N$18+$C$1+(('Intersecting Model'!$C$15-'Intersecting Model'!$C$9/5280/1.1508)*3600/'Intersecting Model'!C$31)","v":102.36067977499789},{"$f":"$N$18+$C$1+(('Intersecting Model'!$C$15-'Intersecting Model'!$C$9/5280/1.1508)*3600/'Intersecting Model'!D$31)","v":95.150644068611825},{"$f":"$N$18+$C$1+(('Intersecting Model'!$C$15-'Intersecting Model'!$C$9/5280/1.1508)*3600/'Intersecting Model'!E$31)","v":84.335590509032727},{"$f":"$N$18+$C$1+(('Intersecting Model'!$C$15-'Intersecting Model'!$C$9/5280/1.1508)*3600/'Intersecting Model'!F$31)","v":80.175954524579225},{"$f":"$N$18+$C$1+(('Intersecting Model'!$C$15-'Intersecting Model'!$C$9/5280/1.1508)*3600/'Intersecting Model'!G$31)","v":78.327227420377653},{"$f":"$N$18+$C$1+(('Intersecting Model'!$C$15-'Intersecting Model'!$C$9/5280/1.1508)*3600/'Intersecting Model'!H$31)","v":76.610552252190502},{"$f":"$N$18+$C$1+(('Intersecting Model'!$C$15-'Intersecting Model'!$C$9/5280/1.1508)*3600/'Intersecting Model'!I$31)","v":73.520536949453614}]
[null,"Small - T",{"$f":"$O$18+$C$1+(('Intersecting Model'!$C$15-'Intersecting Model'!$C$9/5280/1.1508)*3600/'Intersecting Model'!C$31)","v":101.57071548138397},{"$f":"$O$18+$C$1+(('Intersecting Model'!$C$15-'Intersecting Model'!$C$9/5280/1.1508)*3600/'Intersecting Model'!D$31)","v":94.360679774997905},{"$f":"$O$18+$C$1+(('Intersecting Model'!$C$15-'Intersecting Model'!$C$9/5280/1.1508)*3600/'Intersecting Model'!E$31)","v":83.545626215418793},{"$f":"$O$18+$C$1+(('Intersecting Model'!$C$15-'Intersecting Model'!$C$9/5280/1.1508)*3600/'Intersecting Model'!F$31)","v":79.385990230965291},{"$f":"$O$18+$C$1+(('Intersecting Model'!$C$15-'Intersecting Model'!$C$9/5280/1.1508)*3600/'Intersecting Model'!G$31)","v":77.537263126763733},{"$f":"$O$18+$C$1+(('Intersecting Model'!$C$15-'Intersecting Model'!$C$9/5280/1.1508)*3600/'Intersecting Model'!H$31)","v":75.820587958576567},{"$f":"$O$18+$C$1+(('Intersecting Model'!$C$15-'Intersecting Model'!$C$9/5280/1.1508)*3600/'Intersecting Model'!I$31)","v":72.73057265583968}]
[null,"Small +",{"$f":"$P$18+$C$1+(('Intersecting Model'!$C$15-'Intersecting Model'!$C$9/5280/1.1508)*3600/'Intersecting Model'!C$31)","v":100.38576904096308},{"$f":"$P$18+$C$1+(('Intersecting Model'!$C$15-'Intersecting Model'!$C$9/5280/1.1508)*3600/'Intersecting Model'!D$31)","v":93.175733334577018},{"$f":"$P$18+$C$1+(('Intersecting Model'!$C$15-'Intersecting Model'!$C$9/5280/1.1508)*3600/'Intersecting Model'!E$31)","v":82.360679774997891},{"$f":"$P$18+$C$1+(('Intersecting Model'!$C$15-'Intersecting Model'!$C$9/5280/1.1508)*3600/'Intersecting Model'!F$31)","v":78.201043790544389},{"$f":"$P$18+$C$1+(('Intersecting Model'!$C$15-'Intersecting Model'!$C$9/5280/1.1508)*3600/'Intersecting Model'!G$31)","v":76.352316686342846},{"$f":"$P$18+$C$1+(('Intersecting Model'!$C$15-'Intersecting Model'!$C$9/5280/1.1508)*3600/'Intersecting Model'!H$31)","v":74.63564151815568},{"$f":"$P$18+$C$1+(('Intersecting Model'!$C$15-'Intersecting Model'!$C$9/5280/1.1508)*3600/'Intersecting Model'!I$31)","v":71.545626215418793}]
[null,"Large-TP",{"$f":"$Q$18+$C$1+(('Intersecting Model'!$C$15-'Intersecting Model'!$C$9/5280/1.1508)*3600/'Intersecting Model'!C$31)","v":99.930020410031972},{"$f":"$Q$18+$C$1+(('Intersecting Model'!$C$15-'Intersecting Model'!$C$9/5280/1.1508)*3600/'Intersecting Model'!D$31)","v":92.719984703645906},{"$f":"$Q$18+$C$1+(('Intersecting Model'!$C$15-'Intersecting Model'!$C$9/5280/1.1508)*3600/'Intersecting Model'!E$31)","v":81.904931144066779},{"$f":"$Q$18+$C$1+(('Intersecting Model'!$C$15-'Intersecting Model'!$C$9/5280/1.1508)*3600/'Intersecting Model'!F$31)","v":77.745295159613278},{"$f":"$Q$18+$C$1+(('Intersecting Model'!$C$15-'Intersecting Model'!$C$9/5280/1.1508)*3600/'Intersecting Model'!G$31)","v":75.896568055411734},{"$f":"$Q$18+$C$1+(('Intersecting Model'!$C$15-'Intersecting Model'!$C$9/5280/1.1508)*3600/'Intersecting Model'!H$31)","v":74.179892887224568},{"$f":"$Q$18+$C$1+(('Intersecting Model'!$C$15-'Intersecting Model'!$C$9/5280/1.1508)*3600/'Intersecting Model'!I$31)","v":71.089877584487681}]
[null,"Large-Jet",{"$f":"$R$18+$C$1+(('Intersecting Model'!$C$15-'Intersecting Model'!$C$9/5280/1.1508)*3600/'Intersecting Model'!C$31)","v":99.727465462951471},{"$f":"$R$18+$C$1+(('Intersecting Model'!$C$15-'Intersecting Model'!$C$9/5280/1.1508)*3600/'Intersecting Model'!D$31)","v":92.517429756565406},{"$f":"$R$18+$C$1+(('Intersecting Model'!$C$15-'Intersecting Model'!$C$9/5280/1.1508)*3600/'Intersecting Model'!E$31)","v":81.702376196986293},{"$f":"$R$18+$C$1+(('Intersecting Model'!$C$15-'Intersecting Model'!$C$9/5280/1.1508)*3600/'Intersecting Model'!F$31)","v":77.542740212532792},{"$f":"$R$18+$C$1+(('Intersecting Model'!$C$15-'Intersecting Model'!$C$9/5280/1.1508)*3600/'Intersecting Model'!G$31)","v":75.694013108331234},{"$f":"$R$18+$C$1+(('Intersecting Model'!$C$15-'Intersecting Model'!$C$9/5280/1.1508)*3600/'Intersecting Model'!H$31)","v":73.977337940144068},{"$f":"$R$18+$C$1+(('Intersecting Model'!$C$15-'Intersecting Model'!$C$9/5280/1.1508)*3600/'Intersecting Model'!I$31)","v":70.887322637407181}]
[null,"Large-757",{"$f":"$S$18+$C$1+(('Intersecting Model'!$C$15-'Intersecting Model'!$C$9/5280/1.1508)*3600/'Intersecting Model'!C$31)","v":99.539378726376725},{"$f":"$S$18+$C$1+(('Intersecting Model'!$C$15-'Intersecting Model'!$C$9/5280/1.1508)*3600/'Intersecting Model'!D$31)","v":92.32934301999066},{"$f":"$S$18+$C$1+(('Intersecting Model'!$C$15-'Intersecting Model'!$C$9/5280/1.1508)*3600/'Intersecting Model'!E$31)","v":81.514289460411547},{"$f":"$S$18+$C$1+(('Intersecting Model'!$C$15-'Intersecting Model'!$C$9/5280/1.1508)*3600/'Intersecting Model'!F$31)","v":77.354653475958045},{"$f":"$S$18+$C$1+(('Intersecting Model'!$C$15-'Intersecting Model'!$C$9/5280/1.1508)*3600/'Intersecting Model'!G$31)","v":75.505926371756487},{"$f":"$S$18+$C$1+(('Intersecting Model'!$C$15-'Intersecting Model'!$C$9/5280/1.1508)*3600/'Intersecting Model'!H$31)","v":73.789251203569336},{"$f":"$S$18+$C$1+(('Intersecting Model'!$C$15-'Intersecting Model'!$C$9/5280/1.1508)*3600/'Intersecting Model'!I$31)","v":70.699235900832434}]
[null,"Heavy",{"$f":"$T$18+$C$1+(('Intersecting Model'!$C$15-'Intersecting Model'!$C$9/5280/1.1508)*3600/'Intersecting Model'!C$31)","v":99.200822600542182},{"$f":"$T$18+$C$1+(('Intersecting Model'!$C$15-'Intersecting Model'!$C$9/5280/1.1508)*3600/'Intersecting Model'!D$31)","v":91.990786894156116},{"$f":"$T$18+$C$1+(('Intersecting Model'!$C$15-'Intersecting Model'!$C$9/5280/1.1508)*3600/'Intersecting Model'!E$31)","v":81.175733334577004},{"$f":"$T$18+$C$1+(('Intersecting Model'!$C$15-'Intersecting Model'!$C$9/5280/1.1508)*3600/'Intersecting Model'!F$31)","v":77.016097350123502},{"$f":"$T$18+$C$1+(('Intersecting Model'!$C$15-'Intersecting Model'!$C$9/5280/1.1508)*3600/'Intersecting Model'!G$31)","v":75.167370245921944},{"$f":"$T$18+$C$1+(('Intersecting Model'!$C$15-'Intersecting Model'!$C$9/5280/1.1508)*3600/'Intersecting Model'!H$31)","v":73.450695077734792},{"$f":"$T$18+$C$1+(('Intersecting Model'!$C$15-'Intersecting Model'!$C$9/5280/1.1508)*3600/'Intersecting Model'!I$31)","v":70.360679774997891}]
[]
[null,"IMC Average Time Required for Departure between Arrivals",null,null,null,"Time in Seconds"]
[null,null,"Small - S","Small - T","Small +","Large-TP","Large-Jet","Large-757","Heavy"]
[null,"Small - S",{"$f":"$N$18+$C$1+(('Intersecting Model'!$C$16-'Intersecting Model'!$C$9/5280/1.1508)*3600/'Intersecting Model'!C$31)","v":102.36067977499789},{"$f":"$N$18+$C$1+(('Intersecting Model'!$C$16-'Intersecting Model'!$C$9/5280/1.1508)*3600/'Intersecting Model'!D$31)","v":95.150644068611825},{"$f":"$N$18+$C$1+(('Intersecting Model'!$C$16-'Intersecting Model'!$C$9/5280/1.1508)*3600/'Intersecting Model'!E$31)","v":84.335590509032727},{"$f":"$N$18+$C$1+(('Intersecting Model'!$C$16-'Intersecting Model'!$C$9/5280/1.1508)*3600/'Intersecting Model'!F$31)","v":80.175954524579225},{"$f":"$N$18+$C$1+(('Intersecting Model'!$C$16-'Intersecting Model'!$C$9/5280/1.1508)*3600/'Intersecting Model'!G$31)","v":78.327227420377653},{"$f":"$N$18+$C$1+(('Intersecting Model'!$C$16-'Intersecting Model'!$C$9/5280/1.1508)*3600/'Intersecting Model'!H$31)","v":76.610552252190502},{"$f":"$N$18+$C$1+(('Intersecting Model'!$C$16-'Intersecting Model'!$C$9/5280/1.1508)*3600/'Intersecting Model'!I$31)","v":73.520536949453614}]
[null,"Small - T",{"$f":"$O$18+$C$1+(('Intersecting Model'!$C$16-'Intersecting Model'!$C$9/5280/1.1508)*3600/'Intersecting Model'!C$31)","v":101.57071548138397},{"$f":"$O$18+$C$1+(('Intersecting Model'!$C$16-'Intersecting Model'!$C$9/5280/1.1508)*3600/'Intersecting Model'!D$31)","v":94.360679774997905},{"$f":"$O$18+$C$1+(('Intersecting Model'!$C$16-'Intersecting Model'!$C$9/5280/1.1508)*3600/'Intersecting Model'!E$31)","v":83.545626215418793},{"$f":"$O$18+$C$1+(('Intersecting Model'!$C$16-'Intersecting Model'!$C$9/5280/1.1508)*3600/'Intersecting Model'!F$31)","v":79.385990230965291},{"$f":"$O$18+$C$1+(('Intersecting Model'!$C$16-'Intersecting Model'!$C$9/5280/1.1508)*3600/'Intersecting Model'!G$31)","v":77.537263126763733},{"$f":"$O$18+$C$1+(('Intersecting Model'!$C$16-'Intersecting Model'!$C$9/5280/1.1508)*3600/'Intersecting Model'!H$31)","v":75.820587958576567},{"$f":"$O$18+$C$1+(('Intersecting Model'!$C$16-'Intersecting Model'!$C$9/5280/1.1508)*3600/'Intersecting Model'!I$31)","v":72.73057265583968}]
[null,"Small +",{"$f":"$P$18+$C$1+(('Intersecting Model'!$C$16-'Intersecting Model'!$C$9/5280/1.1508)*3600/'Intersecting Model'!C$31)","v":100.38576904096308},{"$f":"$P$18+$C$1+(('Intersecting Model'!$C$16-'Intersecting Model'!$C$9/5280/1.1508)*3600/'Intersecting Model'!D$31)","v":93.175733334577018},{"$f":"$P$18+$C$1+(('Intersecting Model'!$C$16-'Intersecting Model'!$C$9/5280/1.1508)*3600/'Intersecting Model'!E$31)","v":82.360679774997891},{"$f":"$P$18+$C$1+(('Intersecting Model'!$C$16-'Intersecting Model'!$C$9/5280/1.1508)*3600/'Intersecting Model'!F$31)","v":78.201043790544389},{"$f":"$P$18+$C$1+(('Intersecting Model'!$C$16-'Intersecting Model'!$C$9/5280/1.1508)*3600/'Intersecting Model'!G$31)","v":76.352316686342846},{"$f":"$P$18+$C$1+(('Intersecting Model'!$C$16-'Intersecting Model'!$C$9/5280/1.1508)*3600/'Intersecting Model'!H$31)","v":74.63564151815568},{"$f":"$P$18+$C$1+(('Intersecting Model'!$C$16-'Intersecting Model'!$C$9/5280/1.1508)*3600/'Intersecting Model'!I$31)","v":71.545626215418793}]
[null,"Large-TP",{"$f":"$Q$18+$C$1+(('Intersecting Model'!$C$16-'Intersecting Model'!$C$9/5280/1.1508)*3600/'Intersecting Model'!C$31)","v":99.930020410031972},{"$f":"$Q$18+$C$1+(('Intersecting Model'!$C$16-'Intersecting Model'!$C$9/5280/1.1508)*3600/'Intersecting Model'!D$31)","v":92.719984703645906},{"$f":"$Q$18+$C$1+(('Intersecting Model'!$C$16-'Intersecting Model'!$C$9/5280/1.1508)*3600/'Intersecting Model'!E$31)","v":81.904931144066779},{"$f":"$Q$18+$C$1+(('Intersecting Model'!$C$16-'Intersecting Model'!$C$9/5280/1.1508)*3600/'Intersecting Model'!F$31)","v":77.745295159613278},{"$f":"$Q$18+$C$1+(('Intersecting Model'!$C$16-'Intersecting Model'!$C$9/5280/1.1508)*3600/'Intersecting Model'!G$31)","v":75.896568055411734},{"$f":"$Q$18+$C$1+(('Intersecting Model'!$C$16-'Intersecting Model'!$C$9/5280/1.1508)*3600/'Intersecting Model'!H$31)","v":74.179892887224568},{"$f":"$Q$18+$C$1+(('Intersecting Model'!$C$16-'Intersecting Model'!$C$9/5280/1.1508)*3600/'Intersecting Model'!I$31)","v":71.089877584487681}]
[null,"Large-Jet",{"$f":"$R$18+$C$1+(('Intersecting Model'!$C$16-'Intersecting Model'!$C$9/5280/1.1508)*3600/'Intersecting Model'!C$31)","v":99.727465462951471},{"$f":"$R$18+$C$1+(('Intersecting Model'!$C$16-'Intersecting Model'!$C$9/5280/1.1508)*3600/'Intersecting Model'!D$31)","v":92.517429756565406},{"$f":"$R$18+$C$1+(('Intersecting Model'!$C$16-'Intersecting Model'!$C$9/5280/1.1508)*3600/'Intersecting Model'!E$31)","v":81.702376196986293},{"$f":"$R$18+$C$1+(('Intersecting Model'!$C$16-'Intersecting Model'!$C$9/5280/1.1508)*3600/'Intersecting Model'!F$31)","v":77.542740212532792},{"$f":"$R$18+$C$1+(('Intersecting Model'!$C$16-'Intersecting Model'!$C$9/5280/1.1508)*3600/'Intersecting Model'!G$31)","v":75.694013108331234},{"$f":"$R$18+$C$1+(('Intersecting Model'!$C$16-'Intersecting Model'!$C$9/5280/1.1508)*3600/'Intersecting Model'!H$31)","v":73.977337940144068},{"$f":"$R$18+$C$1+(('Intersecting Model'!$C$16-'Intersecting Model'!$C$9/5280/1.1508)*3600/'Intersecting Model'!I$31)","v":70.887322637407181}]
[null,"Large-757",{"$f":"$S$18+$C$1+(('Intersecting Model'!$C$16-'Intersecting Model'!$C$9/5280/1.1508)*3600/'Intersecting Model'!C$31)","v":99.539378726376725},{"$f":"$S$18+$C$1+(('Intersecting Model'!$C$16-'Intersecting Model'!$C$9/5280/1.1508)*3600/'Intersecting Model'!D$31)","v":92.32934301999066},{"$f":"$S$18+$C$1+(('Intersecting Model'!$C$16-'Intersecting Model'!$C$9/5280/1.1508)*3600/'Intersecting Model'!E$31)","v":81.514289460411547},{"$f":"$S$18+$C$1+(('Intersecting Model'!$C$16-'Intersecting Model'!$C$9/5280/1.1508)*3600/'Intersecting Model'!F$31)","v":77.354653475958045},{"$f":"$S$18+$C$1+(('Intersecting Model'!$C$16-'Intersecting Model'!$C$9/5280/1.1508)*3600/'Intersecting Model'!G$31)","v":75.505926371756487},{"$f":"$S$18+$C$1+(('Intersecting Model'!$C$16-'Intersecting Model'!$C$9/5280/1.1508)*3600/'Intersecting Model'!H$31)","v":73.789251203569336},{"$f":"$S$18+$C$1+(('Intersecting Model'!$C$16-'Intersecting Model'!$C$9/5280/1.1508)*3600/'Intersecting Model'!I$31)","v":70.699235900832434}]
[null,"Heavy",{"$f":"$T$18+$C$1+(('Intersecting Model'!$C$16-'Intersecting Model'!$C$9/5280/1.1508)*3600/'Intersecting Model'!C$31)","v":99.200822600542182},{"$f":"$T$18+$C$1+(('Intersecting Model'!$C$16-'Intersecting Model'!$C$9/5280/1.1508)*3600/'Intersecting Model'!D$31)","v":91.990786894156116},{"$f":"$T$18+$C$1+(('Intersecting Model'!$C$16-'Intersecting Model'!$C$9/5280/1.1508)*3600/'Intersecting Model'!E$31)","v":81.175733334577004},{"$f":"$T$18+$C$1+(('Intersecting Model'!$C$16-'Intersecting Model'!$C$9/5280/1.1508)*3600/'Intersecting Model'!F$31)","v":77.016097350123502},{"$f":"$T$18+$C$1+(('Intersecting Model'!$C$16-'Intersecting Model'!$C$9/5280/1.1508)*3600/'Intersecting Model'!G$31)","v":75.167370245921944},{"$f":"$T$18+$C$1+(('Intersecting Model'!$C$16-'Intersecting Model'!$C$9/5280/1.1508)*3600/'Intersecting Model'!H$31)","v":73.450695077734792},{"$f":"$T$18+$C$1+(('Intersecting Model'!$C$16-'Intersecting Model'!$C$9/5280/1.1508)*3600/'Intersecting Model'!I$31)","v":70.360679774997891},null,null,null,null,"Departures between Arrivals",null,"VMC"]
["Runway 2 Departures",null,"alternate runway as first release",null,null,null,null,null,null,null,null,null,null,{"$f":"SUMPRODUCT(N136:N142,C7:C13)+SUMPRODUCT(O136:O142,D7:D13)+SUMPRODUCT(P136:P142,E7:E13)+SUMPRODUCT(Q136:Q142,F7:F13)+SUMPRODUCT(R136:R142,G7:G13)+SUMPRODUCT(T136:T142,I7:I13)+SUMPRODUCT(S136:S142,H7:H13)","v":1.1100000000000003},{"$f":"N135*3600/M77","v":41.384179146662177}]
[null,"VMC Average Required for Departure between Arrivals",null,null,null,"Time in Seconds",null,null,null,null,null,null,null,{"$f":"IF(C138>=0,TRUNC(C138/$M$87,0)+1,0)","v":1},{"$f":"IF(D138>=0,TRUNC(D138/$M$87,0)+1,0)","v":1},1,1,1,1,1]
[null,null,"Small - S","Small - T","Small +","Large-TP","Large-Jet","Large-757","Heavy",null,null,null,null,1,1,1,1,1,1,1]
[null,"Small - S",{"$f":"C58-C118","v":3.2493202250021085},{"$f":"D58-D118","v":2.8593559313881798},2.2744094909672725,2.0494300908053873,1.9494392462890175,1.8565906049523448,1.6894630505463937,null,null,null,null,2,1,1,1,1,1,1]
[null,"Small - T",{"$f":"C59-C119","v":32.039284518616043},3.6493202250021,3.0643737845812069,2.8393943844193217,2.7394035399029377,2.6465548985662792,2.4794273441603281,null,null,null,null,2,2,1,1,1,1,1]
[null,"Small +",{"$f":"C60-C120","v":75.22423095903693},46.834266665423002,4.2493202250021085,4.0243408248402233,3.9243499803238251,3.8315013389871666,3.6643737845812154,null,null,null,null,2,2,1,1,1,1,1]
[null,"Large-TP",{"$f":"C61-C121","v":123.8338257438142},92.243861450200228,44.858915009779366,4.4800894557713349,4.3800986112549367,4.2872499699182782,5.1218029213742255,null,null,null,null,{"$f":"IF(C143>=0,TRUNC(C143/$M$87,0)+1,0)","v":3},{"$f":"IF(D143>=0,TRUNC(D143/$M$87,0)+1,0)","v":2},2,1,1,1,1]
[null,"Large-Jet",{"$f":"C62-C122","v":131.21586787038189},99.625903576767911,52.240957136347035,11.862131582339003,4.5826535583354371,4.4898049169987786,6.3243578684547259,null,null,null,null,{"$f":"IF(C144>=0,TRUNC(C144/$M$87,0)+1,0)","v":4},{"$f":"IF(D144>=0,TRUNC(D144/$M$87,0)+1,0)","v":3},2,2,1,1,1]
[null,"Large-757",{"$f":"C63-C123","v":178.07062127362329},142.48065698000934,89.095710539588467,40.870731139426596,32.770740294910198,25.249320225002094,23.710764099167562]
[null,"Heavy",{"$f":"C64-C124","v":226.40917739945783},187.21921310584386,98.43426666542301,78.13236418833803,69.109296420744727,60.730733493693748,24.049320225002106]
[null,null,null,null,null,null,null,null,null,null,null,null,null,"Departures between Arrivals",null,"IMC"]
[null,"IMC Average Required for Departure between Arrivals",null,null,null,"Time in Seconds",null,null,null,null,null,null,null,{"$f":"SUMPRODUCT(N147:N153,C7:C13)+SUMPRODUCT(O147:O153,D7:D13)+SUMPRODUCT(P147:P153,E7:E13)+SUMPRODUCT(Q147:Q153,F7:F13)+SUMPRODUCT(R147:R153,G7:G13)+SUMPRODUCT(T147:T153,I7:I13)","v":1.1200000000000003},{"$f":"N146*3600/M97","v":31.437088038960507}]
[null,null,"Small - S","Small - T","Small +","Large-TP","Large-Jet","Large-757","Heavy",null,null,null,null,{"$f":"IF(C148>=0,TRUNC(C148/$M$107,0)+1,0)","v":1},1,1,1,1,1,1]
[null,"Small - S",{"$f":"C68-C128","v":47.249320225002123},{"$f":"D68-D128","v":42.459355931388188},35.274409490967273,32.510968552343854,31.282772579622346,30.142304890666637,28.089463050546385,null,null,null,null,{"$f":"IF(C152>=0,TRUNC(C152/$M$107,0)+1,0)","v":3},2,2,1,1,1,1]
[null,"Small - T",{"$f":"C69-C129","v":76.039284518616043},43.249320225002108,36.064373784581207,33.300932845957789,32.072736873236266,30.932269184280571,28.87942734416032,null,null,null,null,{"$f":"IF(C150>=0,TRUNC(C150/$M$107,0)+1,0)","v":2},2,1,1,1,1,1]
[null,"Small +",{"$f":"C70-C130","v":119.22423095903693},86.434266665422996,37.249320225002108,34.48587928637869,33.257683313657154,32.117215624701458,30.064373784581207,null,null,null,null,3,2,2,1,1,1,1]
[null,"Large-TP",{"$f":"C71-C131","v":175.83382574381423},139.04386145020024,83.858915009779366,34.941627917309802,33.713431944588265,32.57296425563257,30.520122415512319,null,null,null,null,3,2,2,1,1,1,1]
[null,"Large-Jet",{"$f":"C72-C132","v":183.21586787038191},146.42590357676792,91.240957136347035,42.32367004387747,33.915986891668766,32.77551920271307,30.722677362592819,null,null,null,null,{"$f":"IF(C153>=0,TRUNC(C153/$M$107,0)+1,0)","v":4},{"$f":"IF(D153>=0,TRUNC(D153/$M$107,0)+1,0)","v":3},2,2,1,1,1]
[null,"Large-757",{"$f":"C73-C133","v":230.07062127362329},189.28065698000935,128.09571053958848,76.87073113942661,67.437406961576869,58.677891653573511,54.910764099167565,null,null,null,null,{"$f":"IF(C154>=0,TRUNC(C154/$M$107,0)+1,0)","v":4},{"$f":"IF(D154>=0,TRUNC(D154/$M$107,0)+1,0)","v":4},2,2,2,2,1]
[null,"Heavy",{"$f":"C74-C134","v":282.4091773994578},237.6192131058439,140.43426666542302,116.9015949575688,106.44262975407804,96.730733493693748,55.249320225002108]
["Runway 1 Departures",null,"arrival runway for second release"]
[null,"VMC Average Required for Departure between Arrivals",null,null,null,"Time in Seconds",null,null,null,null,null,null,null,"Departures between Arrivals",null,"VMC"]
[null,null,"Small - S","Small - T","Small +","Large-TP","Large-Jet","Large-757","Heavy",null,null,null,null,{"$f":"SUMPRODUCT(N158:N164,C7:C13)+SUMPRODUCT(O158:O164,D7:D13)+SUMPRODUCT(P158:P164,E7:E13)+SUMPRODUCT(Q158:Q164,F7:F13)+SUMPRODUCT(S158:S164,G7:G13)+SUMPRODUCT(T158:T164,I7:I13)","v":0.42},{"$f":"N157*3600/M77","v":15.658878596034331}]
[null,"Small - S",{"$f":"C138-'Intersecting Work Tab (1)'!C$2-C$176","v":-6.3899999999999917},{"$f":"D138-'Intersecting Work Tab (1)'!D$2-D$176","v":-6.7799642936139231},{"$f":"E138-'Intersecting Work Tab (1)'!E$2-E$176","v":-7.3649107340348294},{"$f":"F138-'Intersecting Work Tab (1)'!F$2-F$176","v":-7.5898901341967129},{"$f":"G138-'Intersecting Work Tab (1)'!G$2-G$176","v":-7.6898809787130853},{"$f":"H138-'Intersecting Work Tab (1)'!H$2-H$176","v":-7.7827296200497562},{"$f":"I138-'Intersecting Work Tab (1)'!I$2-I$176","v":-7.9498571744557101},null,null,null,null,{"$f":"IF(C158>=0,TRUNC(C158/($M$87),0)+1,0)","v":0},{"$f":"IF(D158>=0,TRUNC(D158/($M$87),0)+1,0)","v":0},0,0,0,0,0]
[null,"Small - T",{"$f":"C139-'Intersecting Work Tab (1)'!C$2-C$176","v":22.399964293613941},{"$f":"D139-'Intersecting Work Tab (1)'!D$2-D$176","v":-5.9900000000000029},{"$f":"E139-'Intersecting Work Tab (1)'!E$2-E$176","v":-6.574946440420895},{"$f":"F139-'Intersecting Work Tab (1)'!F$2-F$176","v":-6.7999258405827785},{"$f":"G139-'Intersecting Work Tab (1)'!G$2-G$176","v":-6.8999166850991651},{"$f":"H139-'Intersecting Work Tab (1)'!H$2-H$176","v":-6.9927653264358218},{"$f":"I139-'Intersecting Work Tab (1)'!I$2-I$176","v":-7.1598928808417757},null,null,null,null,{"$f":"IF(C159>=0,TRUNC(C159/($M$87),0)+1,0)","v":1},{"$f":"IF(D159>=0,TRUNC(D159/($M$87),0)+1,0)","v":0},{"$f":"IF(E159>=0,TRUNC(E159/($M$87),0)+1,0)","v":0},{"$f":"IF(F159>=0,TRUNC(F159/($M$87),0)+1,0)","v":0},{"$f":"IF(G159>=0,TRUNC(G159/($M$87),0)+1,0)","v":0},{"$f":"IF(H159>=0,TRUNC(H159/($M$87),0)+1,0)","v":0},{"$f":"IF(I159>=0,TRUNC(I159/($M$87),0)+1,0)","v":0}]
[null,"Small +",{"$f":"C140-'Intersecting Work Tab (1)'!C$2-C$176","v":65.584910734034821},{"$f":"D140-'Intersecting Work Tab (1)'!D$2-D$176","v":37.194946440420892},{"$f":"E140-'Intersecting Work Tab (1)'!E$2-E$176","v":-5.3899999999999935},{"$f":"F140-'Intersecting Work Tab (1)'!F$2-F$176","v":-5.6149794001618769},{"$f":"G140-'Intersecting Work Tab (1)'!G$2-G$176","v":-5.7149702446782777},{"$f":"H140-'Intersecting Work Tab (1)'!H$2-H$176","v":-5.8078188860149345},{"$f":"I140-'Intersecting Work Tab (1)'!I$2-I$176","v":-5.9749464404208883},null,null,null,null,1,1,0,0,0,0,0]
[null,"Large-TP",{"$f":"C141-'Intersecting Work Tab (1)'!C$2-C$176","v":114.19450551881209},{"$f":"D141-'Intersecting Work Tab (1)'!D$2-D$176","v":82.604541225198133},{"$f":"E141-'Intersecting Work Tab (1)'!E$2-E$176","v":35.219594784777264},{"$f":"F141-'Intersecting Work Tab (1)'!F$2-F$176","v":-5.1592307692307653},{"$f":"G141-'Intersecting Work Tab (1)'!G$2-G$176","v":-5.2592216137471661},{"$f":"H141-'Intersecting Work Tab (1)'!H$2-H$176","v":-5.3520702550838228},{"$f":"I141-'Intersecting Work Tab (1)'!I$2-I$176","v":-4.5175173036278782},null,null,null,null,2,2,1,0,0,0,0]
[null,"Large-Jet",{"$f":"C142-'Intersecting Work Tab (1)'!C$2-C$176","v":121.57654764537978},{"$f":"D142-'Intersecting Work Tab (1)'!D$2-D$176","v":89.986583351765816},{"$f":"E142-'Intersecting Work Tab (1)'!E$2-E$176","v":42.601636911344933},{"$f":"F142-'Intersecting Work Tab (1)'!F$2-F$176","v":2.2228113573369033},{"$f":"G142-'Intersecting Work Tab (1)'!G$2-G$176","v":-5.0566666666666658},{"$f":"H142-'Intersecting Work Tab (1)'!H$2-H$176","v":-5.1495153080033225},{"$f":"I142-'Intersecting Work Tab (1)'!I$2-I$176","v":-3.3149623565473778},null,null,null,null,2,2,1,1,0,0,0]
[null,"Large-757",{"$f":"C143-'Intersecting Work Tab (1)'!C$2-C$176","v":168.43130104862118},{"$f":"D143-'Intersecting Work Tab (1)'!D$2-D$176","v":132.84133675500723},{"$f":"E143-'Intersecting Work Tab (1)'!E$2-E$176","v":79.456390314586372},{"$f":"F143-'Intersecting Work Tab (1)'!F$2-F$176","v":31.231410914424494},{"$f":"G143-'Intersecting Work Tab (1)'!G$2-G$176","v":23.131420069908096},{"$f":"H143-'Intersecting Work Tab (1)'!H$2-H$176","v":15.609999999999992},{"$f":"I143-'Intersecting Work Tab (1)'!I$2-I$176","v":14.07144387416546},null,null,null,null,3,2,2,1,1,1,1]
[null,"Heavy",{"$f":"C144-'Intersecting Work Tab (1)'!C$2-C$176","v":216.76985717445572},{"$f":"D144-'Intersecting Work Tab (1)'!D$2-D$176","v":177.57989288084175},{"$f":"E144-'Intersecting Work Tab (1)'!E$2-E$176","v":88.794946440420915},{"$f":"F144-'Intersecting Work Tab (1)'!F$2-F$176","v":68.493043963335936},{"$f":"G144-'Intersecting Work Tab (1)'!G$2-G$176","v":59.469976195742618},{"$f":"H144-'Intersecting Work Tab (1)'!H$2-H$176","v":51.091413268691646},{"$f":"I144-'Intersecting Work Tab (1)'!I$2-I$176","v":14.410000000000004},null,null,null,null,3,3,2,1,1,1,1]
[]
[null,"IMC Average Required for Departure between Arrivals",null,null,null,"Time in Seconds"]
[null,null,"Small - S","Small - T","Small +","Large-TP","Large-Jet","Large-757","Heavy",null,null,null,null,"Departures between Arrivals",null,"IMC"]
[null,"Small - S",{"$f":"C148-'Intersecting Work Tab (1)'!C$2-C$176","v":37.610000000000021},{"$f":"D148-'Intersecting Work Tab (1)'!D$2-D$176","v":32.820035706386079},{"$f":"E148-'Intersecting Work Tab (1)'!E$2-E$176","v":25.635089265965171},{"$f":"F148-'Intersecting Work Tab (1)'!F$2-F$176","v":22.871648327341752},{"$f":"G148-'Intersecting Work Tab (1)'!G$2-G$176","v":21.643452354620244},{"$f":"H148-'Intersecting Work Tab (1)'!H$2-H$176","v":20.502984665664535},{"$f":"I148-'Intersecting Work Tab (1)'!I$2-I$176","v":18.450142825544283},null,null,null,null,{"$f":"SUMPRODUCT(N169:N175,C7:C13)+SUMPRODUCT(O169:O175,D7:D13)+SUMPRODUCT(P169:P175,E7:E13)+SUMPRODUCT(Q169:Q175,F7:F13)+SUMPRODUCT(R169:R175,G7:G13)+SUMPRODUCT(T169:T175,I7:I13)","v":1.095},{"$f":"N168*3600/M97","v":30.735367323805129}]
[null,"Small - T",{"$f":"C149-'Intersecting Work Tab (1)'!C$2-C$176","v":66.399964293613948},{"$f":"D149-'Intersecting Work Tab (1)'!D$2-D$176","v":33.61},{"$f":"E149-'Intersecting Work Tab (1)'!E$2-E$176","v":26.425053559579105},{"$f":"F149-'Intersecting Work Tab (1)'!F$2-F$176","v":23.661612620955687},{"$f":"G149-'Intersecting Work Tab (1)'!G$2-G$176","v":22.433416648234164},{"$f":"H149-'Intersecting Work Tab (1)'!H$2-H$176","v":21.292948959278469},{"$f":"I149-'Intersecting Work Tab (1)'!I$2-I$176","v":19.240107119158218},null,null,null,null,{"$f":"IF(C168>=0,TRUNC(C168/($M$87),0)+1,0)","v":1},{"$f":"IF(D168>=0,TRUNC(D168/($M$87),0)+1,0)","v":1},1,1,1,1,1]
[null,"Small +",{"$f":"C150-'Intersecting Work Tab (1)'!C$2-C$176","v":109.58491073403482},{"$f":"D150-'Intersecting Work Tab (1)'!D$2-D$176","v":76.794946440420901},{"$f":"E150-'Intersecting Work Tab (1)'!E$2-E$176","v":27.610000000000007},{"$f":"F150-'Intersecting Work Tab (1)'!F$2-F$176","v":24.846559061376588},{"$f":"G150-'Intersecting Work Tab (1)'!G$2-G$176","v":23.618363088655052},{"$f":"H150-'Intersecting Work Tab (1)'!H$2-H$176","v":22.477895399699356},{"$f":"I150-'Intersecting Work Tab (1)'!I$2-I$176","v":20.425053559579105},null,null,null,null,{"$f":"IF(C169>=0,TRUNC(C169/($M$87),0)+1,0)","v":1},{"$f":"IF(D169>=0,TRUNC(D169/($M$87),0)+1,0)","v":1},{"$f":"IF(E169>=0,TRUNC(E169/($M$87),0)+1,0)","v":1},{"$f":"IF(F169>=0,TRUNC(F169/($M$87),0)+1,0)","v":1},{"$f":"IF(G169>=0,TRUNC(G169/($M$87),0)+1,0)","v":1},{"$f":"IF(H169>=0,TRUNC(H169/($M$87),0)+1,0)","v":1},{"$f":"IF(I169>=0,TRUNC(I169/($M$87),0)+1,0)","v":1}]
[null,"Large-TP",{"$f":"C151-'Intersecting Work Tab (1)'!C$2-C$176","v":166.19450551881212},{"$f":"D151-'Intersecting Work Tab (1)'!D$2-D$176","v":129.40454122519813},{"$f":"E151-'Intersecting Work Tab (1)'!E$2-E$176","v":74.219594784777257},{"$f":"F151-'Intersecting Work Tab (1)'!F$2-F$176","v":25.3023076923077},{"$f":"G151-'Intersecting Work Tab (1)'!G$2-G$176","v":24.074111719586163},{"$f":"H151-'Intersecting Work Tab (1)'!H$2-H$176","v":22.933644030630468},{"$f":"I151-'Intersecting Work Tab (1)'!I$2-I$176","v":20.880802190510217},null,null,null,null,2,2,1,1,1,1,1]
[null,"Large-Jet",{"$f":"C152-'Intersecting Work Tab (1)'!C$2-C$176","v":173.5765476453798},{"$f":"D152-'Intersecting Work Tab (1)'!D$2-D$176","v":136.78658335176581},{"$f":"E152-'Intersecting Work Tab (1)'!E$2-E$176","v":81.60163691134494},{"$f":"F152-'Intersecting Work Tab (1)'!F$2-F$176","v":32.684349818875368},{"$f":"G152-'Intersecting Work Tab (1)'!G$2-G$176","v":24.276666666666664},{"$f":"H152-'Intersecting Work Tab (1)'!H$2-H$176","v":23.136198977710968},{"$f":"I152-'Intersecting Work Tab (1)'!I$2-I$176","v":21.083357137590717},null,null,null,null,3,2,2,1,1,1,1]
[null,"Large-757",{"$f":"C153-'Intersecting Work Tab (1)'!C$2-C$176","v":220.43130104862118},{"$f":"D153-'Intersecting Work Tab (1)'!D$2-D$176","v":179.64133675500725},{"$f":"E153-'Intersecting Work Tab (1)'!E$2-E$176","v":118.45639031458637},{"$f":"F153-'Intersecting Work Tab (1)'!F$2-F$176","v":67.231410914424515},{"$f":"G153-'Intersecting Work Tab (1)'!G$2-G$176","v":57.79808673657476},{"$f":"H153-'Intersecting Work Tab (1)'!H$2-H$176","v":49.038571428571409},{"$f":"I153-'Intersecting Work Tab (1)'!I$2-I$176","v":45.271443874165463},null,null,null,null,3,2,2,1,1,1,1]
[null,"Heavy",{"$f":"C154-'Intersecting Work Tab (1)'!C$2-C$176","v":272.76985717445569},{"$f":"D154-'Intersecting Work Tab (1)'!D$2-D$176","v":227.97989288084179},{"$f":"E154-'Intersecting Work Tab (1)'!E$2-E$176","v":130.79494644042094},{"$f":"F154-'Intersecting Work Tab (1)'!F$2-F$176","v":107.26227473256671},{"$f":"G154-'Intersecting Work Tab (1)'!G$2-G$176","v":96.803309529075946},{"$f":"H154-'Intersecting Work Tab (1)'!H$2-H$176","v":87.091413268691653},{"$f":"I154-'Intersecting Work Tab (1)'!I$2-I$176","v":45.610000000000007},null,null,null,null,4,3,2,1,1,1,1]
[null,null,null,null,null,null,null,null,null,null,null,null,null,4,4,2,2,2,2,1]
[null,"Runway 1 Arrival Clearance Time",{"$f":"IF(('Intersecting Model'!$C$28-'Intersecting Work Tab (1)'!N18-'Intersecting Work Tab (1)'!$C$1)<=0,0,('Intersecting Model'!$C$28-'Intersecting Work Tab (1)'!N18-'Intersecting Work Tab (1)'!$C$1))","v":1.7396772888628149},{"$f":"IF(('Intersecting Model'!$C$28-'Intersecting Work Tab (1)'!O18-'Intersecting Work Tab (1)'!$C$1)<=0,0,('Intersecting Model'!$C$28-'Intersecting Work Tab (1)'!O18-'Intersecting Work Tab (1)'!$C$1))","v":2.5296415824767458},{"$f":"IF(('Intersecting Model'!$C$28-'Intersecting Work Tab (1)'!P18-'Intersecting Work Tab (1)'!$C$1)<=0,0,('Intersecting Model'!$C$28-'Intersecting Work Tab (1)'!P18-'Intersecting Work Tab (1)'!$C$1))","v":3.7145880228976367},{"$f":"IF(('Intersecting Model'!$C$28-'Intersecting Work Tab (1)'!Q18-'Intersecting Work Tab (1)'!$C$1)<=0,0,('Intersecting Model'!$C$28-'Intersecting Work Tab (1)'!Q18-'Intersecting Work Tab (1)'!$C$1))","v":4.1703366538287483},{"$f":"IF(('Intersecting Model'!$C$28-'Intersecting Work Tab (1)'!R18-'Intersecting Work Tab (1)'!$C$1)<=0,0,('Intersecting Model'!$C$28-'Intersecting Work Tab (1)'!R18-'Intersecting Work Tab (1)'!$C$1))","v":4.3728916009092451},{"$f":"IF(('Intersecting Model'!$C$28-'Intersecting Work Tab (1)'!S18-'Intersecting Work Tab (1)'!$C$1)<=0,0,('Intersecting Model'!$C$28-'Intersecting Work Tab (1)'!S18-'Intersecting Work Tab (1)'!$C$1))","v":4.5609783374839878},{"$f":"IF(('Intersecting Model'!$C$28-'Intersecting Work Tab (1)'!T18-'Intersecting Work Tab (1)'!$C$1)<=0,0,('Intersecting Model'!$C$28-'Intersecting Work Tab (1)'!T18-'Intersecting Work Tab (1)'!$C$1))","v":4.8995344633185312}]
[]
[]
[null,"previous formula for cell C168, same type as VMC",{"$f":"C148+'Intersecting Work Tab (1)'!C$2-'Intersecting Model'!$C$16*3600/'Intersecting Model'!C$31","v":-24.85103683885859}]

{"sheet":"Intersecting Work Tab (2)","index":16,"n_rows":155,"n_cols":20,"rows_kept":155,"cut":false,"hidden":true,"merged":[]}
["Departure Intersection Clearance - Rnwy 1 (Seconds)",null,{"$f":"IF('Intersecting Model'!$C$13='Intersecting Model'!$M$169,120,SQRT(2*'Intersecting Model'!$C$10/'Intersecting Model'!$H$13))","v":22.360679774997898},"Departure Intersection Clearance - Rnwy 2 (Seconds)",null,null,null,null,{"$f":"SQRT(2*'Intersecting Model'!$C$9/'Intersecting Model'!$H$13)","v":17.320508075688775},{"$f":"IF('Intersecting Model'!$C$13='Intersecting Model'!$M$169,120,SQRT(2*'Intersecting Model'!$C$10/'Intersecting Model'!$H$13))","v":22.360679774997898}]
["Arrival-Shortened ROT on Runway 1",null,{"$f":"'Intersecting Model'!$C$9/('Intersecting Model'!C31*1.1508*5280/3600)","v":7.8996429361392853},{"$f":"'Intersecting Model'!$C$9/('Intersecting Model'!D31*1.1508*5280/3600)","v":7.1096786425253571},{"$f":"'Intersecting Model'!$C$9/('Intersecting Model'!E31*1.1508*5280/3600)","v":5.9247322021044653},{"$f":"'Intersecting Model'!$C$9/('Intersecting Model'!F31*1.1508*5280/3600)","v":5.4689835711733519},{"$f":"'Intersecting Model'!$C$9/('Intersecting Model'!G31*1.1508*5280/3600)","v":5.2664286240928577},{"$f":"'Intersecting Model'!$C$9/('Intersecting Model'!H31*1.1508*5280/3600)","v":5.0783418875181132},{"$f":"'Intersecting Model'!$C$9/('Intersecting Model'!I31*1.1508*5280/3600)","v":4.7397857616835726}]
["Arrival-Shortened ROT on Runway 2",null,{"$f":"'Intersecting Model'!$C$10/('Intersecting Model'!C31*1.1508*5280/3600)","v":13.166071560232142},{"$f":"'Intersecting Model'!$C$10/('Intersecting Model'!D31*1.1508*5280/3600)","v":11.849464404208929},{"$f":"'Intersecting Model'!$C$10/('Intersecting Model'!E31*1.1508*5280/3600)","v":9.8745536701741088},{"$f":"'Intersecting Model'!$C$10/('Intersecting Model'!F31*1.1508*5280/3600)","v":9.1149726186222537},{"$f":"'Intersecting Model'!$C$10/('Intersecting Model'!G31*1.1508*5280/3600)","v":8.7773810401547632},{"$f":"'Intersecting Model'!$C$10/('Intersecting Model'!H31*1.1508*5280/3600)","v":8.4639031458635223},{"$f":"'Intersecting Model'!$C$10/('Intersecting Model'!I31*1.1508*5280/3600)","v":7.899642936139287}]
[]
[null,"Arrivals Pairing Probability Matrix",null,"(chance of landing behind an aircraft from each class)",null,null,null,null,null,null,0,"Calculated Cells"]
[null,null,"Small - S","Small - T","Small +","Large-TP","Large-Jet","Large-757","Heavy",null,0,"Linked Input Cells"]
[null,"Small - S",{"$f":"'Intersecting Model'!$C25*'Intersecting Model'!C25","v":0},{"$f":"'Intersecting Model'!$C25*'Intersecting Model'!D25","v":0},{"$f":"'Intersecting Model'!$C25*'Intersecting Model'!E25","v":0},{"$f":"'Intersecting Model'!$C25*'Intersecting Model'!F25","v":0},{"$f":"'Intersecting Model'!$C25*'Intersecting Model'!G25","v":0},{"$f":"'Intersecting Model'!$C25*'Intersecting Model'!H25","v":0},{"$f":"'Intersecting Model'!$C25*'Intersecting Model'!I25","v":0},null,0,"Linked Cells"]
[null,"Small - T",{"$f":"'Intersecting Model'!$D25*'Intersecting Model'!C25","v":0},{"$f":"'Intersecting Model'!$D25*'Intersecting Model'!D25","v":1.0000000000000002E-2},{"$f":"'Intersecting Model'!$D25*'Intersecting Model'!E25","v":0},{"$f":"'Intersecting Model'!$D25*'Intersecting Model'!F25","v":0.03},{"$f":"'Intersecting Model'!$D25*'Intersecting Model'!G25","v":0.05},{"$f":"'Intersecting Model'!$D25*'Intersecting Model'!H25","v":5.000000000000001E-3},{"$f":"'Intersecting Model'!$D25*'Intersecting Model'!I25","v":5.000000000000001E-3},null,null,"(within this worksheet)"]
[null,"Small +",{"$f":"'Intersecting Model'!$E25*'Intersecting Model'!C25","v":0},{"$f":"'Intersecting Model'!$E25*'Intersecting Model'!D25","v":0},{"$f":"'Intersecting Model'!$E25*'Intersecting Model'!E25","v":0},{"$f":"'Intersecting Model'!$E25*'Intersecting Model'!F25","v":0},{"$f":"'Intersecting Model'!$E25*'Intersecting Model'!G25","v":0},{"$f":"'Intersecting Model'!$E25*'Intersecting Model'!H25","v":0},{"$f":"'Intersecting Model'!$E25*'Intersecting Model'!I25","v":0}]
[null,"Large-TP",{"$f":"'Intersecting Model'!$F25*'Intersecting Model'!C25","v":0},{"$f":"'Intersecting Model'!$F25*'Intersecting Model'!D25","v":0.03},{"$f":"'Intersecting Model'!$F25*'Intersecting Model'!E25","v":0},{"$f":"'Intersecting Model'!$F25*'Intersecting Model'!F25","v":0.09},{"$f":"'Intersecting Model'!$F25*'Intersecting Model'!G25","v":0.15},{"$f":"'Intersecting Model'!$F25*'Intersecting Model'!H25","v":1.4999999999999999E-2},{"$f":"'Intersecting Model'!$F25*'Intersecting Model'!I25","v":1.4999999999999999E-2}]
[null,"Large-Jet",{"$f":"'Intersecting Model'!$G25*'Intersecting Model'!C25","v":0},{"$f":"'Intersecting Model'!$G25*'Intersecting Model'!D25","v":0.05},{"$f":"'Intersecting Model'!$G25*'Intersecting Model'!E25","v":0},{"$f":"'Intersecting Model'!$G25*'Intersecting Model'!F25","v":0.15},{"$f":"'Intersecting Model'!$G25*'Intersecting Model'!G25","v":0.25},{"$f":"'Intersecting Model'!$G25*'Intersecting Model'!H25","v":2.5000000000000001E-2},{"$f":"'Intersecting Model'!$G25*'Intersecting Model'!I25","v":2.5000000000000001E-2}]
[null,"Large-757",{"$f":"'Intersecting Model'!$H25*'Intersecting Model'!C25","v":0},{"$f":"'Intersecting Model'!$H25*'Intersecting Model'!D25","v":5.000000000000001E-3},{"$f":"'Intersecting Model'!$H25*'Intersecting Model'!E25","v":0},{"$f":"'Intersecting Model'!$H25*'Intersecting Model'!F25","v":1.4999999999999999E-2},{"$f":"'Intersecting Model'!$H25*'Intersecting Model'!G25","v":2.5000000000000001E-2},{"$f":"'Intersecting Model'!$H25*'Intersecting Model'!H25","v":2.5000000000000005E-3},{"$f":"'Intersecting Model'!$H25*'Intersecting Model'!I25","v":2.5000000000000005E-3},"Summary Check"]
[null,"Heavy",{"$f":"'Intersecting Model'!$I25*'Intersecting Model'!C25","v":0},{"$f":"'Intersecting Model'!$I25*'Intersecting Model'!D25","v":5.000000000000001E-3},{"$f":"'Intersecting Model'!$I25*'Intersecting Model'!E25","v":0},{"$f":"'Intersecting Model'!$I25*'Intersecting Model'!F25","v":1.4999999999999999E-2},{"$f":"'Intersecting Model'!$I25*'Intersecting Model'!G25","v":2.5000000000000001E-2},{"$f":"'Intersecting Model'!$I25*'Intersecting Model'!H25","v":2.5000000000000005E-3},{"$f":"'Intersecting Model'!$I25*'Intersecting Model'!I25","v":2.5000000000000005E-3},"Total = ",{"$f":"SUM(C7:I13)","v":0.99999999999999989}]
[]
[null,"VMC Required Separation for arrivals following an aircraft from each class",null,null,null,"Distance in Nautical Miles"]
[null,null,"Small - S","Small - T","Small +","Large-TP","Large-Jet","Large-757","Heavy"]
[null,"Small - S",{"$f":"'Intersecting Model'!$D$44+'Intersecting Model'!$H$39","v":1.9},{"$f":"$C$17","v":1.9},1.9,1.9,1.9,1.9,1.9]
[null,"Small - T",{"$f":"$C$17","v":1.9},1.9,1.9,1.9,1.9,1.9,1.9]
[null,"Small +",{"$f":"'Intersecting Model'!$D$45+'Intersecting Model'!$H$39","v":1.9},{"$f":"$C$19","v":1.9},{"$f":"$C$19","v":1.9},{"$f":"'Intersecting Model'!$D$46+'Intersecting Model'!$H$39","v":1.9},{"$f":"$F$19","v":1.9},{"$f":"$F$19","v":1.9},{"$f":"$F$19","v":1.9},null,null,"seconds"]
[null,"Large-TP",{"$f":"'Intersecting Model'!$D$47+'Intersecting Model'!$H$39","v":2.7},{"$f":"$C$20","v":2.7},{"$f":"$C$20","v":2.7},{"$f":"'Intersecting Model'!$D$48+'Intersecting Model'!$H$39","v":1.9},{"$f":"$F$20","v":1.9},{"$f":"$F$20","v":1.9},{"$f":"$F$20","v":1.9}]
[null,"Large-Jet",{"$f":"'Intersecting Model'!$D$47+'Intersecting Model'!$H$39","v":2.7},{"$f":"$C$21","v":2.7},{"$f":"$C$21","v":2.7},{"$f":"'Intersecting Model'!$D$48+'Intersecting Model'!$H$39","v":1.9},{"$f":"$F$21","v":1.9},{"$f":"$F$21","v":1.9},{"$f":"$F$21","v":1.9}]
[null,"Large-757",{"$f":"'Intersecting Model'!$D$49+'Intersecting Model'!$H$39","v":3.7},{"$f":"$C$22","v":3.7},{"$f":"$C$22","v":3.7},{"$f":"'Intersecting Model'!$D$50+'Intersecting Model'!$H$39","v":2.7},{"$f":"F22","v":2.7},{"$f":"$F$22","v":2.7},{"$f":"$F$22","v":2.7}]
[null,"Heavy",{"$f":"'Intersecting Model'!$D$51+'Intersecting Model'!$H$39","v":4.5999999999999996},{"$f":"$C$23","v":4.5999999999999996},{"$f":"'Intersecting Model'!$D$52+'Intersecting Model'!$H$39","v":3.6},{"$f":"$E$23","v":3.6},{"$f":"$E$23","v":3.6},{"$f":"$E$23","v":3.6},{"$f":"'Intersecting Model'!$D$53+'Intersecting Model'!$H$39","v":2.7}]
[]
[null,"IMC Required Separation for arrivals following an aircraft from each class",null,null,null,"Distance in Nautical Miles"]
[null,null,"Small - S","Small - T","Small +","Large-TP","Large-Jet","Large-757","Heavy"]
[null,"Small - S",{"$f":"'Intersecting Model'!$E$44+'Intersecting Model'!$H$39","v":3},{"$f":"$C$27","v":3},3,3,3,3,3]
[null,"Small - T",{"$f":"$C$27","v":3},3,3,3,3,3,3]
[null,"Small +",{"$f":"'Intersecting Model'!$E$45+'Intersecting Model'!$H$39","v":3},{"$f":"$C$29","v":3},{"$f":"$C$29","v":3},{"$f":"'Intersecting Model'!$E$46+'Intersecting Model'!$H$39","v":3},{"$f":"$F$29","v":3},{"$f":"$F$29","v":3},{"$f":"$F$29","v":3}]
[null,"Large-TP",{"$f":"'Intersecting Model'!$E$47+'Intersecting Model'!$H$39","v":4},{"$f":"$C$30","v":4},{"$f":"$C$30","v":4},{"$f":"'Intersecting Model'!$E$48+'Intersecting Model'!$H$39","v":3},{"$f":"$F$30","v":3},{"$f":"$F$30","v":3},{"$f":"$F$30","v":3}]
[null,"Large-Jet",{"$f":"'Intersecting Model'!$E$47+'Intersecting Model'!$H$39","v":4},{"$f":"$C$31","v":4},{"$f":"$C$31","v":4},{"$f":"'Intersecting Model'!$E$48+'Intersecting Model'!$H$39","v":3},{"$f":"$F$31","v":3},{"$f":"$F$31","v":3},{"$f":"$F$31","v":3}]
[null,"Large-757",{"$f":"'Intersecting Model'!$E$49+'Intersecting Model'!$H$39","v":5},{"$f":"$C$32","v":5},{"$f":"$C$32","v":5},{"$f":"'Intersecting Model'!$E$50+'Intersecting Model'!$H$39","v":4},{"$f":"$F$32","v":4},{"$f":"$F$32","v":4},{"$f":"$F$32","v":4}]
[null,"Heavy",{"$f":"'Intersecting Model'!$E$51+'Intersecting Model'!$H$39","v":6},{"$f":"$C$33","v":6},{"$f":"'Intersecting Model'!$E$52+'Intersecting Model'!$H$39","v":5},{"$f":"$E$33","v":5},{"$f":"$E$33","v":5},{"$f":"$E$33","v":5},{"$f":"'Intersecting Model'!$E$53+'Intersecting Model'!$H$39","v":4}]
[]
[null,"VMC Required Separation for departures following an aircraft from each class",null,null,null,"Time in seconds"]
[null,null,"Small - S","Small - T","Small +","Large-TP","Large-Jet","Large-757","Heavy"]
[null,"Small - S",{"$f":"'Intersecting Model'!$D$57+'Intersecting Model'!$C$40","v":45},{"$f":"$C$37","v":45},{"$f":"$C$37","v":45},{"$f":"'Intersecting Model'!$D$58+'Intersecting Model'!$C$40","v":55},{"$f":"$F$37","v":55},55,{"$f":"'Intersecting Model'!$D$59+'Intersecting Model'!$C$40","v":60}]
[null,"Small - T",{"$f":"$C$37","v":45},45,45,{"$f":"$F$37","v":55},55,55,{"$f":"$I$37","v":60}]
[null,"Small +",45,45,45,{"$f":"$F$37","v":55},55,55,{"$f":"$I$37","v":60}]
[null,"Large-TP",{"$f":"'Intersecting Model'!$D$60+'Intersecting Model'!$C$40","v":90},{"$f":"$C$40","v":90},90,{"$f":"'Intersecting Model'!$D$61+'Intersecting Model'!$C$40","v":70},{"$f":"$F$40","v":70},{"$f":"$F$40","v":70},{"$f":"$F$40","v":70}]
[null,"Large-Jet",90,90,90,{"$f":"$F$40","v":70},70,70,70]
[null,"Large-757",90,90,90,70,70,70,70]
[null,"Heavy",{"$f":"'Intersecting Model'!$D$62+'Intersecting Model'!$C$40","v":130},{"$f":"$C$43","v":130},{"$f":"$C$43","v":130},{"$f":"$C$43","v":130},{"$f":"$C$43","v":130},{"$f":"$C$43","v":130},{"$f":"'Intersecting Model'!$D$63+'Intersecting Model'!$C$40","v":100}]
[]
[null,"IMC Required Separation for departures following an aircraft from each class",null,null,null,"Time in seconds"]
[null,null,"Small - S","Small - T","Small +","Large-TP","Large-Jet","Large-757","Heavy",null,null,"  "]
[null,"Small - S",{"$f":"'Intersecting Model'!$E$57+'Intersecting Model'!$C$40","v":70},{"$f":"$C$47","v":70},{"$f":"$C$47","v":70},{"$f":"'Intersecting Model'!$D$58+'Intersecting Model'!$C$40","v":55},{"$f":"$F$47","v":55},{"$f":"$F$47","v":55},{"$f":"'Intersecting Model'!$D$59+'Intersecting Model'!$C$40","v":60}]
[null,"Small - T",{"$f":"$C$47","v":70},70,70,{"$f":"$F$47","v":55},55,55,{"$f":"$I$47","v":60}]
[null,"Small +",70,70,70,55,55,55,{"$f":"$I$47","v":60}]
[null,"Large-TP",{"$f":"'Intersecting Model'!$E$60+'Intersecting Model'!$C$40","v":90},{"$f":"$C$50","v":90},90,{"$f":"'Intersecting Model'!$D$61+'Intersecting Model'!$C$40","v":70},{"$f":"$F$50","v":70},{"$f":"$F$50","v":70},{"$f":"$F$50","v":70}]
[null,"Large-Jet",{"$f":"$C$50","v":90},90,90,{"$f":"$F$50","v":70},70,70,70]
[null,"Large-757",{"$f":"$C$50","v":90},90,90,70,70,70,70]
[null,"Heavy",{"$f":"'Intersecting Model'!$D$62+'Intersecting Model'!$C$40","v":130},{"$f":"$C$53","v":130},{"$f":"$C$53","v":130},{"$f":"$C$53","v":130},{"$f":"$C$53","v":130},{"$f":"$C$53","v":130},{"$f":"'Intersecting Model'!$D$63+'Intersecting Model'!$C$40","v":100}]
[]
[null,null,null," "]
[null,"VMC Required Separation for arrivals following an aircraft from each class",null,null,null,"Time in Seconds"]
[null,null,"Small - S","Small - T","Small +","Large-TP","Large-Jet","Large-757","Heavy"]
[null,"Small - S",{"$f":"MAXA(3600*C17/('Intersecting Model'!$C$31)+'Intersecting Model'!$H$17*'Intersecting Model'!$H$15+MAXA(0,'Intersecting Model'!$C$17*3600*(1/'Intersecting Model'!$C$31-1/'Intersecting Model'!$C$31)),'Intersecting Model'!$C$28+'Intersecting Model'!$H$17*SQRT('Intersecting Model'!$H$15^2+'Intersecting Model'!$H$16^2))+'Intersecting Model'!$C$39","v":105.61},{"$f":"MAXA(3600*D17/('Intersecting Model'!$D$31)+'Intersecting Model'!$H$17*'Intersecting Model'!$H$15+MAXA(0,'Intersecting Model'!$C$17*3600*(1/'Intersecting Model'!$D$31-1/'Intersecting Model'!$C$31)),'Intersecting Model'!$C$28+'Intersecting Model'!$H$17*SQRT('Intersecting Model'!$H$15^2+'Intersecting Model'!$H$16^2))+'Intersecting Model'!$C$39","v":98.01},{"$f":"MAXA(3600*E17/('Intersecting Model'!$E$31)+'Intersecting Model'!$H$17*'Intersecting Model'!$H$15+MAXA(0,'Intersecting Model'!$C$17*3600*(1/'Intersecting Model'!$E$31-1/'Intersecting Model'!$C$31)),'Intersecting Model'!$C$28+'Intersecting Model'!$H$17*SQRT('Intersecting Model'!$H$15^2+'Intersecting Model'!$H$16^2))+'Intersecting Model'!$C$39","v":86.61},{"$f":"MAXA(3600*F17/('Intersecting Model'!$F$31)+'Intersecting Model'!$H$17*'Intersecting Model'!$H$15+MAXA(0,'Intersecting Model'!$C$17*3600*(1/'Intersecting Model'!$F$31-1/'Intersecting Model'!$C$31)),'Intersecting Model'!$C$28+'Intersecting Model'!$H$17*SQRT('Intersecting Model'!$H$15^2+'Intersecting Model'!$H$16^2))+'Intersecting Model'!$C$39","v":82.225384615384613},{"$f":"MAXA(3600*G17/('Intersecting Model'!$G$31)+'Intersecting Model'!$H$17*'Intersecting Model'!$H$15+MAXA(0,'Intersecting Model'!$C$17*3600*(1/'Intersecting Model'!$G$31-1/'Intersecting Model'!$C$31)),'Intersecting Model'!$C$28+'Intersecting Model'!$H$17*SQRT('Intersecting Model'!$H$15^2+'Intersecting Model'!$H$16^2))+'Intersecting Model'!$C$39","v":80.276666666666671},{"$f":"MAXA(3600*H17/('Intersecting Model'!$H$31)+'Intersecting Model'!$H$17*'Intersecting Model'!$H$15+MAXA(0,'Intersecting Model'!$C$17*3600*(1/'Intersecting Model'!$H$31-1/'Intersecting Model'!$C$31)),'Intersecting Model'!$C$28+'Intersecting Model'!$H$17*SQRT('Intersecting Model'!$H$15^2+'Intersecting Model'!$H$16^2))+'Intersecting Model'!$C$39","v":78.467142857142846},{"$f":"MAXA(3600*I17/('Intersecting Model'!$I$31)+'Intersecting Model'!$H$17*'Intersecting Model'!$H$15+MAXA(0,'Intersecting Model'!$C$17*3600*(1/'Intersecting Model'!$I$31-1/'Intersecting Model'!$C$31)),'Intersecting Model'!$C$28+'Intersecting Model'!$H$17*SQRT('Intersecting Model'!$H$15^2+'Intersecting Model'!$H$16^2))+'Intersecting Model'!$C$39","v":75.210000000000008}]
[null,"Small - T",{"$f":"MAXA(3600*C18/('Intersecting Model'!$C$31)+'Intersecting Model'!$H$17*'Intersecting Model'!$H$15+MAXA(0,'Intersecting Model'!$C$17*3600*(1/'Intersecting Model'!$C$31-1/'Intersecting Model'!$D$31)),'Intersecting Model'!$D$28+'Intersecting Model'!$H$17*SQRT('Intersecting Model'!$H$15^2+'Intersecting Model'!$H$16^2))+'Intersecting Model'!$C$39","v":133.61000000000001},{"$f":"MAXA(3600*D18/('Intersecting Model'!$D$31)+'Intersecting Model'!$H$17*'Intersecting Model'!$H$15+MAXA(0,'Intersecting Model'!$C$17*3600*(1/'Intersecting Model'!$D$31-1/'Intersecting Model'!$D$31)),'Intersecting Model'!$D$28+'Intersecting Model'!$H$17*SQRT('Intersecting Model'!$H$15^2+'Intersecting Model'!$H$16^2))+'Intersecting Model'!$C$39","v":98.01},{"$f":"MAXA(3600*E18/('Intersecting Model'!$E$31)+'Intersecting Model'!$H$17*'Intersecting Model'!$H$15+MAXA(0,'Intersecting Model'!$C$17*3600*(1/'Intersecting Model'!$E$31-1/'Intersecting Model'!$D$31)),'Intersecting Model'!$D$28+'Intersecting Model'!$H$17*SQRT('Intersecting Model'!$H$15^2+'Intersecting Model'!$H$16^2))+'Intersecting Model'!$C$39","v":86.61},{"$f":"MAXA(3600*F18/('Intersecting Model'!$F$31)+'Intersecting Model'!$H$17*'Intersecting Model'!$H$15+MAXA(0,'Intersecting Model'!$C$17*3600*(1/'Intersecting Model'!$F$31-1/'Intersecting Model'!$D$31)),'Intersecting Model'!$D$28+'Intersecting Model'!$H$17*SQRT('Intersecting Model'!$H$15^2+'Intersecting Model'!$H$16^2))+'Intersecting Model'!$C$39","v":82.225384615384613},{"$f":"MAXA(3600*G18/('Intersecting Model'!$G$31)+'Intersecting Model'!$H$17*'Intersecting Model'!$H$15+MAXA(0,'Intersecting Model'!$C$17*3600*(1/'Intersecting Model'!$G$31-1/'Intersecting Model'!$D$31)),'Intersecting Model'!$D$28+'Intersecting Model'!$H$17*SQRT('Intersecting Model'!$H$15^2+'Intersecting Model'!$H$16^2))+'Intersecting Model'!$C$39","v":80.276666666666671},{"$f":"MAXA(3600*H18/('Intersecting Model'!$H$31)+'Intersecting Model'!$H$17*'Intersecting Model'!$H$15+MAXA(0,'Intersecting Model'!$C$17*3600*(1/'Intersecting Model'!$H$31-1/'Intersecting Model'!$D$31)),'Intersecting Model'!$D$28+'Intersecting Model'!$H$17*SQRT('Intersecting Model'!$H$15^2+'Intersecting Model'!$H$16^2))+'Intersecting Model'!$C$39","v":78.467142857142846},{"$f":"MAXA(3600*I18/('Intersecting Model'!$I$31)+'Intersecting Model'!$H$17*'Intersecting Model'!$H$15+MAXA(0,'Intersecting Model'!$C$17*3600*(1/'Intersecting Model'!$I$31-1/'Intersecting Model'!$D$31)),'Intersecting Model'!$D$28+'Intersecting Model'!$H$17*SQRT('Intersecting Model'!$H$15^2+'Intersecting Model'!$H$16^2))+'Intersecting Model'!$C$39","v":75.210000000000008}]
[null,"Small +",{"$f":"MAXA(3600*C19/('Intersecting Model'!$C$31)+'Intersecting Model'!$H$17*'Intersecting Model'!$H$15+MAXA(0,'Intersecting Model'!$C$17*3600*(1/'Intersecting Model'!$C$31-1/'Intersecting Model'!$E$31)),'Intersecting Model'!$E$28+'Intersecting Model'!$H$17*SQRT('Intersecting Model'!$H$15^2+'Intersecting Model'!$H$16^2))+'Intersecting Model'!$C$39","v":175.61},{"$f":"MAXA(3600*D19/('Intersecting Model'!$D$31)+'Intersecting Model'!$H$17*'Intersecting Model'!$H$15+MAXA(0,'Intersecting Model'!$C$17*3600*(1/'Intersecting Model'!$D$31-1/'Intersecting Model'!$E$31)),'Intersecting Model'!$E$28+'Intersecting Model'!$H$17*SQRT('Intersecting Model'!$H$15^2+'Intersecting Model'!$H$16^2))+'Intersecting Model'!$C$39","v":140.01000000000002},{"$f":"MAXA(3600*E19/('Intersecting Model'!$E$31)+'Intersecting Model'!$H$17*'Intersecting Model'!$H$15+MAXA(0,'Intersecting Model'!$C$17*3600*(1/'Intersecting Model'!$E$31-1/'Intersecting Model'!$E$31)),'Intersecting Model'!$E$28+'Intersecting Model'!$H$17*SQRT('Intersecting Model'!$H$15^2+'Intersecting Model'!$H$16^2))+'Intersecting Model'!$C$39","v":86.61},{"$f":"MAXA(3600*F19/('Intersecting Model'!$F$31)+'Intersecting Model'!$H$17*'Intersecting Model'!$H$15+MAXA(0,'Intersecting Model'!$C$17*3600*(1/'Intersecting Model'!$F$31-1/'Intersecting Model'!$E$31)),'Intersecting Model'!$E$28+'Intersecting Model'!$H$17*SQRT('Intersecting Model'!$H$15^2+'Intersecting Model'!$H$16^2))+'Intersecting Model'!$C$39","v":82.225384615384613},{"$f":"MAXA(3600*G19/('Intersecting Model'!$G$31)+'Intersecting Model'!$H$17*'Intersecting Model'!$H$15+MAXA(0,'Intersecting Model'!$C$17*3600*(1/'Intersecting Model'!$G$31-1/'Intersecting Model'!$E$31)),'Intersecting Model'!$E$28+'Intersecting Model'!$H$17*SQRT('Intersecting Model'!$H$15^2+'Intersecting Model'!$H$16^2))+'Intersecting Model'!$C$39","v":80.276666666666671},{"$f":"MAXA(3600*H19/('Intersecting Model'!$H$31)+'Intersecting Model'!$H$17*'Intersecting Model'!$H$15+MAXA(0,'Intersecting Model'!$C$17*3600*(1/'Intersecting Model'!$H$31-1/'Intersecting Model'!$E$31)),'Intersecting Model'!$E$28+'Intersecting Model'!$H$17*SQRT('Intersecting Model'!$H$15^2+'Intersecting Model'!$H$16^2))+'Intersecting Model'!$C$39","v":78.467142857142846},{"$f":"MAXA(3600*I19/('Intersecting Model'!$I$31)+'Intersecting Model'!$H$17*'Intersecting Model'!$H$15+MAXA(0,'Intersecting Model'!$C$17*3600*(1/'Intersecting Model'!$I$31-1/'Intersecting Model'!$E$31)),'Intersecting Model'!$E$28+'Intersecting Model'!$H$17*SQRT('Intersecting Model'!$H$15^2+'Intersecting Model'!$H$16^2))+'Intersecting Model'!$C$39","v":75.210000000000008}]
[null,"Large-TP",{"$f":"MAXA(3600*C20/('Intersecting Model'!$C$31)+'Intersecting Model'!$H$17*'Intersecting Model'!$H$15+MAXA(0,'Intersecting Model'!$C$17*3600*(1/'Intersecting Model'!$C$31-1/'Intersecting Model'!$F$31)),'Intersecting Model'!$F$28+'Intersecting Model'!$H$17*SQRT('Intersecting Model'!$H$15^2+'Intersecting Model'!$H$16^2))+'Intersecting Model'!$C$39","v":223.76384615384617},{"$f":"MAXA(3600*D20/('Intersecting Model'!$D$31)+'Intersecting Model'!$H$17*'Intersecting Model'!$H$15+MAXA(0,'Intersecting Model'!$C$17*3600*(1/'Intersecting Model'!$D$31-1/'Intersecting Model'!$F$31)),'Intersecting Model'!$F$28+'Intersecting Model'!$H$17*SQRT('Intersecting Model'!$H$15^2+'Intersecting Model'!$H$16^2))+'Intersecting Model'!$C$39","v":184.96384615384613},{"$f":"MAXA(3600*E20/('Intersecting Model'!$E$31)+'Intersecting Model'!$H$17*'Intersecting Model'!$H$15+MAXA(0,'Intersecting Model'!$C$17*3600*(1/'Intersecting Model'!$E$31-1/'Intersecting Model'!$F$31)),'Intersecting Model'!$F$28+'Intersecting Model'!$H$17*SQRT('Intersecting Model'!$H$15^2+'Intersecting Model'!$H$16^2))+'Intersecting Model'!$C$39","v":126.76384615384615},{"$f":"MAXA(3600*F20/('Intersecting Model'!$F$31)+'Intersecting Model'!$H$17*'Intersecting Model'!$H$15+MAXA(0,'Intersecting Model'!$C$17*3600*(1/'Intersecting Model'!$F$31-1/'Intersecting Model'!$F$31)),'Intersecting Model'!$F$28+'Intersecting Model'!$H$17*SQRT('Intersecting Model'!$H$15^2+'Intersecting Model'!$H$16^2))+'Intersecting Model'!$C$39","v":82.225384615384613},{"$f":"MAXA(3600*G20/('Intersecting Model'!$G$31)+'Intersecting Model'!$H$17*'Intersecting Model'!$H$15+MAXA(0,'Intersecting Model'!$C$17*3600*(1/'Intersecting Model'!$G$31-1/'Intersecting Model'!$F$31)),'Intersecting Model'!$F$28+'Intersecting Model'!$H$17*SQRT('Intersecting Model'!$H$15^2+'Intersecting Model'!$H$16^2))+'Intersecting Model'!$C$39","v":80.276666666666671},{"$f":"MAXA(3600*H20/('Intersecting Model'!$H$31)+'Intersecting Model'!$H$17*'Intersecting Model'!$H$15+MAXA(0,'Intersecting Model'!$C$17*3600*(1/'Intersecting Model'!$H$31-1/'Intersecting Model'!$F$31)),'Intersecting Model'!$F$28+'Intersecting Model'!$H$17*SQRT('Intersecting Model'!$H$15^2+'Intersecting Model'!$H$16^2))+'Intersecting Model'!$C$39","v":78.467142857142846},{"$f":"MAXA(3600*I20/('Intersecting Model'!$I$31)+'Intersecting Model'!$H$17*'Intersecting Model'!$H$15+MAXA(0,'Intersecting Model'!$C$17*3600*(1/'Intersecting Model'!$I$31-1/'Intersecting Model'!$F$31)),'Intersecting Model'!$F$28+'Intersecting Model'!$H$17*SQRT('Intersecting Model'!$H$15^2+'Intersecting Model'!$H$16^2))+'Intersecting Model'!$C$39","v":76.211680505861906}]
[null,"Large-Jet",{"$f":"MAXA(3600*C21/('Intersecting Model'!$C$31)+'Intersecting Model'!$H$17*'Intersecting Model'!$H$15+MAXA(0,'Intersecting Model'!$C$17*3600*(1/'Intersecting Model'!$C$31-1/'Intersecting Model'!$G$31)),'Intersecting Model'!$G$28+'Intersecting Model'!$H$17*SQRT('Intersecting Model'!$H$15^2+'Intersecting Model'!$H$16^2))+'Intersecting Model'!$C$39","v":230.94333333333336},{"$f":"MAXA(3600*D21/('Intersecting Model'!$D$31)+'Intersecting Model'!$H$17*'Intersecting Model'!$H$15+MAXA(0,'Intersecting Model'!$C$17*3600*(1/'Intersecting Model'!$D$31-1/'Intersecting Model'!$G$31)),'Intersecting Model'!$G$28+'Intersecting Model'!$H$17*SQRT('Intersecting Model'!$H$15^2+'Intersecting Model'!$H$16^2))+'Intersecting Model'!$C$39","v":192.14333333333332},{"$f":"MAXA(3600*E21/('Intersecting Model'!$E$31)+'Intersecting Model'!$H$17*'Intersecting Model'!$H$15+MAXA(0,'Intersecting Model'!$C$17*3600*(1/'Intersecting Model'!$E$31-1/'Intersecting Model'!$G$31)),'Intersecting Model'!$G$28+'Intersecting Model'!$H$17*SQRT('Intersecting Model'!$H$15^2+'Intersecting Model'!$H$16^2))+'Intersecting Model'!$C$39","v":133.94333333333333},{"$f":"MAXA(3600*F21/('Intersecting Model'!$F$31)+'Intersecting Model'!$H$17*'Intersecting Model'!$H$15+MAXA(0,'Intersecting Model'!$C$17*3600*(1/'Intersecting Model'!$F$31-1/'Intersecting Model'!$G$31)),'Intersecting Model'!$G$28+'Intersecting Model'!$H$17*SQRT('Intersecting Model'!$H$15^2+'Intersecting Model'!$H$16^2))+'Intersecting Model'!$C$39","v":89.404871794871795},{"$f":"MAXA(3600*G21/('Intersecting Model'!$G$31)+'Intersecting Model'!$H$17*'Intersecting Model'!$H$15+MAXA(0,'Intersecting Model'!$C$17*3600*(1/'Intersecting Model'!$G$31-1/'Intersecting Model'!$G$31)),'Intersecting Model'!$G$28+'Intersecting Model'!$H$17*SQRT('Intersecting Model'!$H$15^2+'Intersecting Model'!$H$16^2))+'Intersecting Model'!$C$39","v":80.276666666666671},{"$f":"MAXA(3600*H21/('Intersecting Model'!$H$31)+'Intersecting Model'!$H$17*'Intersecting Model'!$H$15+MAXA(0,'Intersecting Model'!$C$17*3600*(1/'Intersecting Model'!$H$31-1/'Intersecting Model'!$G$31)),'Intersecting Model'!$G$28+'Intersecting Model'!$H$17*SQRT('Intersecting Model'!$H$15^2+'Intersecting Model'!$H$16^2))+'Intersecting Model'!$C$39","v":78.467142857142846},{"$f":"MAXA(3600*I21/('Intersecting Model'!$I$31)+'Intersecting Model'!$H$17*'Intersecting Model'!$H$15+MAXA(0,'Intersecting Model'!$C$17*3600*(1/'Intersecting Model'!$I$31-1/'Intersecting Model'!$G$31)),'Intersecting Model'!$G$28+'Intersecting Model'!$H$17*SQRT('Intersecting Model'!$H$15^2+'Intersecting Model'!$H$16^2))+'Intersecting Model'!$C$39","v":77.211680505861906}]
[null,"Large-757",{"$f":"MAXA(3600*C22/('Intersecting Model'!C$31)+'Intersecting Model'!$H$17*'Intersecting Model'!$H$15+MAXA(0,'Intersecting Model'!$C$17*3600*(1/'Intersecting Model'!C$31-1/'Intersecting Model'!$H$31)),'Intersecting Model'!$H$28+'Intersecting Model'!$H$17*SQRT('Intersecting Model'!$H$15^2+'Intersecting Model'!$H$16^2))+'Intersecting Model'!$C$39","v":277.61},{"$f":"MAXA(3600*D22/('Intersecting Model'!D$31)+'Intersecting Model'!$H$17*'Intersecting Model'!$H$15+MAXA(0,'Intersecting Model'!$C$17*3600*(1/'Intersecting Model'!D$31-1/'Intersecting Model'!$H$31)),'Intersecting Model'!$H$28+'Intersecting Model'!$H$17*SQRT('Intersecting Model'!$H$15^2+'Intersecting Model'!$H$16^2))+'Intersecting Model'!$C$39","v":234.81},{"$f":"MAXA(3600*E22/('Intersecting Model'!E$31)+'Intersecting Model'!$H$17*'Intersecting Model'!$H$15+MAXA(0,'Intersecting Model'!$C$17*3600*(1/'Intersecting Model'!E$31-1/'Intersecting Model'!$H$31)),'Intersecting Model'!$H$28+'Intersecting Model'!$H$17*SQRT('Intersecting Model'!$H$15^2+'Intersecting Model'!$H$16^2))+'Intersecting Model'!$C$39","v":170.61},{"$f":"MAXA(3600*F22/('Intersecting Model'!F$31)+'Intersecting Model'!$H$17*'Intersecting Model'!$H$15+MAXA(0,'Intersecting Model'!$C$17*3600*(1/'Intersecting Model'!F$31-1/'Intersecting Model'!$H$31)),'Intersecting Model'!$H$28+'Intersecting Model'!$H$17*SQRT('Intersecting Model'!$H$15^2+'Intersecting Model'!$H$16^2))+'Intersecting Model'!$C$39","v":118.22538461538464},{"$f":"MAXA(3600*G22/('Intersecting Model'!G$31)+'Intersecting Model'!$H$17*'Intersecting Model'!$H$15+MAXA(0,'Intersecting Model'!$C$17*3600*(1/'Intersecting Model'!G$31-1/'Intersecting Model'!$H$31)),'Intersecting Model'!$H$28+'Intersecting Model'!$H$17*SQRT('Intersecting Model'!$H$15^2+'Intersecting Model'!$H$16^2))+'Intersecting Model'!$C$39","v":108.27666666666669},{"$f":"MAXA(3600*H22/('Intersecting Model'!H$31)+'Intersecting Model'!$H$17*'Intersecting Model'!$H$15+MAXA(0,'Intersecting Model'!$C$17*3600*(1/'Intersecting Model'!H$31-1/'Intersecting Model'!$H$31)),'Intersecting Model'!$H$28+'Intersecting Model'!$H$17*SQRT('Intersecting Model'!$H$15^2+'Intersecting Model'!$H$16^2))+'Intersecting Model'!$C$39","v":99.03857142857143},{"$f":"MAXA(3600*I22/('Intersecting Model'!I$31)+'Intersecting Model'!$H$17*'Intersecting Model'!$H$15+MAXA(0,'Intersecting Model'!$C$17*3600*(1/'Intersecting Model'!I$31-1/'Intersecting Model'!$H$31)),'Intersecting Model'!$H$28+'Intersecting Model'!$H$17*SQRT('Intersecting Model'!$H$15^2+'Intersecting Model'!$H$16^2))+'Intersecting Model'!$C$39","v":94.41}]
[null,"Heavy",{"$f":"MAXA(3600*C23/('Intersecting Model'!$C$31)+'Intersecting Model'!$H$17*'Intersecting Model'!$H$15+MAXA(0,'Intersecting Model'!$C$17*3600*(1/'Intersecting Model'!$C$31-1/'Intersecting Model'!$I$31)),'Intersecting Model'!$I$28+'Intersecting Model'!$H$17*SQRT('Intersecting Model'!$H$15^2+'Intersecting Model'!$H$16^2))+'Intersecting Model'!$C$39","v":325.61},{"$f":"MAXA(3600*D23/('Intersecting Model'!$D$31)+'Intersecting Model'!$H$17*'Intersecting Model'!$H$15+MAXA(0,'Intersecting Model'!$C$17*3600*(1/'Intersecting Model'!$D$31-1/'Intersecting Model'!$I$31)),'Intersecting Model'!$I$28+'Intersecting Model'!$H$17*SQRT('Intersecting Model'!$H$15^2+'Intersecting Model'!$H$16^2))+'Intersecting Model'!$C$39","v":279.20999999999998},{"$f":"MAXA(3600*E23/('Intersecting Model'!$E$31)+'Intersecting Model'!$H$17*'Intersecting Model'!$H$15+MAXA(0,'Intersecting Model'!$C$17*3600*(1/'Intersecting Model'!$E$31-1/'Intersecting Model'!$I$31)),'Intersecting Model'!$I$28+'Intersecting Model'!$H$17*SQRT('Intersecting Model'!$H$15^2+'Intersecting Model'!$H$16^2))+'Intersecting Model'!$C$39","v":179.61},{"$f":"MAXA(3600*F23/('Intersecting Model'!$F$31)+'Intersecting Model'!$H$17*'Intersecting Model'!$H$15+MAXA(0,'Intersecting Model'!$C$17*3600*(1/'Intersecting Model'!$F$31-1/'Intersecting Model'!$I$31)),'Intersecting Model'!$I$28+'Intersecting Model'!$H$17*SQRT('Intersecting Model'!$H$15^2+'Intersecting Model'!$H$16^2))+'Intersecting Model'!$C$39","v":155.14846153846153},{"$f":"MAXA(3600*G23/('Intersecting Model'!$G$31)+'Intersecting Model'!$H$17*'Intersecting Model'!$H$15+MAXA(0,'Intersecting Model'!$C$17*3600*(1/'Intersecting Model'!$G$31-1/'Intersecting Model'!$I$31)),'Intersecting Model'!$I$28+'Intersecting Model'!$H$17*SQRT('Intersecting Model'!$H$15^2+'Intersecting Model'!$H$16^2))+'Intersecting Model'!$C$39","v":144.27666666666667},{"$f":"MAXA(3600*H23/('Intersecting Model'!$H$31)+'Intersecting Model'!$H$17*'Intersecting Model'!$H$15+MAXA(0,'Intersecting Model'!$C$17*3600*(1/'Intersecting Model'!$H$31-1/'Intersecting Model'!$I$31)),'Intersecting Model'!$I$28+'Intersecting Model'!$H$17*SQRT('Intersecting Model'!$H$15^2+'Intersecting Model'!$H$16^2))+'Intersecting Model'!$C$39","v":134.18142857142854},{"$f":"MAXA(3600*I23/('Intersecting Model'!$I$31)+'Intersecting Model'!$H$17*'Intersecting Model'!$H$15+MAXA(0,'Intersecting Model'!$C$17*3600*(1/'Intersecting Model'!$I$31-1/'Intersecting Model'!$I$31)),'Intersecting Model'!$I$28+'Intersecting Model'!$H$17*SQRT('Intersecting Model'!$H$15^2+'Intersecting Model'!$H$16^2))+'Intersecting Model'!$C$39","v":94.41}]
[]
[null,"IMC Required Separation for arrivals following an aircraft from each class",null,null,null,"Time in Seconds"]
[null,null,"Small - S","Small - T","Small +","Large-TP","Large-Jet","Large-757","Heavy"]
[null,"Small - S",{"$f":"MAXA(3600*C27/('Intersecting Model'!$C$31)+'Intersecting Model'!$H$17*'Intersecting Model'!$H$15+MAXA(0,'Intersecting Model'!$C$17*3600*(1/'Intersecting Model'!$C$31-1/'Intersecting Model'!$C$31)),'Intersecting Model'!$C$28+'Intersecting Model'!$H$17*SQRT('Intersecting Model'!$H$15^2+'Intersecting Model'!$H$16^2))+'Intersecting Model'!$C$39","v":149.61000000000001},{"$f":"MAXA(3600*D27/('Intersecting Model'!$D$31)+'Intersecting Model'!$H$17*'Intersecting Model'!$H$15+MAXA(0,'Intersecting Model'!$C$17*3600*(1/'Intersecting Model'!$D$31-1/'Intersecting Model'!$C$31)),'Intersecting Model'!$C$28+'Intersecting Model'!$H$17*SQRT('Intersecting Model'!$H$15^2+'Intersecting Model'!$H$16^2))+'Intersecting Model'!$C$39","v":137.61000000000001},{"$f":"MAXA(3600*E27/('Intersecting Model'!$E$31)+'Intersecting Model'!$H$17*'Intersecting Model'!$H$15+MAXA(0,'Intersecting Model'!$C$17*3600*(1/'Intersecting Model'!$E$31-1/'Intersecting Model'!$C$31)),'Intersecting Model'!$C$28+'Intersecting Model'!$H$17*SQRT('Intersecting Model'!$H$15^2+'Intersecting Model'!$H$16^2))+'Intersecting Model'!$C$39","v":119.61},{"$f":"MAXA(3600*F27/('Intersecting Model'!$F$31)+'Intersecting Model'!$H$17*'Intersecting Model'!$H$15+MAXA(0,'Intersecting Model'!$C$17*3600*(1/'Intersecting Model'!$F$31-1/'Intersecting Model'!$C$31)),'Intersecting Model'!$C$28+'Intersecting Model'!$H$17*SQRT('Intersecting Model'!$H$15^2+'Intersecting Model'!$H$16^2))+'Intersecting Model'!$C$39","v":112.68692307692308},{"$f":"MAXA(3600*G27/('Intersecting Model'!$G$31)+'Intersecting Model'!$H$17*'Intersecting Model'!$H$15+MAXA(0,'Intersecting Model'!$C$17*3600*(1/'Intersecting Model'!$G$31-1/'Intersecting Model'!$C$31)),'Intersecting Model'!$C$28+'Intersecting Model'!$H$17*SQRT('Intersecting Model'!$H$15^2+'Intersecting Model'!$H$16^2))+'Intersecting Model'!$C$39","v":109.61},{"$f":"MAXA(3600*H27/('Intersecting Model'!$H$31)+'Intersecting Model'!$H$17*'Intersecting Model'!$H$15+MAXA(0,'Intersecting Model'!$C$17*3600*(1/'Intersecting Model'!$H$31-1/'Intersecting Model'!$C$31)),'Intersecting Model'!$C$28+'Intersecting Model'!$H$17*SQRT('Intersecting Model'!$H$15^2+'Intersecting Model'!$H$16^2))+'Intersecting Model'!$C$39","v":106.75285714285714},{"$f":"MAXA(3600*I27/('Intersecting Model'!$I$31)+'Intersecting Model'!$H$17*'Intersecting Model'!$H$15+MAXA(0,'Intersecting Model'!$C$17*3600*(1/'Intersecting Model'!$I$31-1/'Intersecting Model'!$C$31)),'Intersecting Model'!$C$28+'Intersecting Model'!$H$17*SQRT('Intersecting Model'!$H$15^2+'Intersecting Model'!$H$16^2))+'Intersecting Model'!$C$39","v":101.61}]
[null,"Small - T",{"$f":"MAXA(3600*C28/('Intersecting Model'!$C$31)+'Intersecting Model'!$H$17*'Intersecting Model'!$H$15+MAXA(0,'Intersecting Model'!$C$17*3600*(1/'Intersecting Model'!$C$31-1/'Intersecting Model'!$D$31)),'Intersecting Model'!$D$28+'Intersecting Model'!$H$17*SQRT('Intersecting Model'!$H$15^2+'Intersecting Model'!$H$16^2))+'Intersecting Model'!$C$39","v":177.61},{"$f":"MAXA(3600*D28/('Intersecting Model'!$D$31)+'Intersecting Model'!$H$17*'Intersecting Model'!$H$15+MAXA(0,'Intersecting Model'!$C$17*3600*(1/'Intersecting Model'!$D$31-1/'Intersecting Model'!$D$31)),'Intersecting Model'!$D$28+'Intersecting Model'!$H$17*SQRT('Intersecting Model'!$H$15^2+'Intersecting Model'!$H$16^2))+'Intersecting Model'!$C$39","v":137.61000000000001},{"$f":"MAXA(3600*E28/('Intersecting Model'!$E$31)+'Intersecting Model'!$H$17*'Intersecting Model'!$H$15+MAXA(0,'Intersecting Model'!$C$17*3600*(1/'Intersecting Model'!$E$31-1/'Intersecting Model'!$D$31)),'Intersecting Model'!$D$28+'Intersecting Model'!$H$17*SQRT('Intersecting Model'!$H$15^2+'Intersecting Model'!$H$16^2))+'Intersecting Model'!$C$39","v":119.61},{"$f":"MAXA(3600*F28/('Intersecting Model'!$F$31)+'Intersecting Model'!$H$17*'Intersecting Model'!$H$15+MAXA(0,'Intersecting Model'!$C$17*3600*(1/'Intersecting Model'!$F$31-1/'Intersecting Model'!$D$31)),'Intersecting Model'!$D$28+'Intersecting Model'!$H$17*SQRT('Intersecting Model'!$H$15^2+'Intersecting Model'!$H$16^2))+'Intersecting Model'!$C$39","v":112.68692307692308},{"$f":"MAXA(3600*G28/('Intersecting Model'!$G$31)+'Intersecting Model'!$H$17*'Intersecting Model'!$H$15+MAXA(0,'Intersecting Model'!$C$17*3600*(1/'Intersecting Model'!$G$31-1/'Intersecting Model'!$D$31)),'Intersecting Model'!$D$28+'Intersecting Model'!$H$17*SQRT('Intersecting Model'!$H$15^2+'Intersecting Model'!$H$16^2))+'Intersecting Model'!$C$39","v":109.61},{"$f":"MAXA(3600*H28/('Intersecting Model'!$H$31)+'Intersecting Model'!$H$17*'Intersecting Model'!$H$15+MAXA(0,'Intersecting Model'!$C$17*3600*(1/'Intersecting Model'!$H$31-1/'Intersecting Model'!$D$31)),'Intersecting Model'!$D$28+'Intersecting Model'!$H$17*SQRT('Intersecting Model'!$H$15^2+'Intersecting Model'!$H$16^2))+'Intersecting Model'!$C$39","v":106.75285714285714},{"$f":"MAXA(3600*I28/('Intersecting Model'!$I$31)+'Intersecting Model'!$H$17*'Intersecting Model'!$H$15+MAXA(0,'Intersecting Model'!$C$17*3600*(1/'Intersecting Model'!$I$31-1/'Intersecting Model'!$D$31)),'Intersecting Model'!$D$28+'Intersecting Model'!$H$17*SQRT('Intersecting Model'!$H$15^2+'Intersecting Model'!$H$16^2))+'Intersecting Model'!$C$39","v":101.61}]
[null,"Small +",{"$f":"MAXA(3600*C29/('Intersecting Model'!$C$31)+'Intersecting Model'!$H$17*'Intersecting Model'!$H$15+MAXA(0,'Intersecting Model'!$C$17*3600*(1/'Intersecting Model'!$C$31-1/'Intersecting Model'!$E$31)),'Intersecting Model'!$E$28+'Intersecting Model'!$H$17*SQRT('Intersecting Model'!$H$15^2+'Intersecting Model'!$H$16^2))+'Intersecting Model'!$C$39","v":219.61},{"$f":"MAXA(3600*D29/('Intersecting Model'!$D$31)+'Intersecting Model'!$H$17*'Intersecting Model'!$H$15+MAXA(0,'Intersecting Model'!$C$17*3600*(1/'Intersecting Model'!$D$31-1/'Intersecting Model'!$E$31)),'Intersecting Model'!$E$28+'Intersecting Model'!$H$17*SQRT('Intersecting Model'!$H$15^2+'Intersecting Model'!$H$16^2))+'Intersecting Model'!$C$39","v":179.61},{"$f":"MAXA(3600*E29/('Intersecting Model'!$E$31)+'Intersecting Model'!$H$17*'Intersecting Model'!$H$15+MAXA(0,'Intersecting Model'!$C$17*3600*(1/'Intersecting Model'!$E$31-1/'Intersecting Model'!$E$31)),'Intersecting Model'!$E$28+'Intersecting Model'!$H$17*SQRT('Intersecting Model'!$H$15^2+'Intersecting Model'!$H$16^2))+'Intersecting Model'!$C$39","v":119.61},{"$f":"MAXA(3600*F29/('Intersecting Model'!$F$31)+'Intersecting Model'!$H$17*'Intersecting Model'!$H$15+MAXA(0,'Intersecting Model'!$C$17*3600*(1/'Intersecting Model'!$F$31-1/'Intersecting Model'!$E$31)),'Intersecting Model'!$E$28+'Intersecting Model'!$H$17*SQRT('Intersecting Model'!$H$15^2+'Intersecting Model'!$H$16^2))+'Intersecting Model'!$C$39","v":112.68692307692308},{"$f":"MAXA(3600*G29/('Intersecting Model'!$G$31)+'Intersecting Model'!$H$17*'Intersecting Model'!$H$15+MAXA(0,'Intersecting Model'!$C$17*3600*(1/'Intersecting Model'!$G$31-1/'Intersecting Model'!$E$31)),'Intersecting Model'!$E$28+'Intersecting Model'!$H$17*SQRT('Intersecting Model'!$H$15^2+'Intersecting Model'!$H$16^2))+'Intersecting Model'!$C$39","v":109.61},{"$f":"MAXA(3600*H29/('Intersecting Model'!$H$31)+'Intersecting Model'!$H$17*'Intersecting Model'!$H$15+MAXA(0,'Intersecting Model'!$C$17*3600*(1/'Intersecting Model'!$H$31-1/'Intersecting Model'!$E$31)),'Intersecting Model'!$E$28+'Intersecting Model'!$H$17*SQRT('Intersecting Model'!$H$15^2+'Intersecting Model'!$H$16^2))+'Intersecting Model'!$C$39","v":106.75285714285714},{"$f":"MAXA(3600*I29/('Intersecting Model'!$I$31)+'Intersecting Model'!$H$17*'Intersecting Model'!$H$15+MAXA(0,'Intersecting Model'!$C$17*3600*(1/'Intersecting Model'!$I$31-1/'Intersecting Model'!$E$31)),'Intersecting Model'!$E$28+'Intersecting Model'!$H$17*SQRT('Intersecting Model'!$H$15^2+'Intersecting Model'!$H$16^2))+'Intersecting Model'!$C$39","v":101.61}]
[null,"Large-TP",{"$f":"MAXA(3600*C30/('Intersecting Model'!$C$31)+'Intersecting Model'!$H$17*'Intersecting Model'!$H$15+MAXA(0,'Intersecting Model'!$C$17*3600*(1/'Intersecting Model'!$C$31-1/'Intersecting Model'!$F$31)),'Intersecting Model'!$F$28+'Intersecting Model'!$H$17*SQRT('Intersecting Model'!$H$15^2+'Intersecting Model'!$H$16^2))+'Intersecting Model'!$C$39","v":275.7638461538462},{"$f":"MAXA(3600*D30/('Intersecting Model'!$D$31)+'Intersecting Model'!$H$17*'Intersecting Model'!$H$15+MAXA(0,'Intersecting Model'!$C$17*3600*(1/'Intersecting Model'!$D$31-1/'Intersecting Model'!$F$31)),'Intersecting Model'!$F$28+'Intersecting Model'!$H$17*SQRT('Intersecting Model'!$H$15^2+'Intersecting Model'!$H$16^2))+'Intersecting Model'!$C$39","v":231.76384615384615},{"$f":"MAXA(3600*E30/('Intersecting Model'!$E$31)+'Intersecting Model'!$H$17*'Intersecting Model'!$H$15+MAXA(0,'Intersecting Model'!$C$17*3600*(1/'Intersecting Model'!$E$31-1/'Intersecting Model'!$F$31)),'Intersecting Model'!$F$28+'Intersecting Model'!$H$17*SQRT('Intersecting Model'!$H$15^2+'Intersecting Model'!$H$16^2))+'Intersecting Model'!$C$39","v":165.76384615384615},{"$f":"MAXA(3600*F30/('Intersecting Model'!$F$31)+'Intersecting Model'!$H$17*'Intersecting Model'!$H$15+MAXA(0,'Intersecting Model'!$C$17*3600*(1/'Intersecting Model'!$F$31-1/'Intersecting Model'!$F$31)),'Intersecting Model'!$F$28+'Intersecting Model'!$H$17*SQRT('Intersecting Model'!$H$15^2+'Intersecting Model'!$H$16^2))+'Intersecting Model'!$C$39","v":112.68692307692308},{"$f":"MAXA(3600*G30/('Intersecting Model'!$G$31)+'Intersecting Model'!$H$17*'Intersecting Model'!$H$15+MAXA(0,'Intersecting Model'!$C$17*3600*(1/'Intersecting Model'!$G$31-1/'Intersecting Model'!$F$31)),'Intersecting Model'!$F$28+'Intersecting Model'!$H$17*SQRT('Intersecting Model'!$H$15^2+'Intersecting Model'!$H$16^2))+'Intersecting Model'!$C$39","v":109.61},{"$f":"MAXA(3600*H30/('Intersecting Model'!$H$31)+'Intersecting Model'!$H$17*'Intersecting Model'!$H$15+MAXA(0,'Intersecting Model'!$C$17*3600*(1/'Intersecting Model'!$H$31-1/'Intersecting Model'!$F$31)),'Intersecting Model'!$F$28+'Intersecting Model'!$H$17*SQRT('Intersecting Model'!$H$15^2+'Intersecting Model'!$H$16^2))+'Intersecting Model'!$C$39","v":106.75285714285714},{"$f":"MAXA(3600*I30/('Intersecting Model'!$I$31)+'Intersecting Model'!$H$17*'Intersecting Model'!$H$15+MAXA(0,'Intersecting Model'!$C$17*3600*(1/'Intersecting Model'!$I$31-1/'Intersecting Model'!$F$31)),'Intersecting Model'!$F$28+'Intersecting Model'!$H$17*SQRT('Intersecting Model'!$H$15^2+'Intersecting Model'!$H$16^2))+'Intersecting Model'!$C$39","v":101.61}]
[null,"Large-Jet",{"$f":"MAXA(3600*C31/('Intersecting Model'!$C$31)+'Intersecting Model'!$H$17*'Intersecting Model'!$H$15+MAXA(0,'Intersecting Model'!$C$17*3600*(1/'Intersecting Model'!$C$31-1/'Intersecting Model'!$G$31)),'Intersecting Model'!$G$28+'Intersecting Model'!$H$17*SQRT('Intersecting Model'!$H$15^2+'Intersecting Model'!$H$16^2))+'Intersecting Model'!$C$39","v":282.94333333333338},{"$f":"MAXA(3600*D31/('Intersecting Model'!$D$31)+'Intersecting Model'!$H$17*'Intersecting Model'!$H$15+MAXA(0,'Intersecting Model'!$C$17*3600*(1/'Intersecting Model'!$D$31-1/'Intersecting Model'!$G$31)),'Intersecting Model'!$G$28+'Intersecting Model'!$H$17*SQRT('Intersecting Model'!$H$15^2+'Intersecting Model'!$H$16^2))+'Intersecting Model'!$C$39","v":238.94333333333333},{"$f":"MAXA(3600*E31/('Intersecting Model'!$E$31)+'Intersecting Model'!$H$17*'Intersecting Model'!$H$15+MAXA(0,'Intersecting Model'!$C$17*3600*(1/'Intersecting Model'!$E$31-1/'Intersecting Model'!$G$31)),'Intersecting Model'!$G$28+'Intersecting Model'!$H$17*SQRT('Intersecting Model'!$H$15^2+'Intersecting Model'!$H$16^2))+'Intersecting Model'!$C$39","v":172.94333333333333},{"$f":"MAXA(3600*F31/('Intersecting Model'!$F$31)+'Intersecting Model'!$H$17*'Intersecting Model'!$H$15+MAXA(0,'Intersecting Model'!$C$17*3600*(1/'Intersecting Model'!$F$31-1/'Intersecting Model'!$G$31)),'Intersecting Model'!$G$28+'Intersecting Model'!$H$17*SQRT('Intersecting Model'!$H$15^2+'Intersecting Model'!$H$16^2))+'Intersecting Model'!$C$39","v":119.86641025641026},{"$f":"MAXA(3600*G31/('Intersecting Model'!$G$31)+'Intersecting Model'!$H$17*'Intersecting Model'!$H$15+MAXA(0,'Intersecting Model'!$C$17*3600*(1/'Intersecting Model'!$G$31-1/'Intersecting Model'!$G$31)),'Intersecting Model'!$G$28+'Intersecting Model'!$H$17*SQRT('Intersecting Model'!$H$15^2+'Intersecting Model'!$H$16^2))+'Intersecting Model'!$C$39","v":109.61},{"$f":"MAXA(3600*H31/('Intersecting Model'!$H$31)+'Intersecting Model'!$H$17*'Intersecting Model'!$H$15+MAXA(0,'Intersecting Model'!$C$17*3600*(1/'Intersecting Model'!$H$31-1/'Intersecting Model'!$G$31)),'Intersecting Model'!$G$28+'Intersecting Model'!$H$17*SQRT('Intersecting Model'!$H$15^2+'Intersecting Model'!$H$16^2))+'Intersecting Model'!$C$39","v":106.75285714285714},{"$f":"MAXA(3600*I31/('Intersecting Model'!$I$31)+'Intersecting Model'!$H$17*'Intersecting Model'!$H$15+MAXA(0,'Intersecting Model'!$C$17*3600*(1/'Intersecting Model'!$I$31-1/'Intersecting Model'!$G$31)),'Intersecting Model'!$G$28+'Intersecting Model'!$H$17*SQRT('Intersecting Model'!$H$15^2+'Intersecting Model'!$H$16^2))+'Intersecting Model'!$C$39","v":101.61}]
[null,"Large-757",{"$f":"MAXA(3600*C32/('Intersecting Model'!$C$31)+'Intersecting Model'!$H$17*'Intersecting Model'!$H$15+MAXA(0,'Intersecting Model'!$C$17*3600*(1/'Intersecting Model'!C$31-1/'Intersecting Model'!$H$31)),'Intersecting Model'!$H$28+'Intersecting Model'!$H$17*SQRT('Intersecting Model'!$H$15^2+'Intersecting Model'!$H$16^2))+'Intersecting Model'!$C$39","v":329.61},{"$f":"MAXA(3600*D32/('Intersecting Model'!$D$31)+'Intersecting Model'!$H$17*'Intersecting Model'!$H$15+MAXA(0,'Intersecting Model'!$C$17*3600*(1/'Intersecting Model'!D$31-1/'Intersecting Model'!$H$31)),'Intersecting Model'!$H$28+'Intersecting Model'!$H$17*SQRT('Intersecting Model'!$H$15^2+'Intersecting Model'!$H$16^2))+'Intersecting Model'!$C$39","v":281.61},{"$f":"MAXA(3600*E32/('Intersecting Model'!$E$31)+'Intersecting Model'!$H$17*'Intersecting Model'!$H$15+MAXA(0,'Intersecting Model'!$C$17*3600*(1/'Intersecting Model'!E$31-1/'Intersecting Model'!$H$31)),'Intersecting Model'!$H$28+'Intersecting Model'!$H$17*SQRT('Intersecting Model'!$H$15^2+'Intersecting Model'!$H$16^2))+'Intersecting Model'!$C$39","v":209.61},{"$f":"MAXA(3600*F32/('Intersecting Model'!$F$31)+'Intersecting Model'!$H$17*'Intersecting Model'!$H$15+MAXA(0,'Intersecting Model'!$C$17*3600*(1/'Intersecting Model'!F$31-1/'Intersecting Model'!$H$31)),'Intersecting Model'!$H$28+'Intersecting Model'!$H$17*SQRT('Intersecting Model'!$H$15^2+'Intersecting Model'!$H$16^2))+'Intersecting Model'!$C$39","v":154.22538461538466},{"$f":"MAXA(3600*G32/('Intersecting Model'!$G$31)+'Intersecting Model'!$H$17*'Intersecting Model'!$H$15+MAXA(0,'Intersecting Model'!$C$17*3600*(1/'Intersecting Model'!G$31-1/'Intersecting Model'!$H$31)),'Intersecting Model'!$H$28+'Intersecting Model'!$H$17*SQRT('Intersecting Model'!$H$15^2+'Intersecting Model'!$H$16^2))+'Intersecting Model'!$C$39","v":142.94333333333336},{"$f":"MAXA(3600*H32/('Intersecting Model'!$H$31)+'Intersecting Model'!$H$17*'Intersecting Model'!$H$15+MAXA(0,'Intersecting Model'!$C$17*3600*(1/'Intersecting Model'!H$31-1/'Intersecting Model'!$H$31)),'Intersecting Model'!$H$28+'Intersecting Model'!$H$17*SQRT('Intersecting Model'!$H$15^2+'Intersecting Model'!$H$16^2))+'Intersecting Model'!$C$39","v":132.46714285714285},{"$f":"MAXA(3600*I32/('Intersecting Model'!$I$31)+'Intersecting Model'!$H$17*'Intersecting Model'!$H$15+MAXA(0,'Intersecting Model'!$C$17*3600*(1/'Intersecting Model'!I$31-1/'Intersecting Model'!$H$31)),'Intersecting Model'!$H$28+'Intersecting Model'!$H$17*SQRT('Intersecting Model'!$H$15^2+'Intersecting Model'!$H$16^2))+'Intersecting Model'!$C$39","v":125.61}]
[null,"Heavy",{"$f":"MAXA(3600*C33/('Intersecting Model'!$C$31)+'Intersecting Model'!$H$17*'Intersecting Model'!$H$15+MAXA(0,'Intersecting Model'!$C$17*3600*(1/'Intersecting Model'!$C$31-1/'Intersecting Model'!$I$31)),'Intersecting Model'!$I$28+'Intersecting Model'!$H$17*SQRT('Intersecting Model'!$H$15^2+'Intersecting Model'!$H$16^2))+'Intersecting Model'!$C$39","v":381.61},{"$f":"MAXA(3600*D33/('Intersecting Model'!$D$31)+'Intersecting Model'!$H$17*'Intersecting Model'!$H$15+MAXA(0,'Intersecting Model'!$C$17*3600*(1/'Intersecting Model'!$D$31-1/'Intersecting Model'!$I$31)),'Intersecting Model'!$I$28+'Intersecting Model'!$H$17*SQRT('Intersecting Model'!$H$15^2+'Intersecting Model'!$H$16^2))+'Intersecting Model'!$C$39","v":329.61},{"$f":"MAXA(3600*E33/('Intersecting Model'!$E$31)+'Intersecting Model'!$H$17*'Intersecting Model'!$H$15+MAXA(0,'Intersecting Model'!$C$17*3600*(1/'Intersecting Model'!$E$31-1/'Intersecting Model'!$I$31)),'Intersecting Model'!$I$28+'Intersecting Model'!$H$17*SQRT('Intersecting Model'!$H$15^2+'Intersecting Model'!$H$16^2))+'Intersecting Model'!$C$39","v":221.61},{"$f":"MAXA(3600*F33/('Intersecting Model'!$F$31)+'Intersecting Model'!$H$17*'Intersecting Model'!$H$15+MAXA(0,'Intersecting Model'!$C$17*3600*(1/'Intersecting Model'!$F$31-1/'Intersecting Model'!$I$31)),'Intersecting Model'!$I$28+'Intersecting Model'!$H$17*SQRT('Intersecting Model'!$H$15^2+'Intersecting Model'!$H$16^2))+'Intersecting Model'!$C$39","v":193.91769230769231},{"$f":"MAXA(3600*G33/('Intersecting Model'!$G$31)+'Intersecting Model'!$H$17*'Intersecting Model'!$H$15+MAXA(0,'Intersecting Model'!$C$17*3600*(1/'Intersecting Model'!$G$31-1/'Intersecting Model'!$I$31)),'Intersecting Model'!$I$28+'Intersecting Model'!$H$17*SQRT('Intersecting Model'!$H$15^2+'Intersecting Model'!$H$16^2))+'Intersecting Model'!$C$39","v":181.60999999999999},{"$f":"MAXA(3600*H33/('Intersecting Model'!$H$31)+'Intersecting Model'!$H$17*'Intersecting Model'!$H$15+MAXA(0,'Intersecting Model'!$C$17*3600*(1/'Intersecting Model'!$H$31-1/'Intersecting Model'!$I$31)),'Intersecting Model'!$I$28+'Intersecting Model'!$H$17*SQRT('Intersecting Model'!$H$15^2+'Intersecting Model'!$H$16^2))+'Intersecting Model'!$C$39","v":170.18142857142854},{"$f":"MAXA(3600*I33/('Intersecting Model'!$I$31)+'Intersecting Model'!$H$17*'Intersecting Model'!$H$15+MAXA(0,'Intersecting Model'!$C$17*3600*(1/'Intersecting Model'!$I$31-1/'Intersecting Model'!$I$31)),'Intersecting Model'!$I$28+'Intersecting Model'!$H$17*SQRT('Intersecting Model'!$H$15^2+'Intersecting Model'!$H$16^2))+'Intersecting Model'!$C$39","v":125.61}]
[]
[null,"VMC Average time between Arrivals",null,null,null,"Time in Seconds",null,null,null,null,null,null,"Average Arrival separation"]
[null,null,"Small - S","Small - T","Small +","Large-TP","Large-Jet","Large-757","Heavy",null,null,null,{"$f":"SUM(C78:I84)","v":96.558638648805896},"seconds",{"$f":"3600/M77","v":37.283044276272214}]
[null,"Small - S",{"$f":"C7*C58","v":0},0,0,0,0,0,0]
[null,"Small - T",0,0.98010000000000019,0,2.4667615384615384,4.0138333333333334,0.39233571428571429,0.37605000000000011]
[null,"Small +",0,0,0,0,0,0,0]
[null,"Large-TP",0,5.548915384615384,0,7.4002846153846145,12.041500000000001,1.1770071428571427,1.1431752075879285]
[null,"Large-Jet",0,9.6071666666666662,0,13.410730769230769,20.069166666666668,1.9616785714285712,1.9302920126465477]
[null,"Large-757",0,1.1740500000000003,0,1.7733807692307695,2.7069166666666673,0.24759642857142863,0.23602500000000004]
[null,"Heavy",0,1.3960500000000002,0,2.3272269230769229,3.6069166666666668,0.33545357142857141,0.23602500000000004]
[]
[null,"VMC Average time between Departures",null,null,null,"Time in Seconds",null,null,null,null,null,null,"Average Departure separation"]
[null,null,"Small - S","Small - T","Small +","Large-TP","Large-Jet","Large-757","Heavy",null,null,null,{"$f":"SUM(C88:I94)","v":73.050000000000011},"seconds",{"$f":"3600/M87","v":49.281314168377818}]
[null,"Small - S",{"$f":"C7*C37","v":0},{"$f":"D7*D37","v":0},0,0,0,0,0]
[null,"Small - T",{"$f":"C8*C38","v":0},0.45000000000000007,0,1.65,2.75,0.27500000000000008,0.30000000000000004]
[null,"Small +",0,0,0,0,0,0,0]
[null,"Large-TP",0,2.6999999999999997,0,6.3,10.5,1.05,1.05]
[null,"Large-Jet",0,4.5,0,10.5,17.5,1.75,1.75]
[null,"Large-757",0,0.45000000000000007,0,1.05,1.75,0.17500000000000004,0.17500000000000004]
[null,"Heavy",0,0.65000000000000013,0,1.95,3.25,0.32500000000000007,0.25000000000000006]
[]
[null,"IMC Average time between Arrivals",null,null,null,"Time in Seconds",null,null,null,null,null,null,"Average Arrival separation"]
[null,null,"Small - S","Small - T","Small +","Large-TP","Large-Jet","Large-757","Heavy",null,null,null,{"$f":"SUM(C98:I104)","v":128.25615384615384},"seconds",{"$f":"3600/M97","v":28.06882860621473}]
[null,"Small - S",{"$f":"C7*C68","v":0},0,0,0,0,0,0]
[null,"Small - T",0,1.3761000000000003,0,3.3806076923076924,5.4805000000000001,0.5337642857142858,0.50805000000000011]
[null,"Small +",0,0,0,0,0,0,0]
[null,"Large-TP",0,6.9529153846153839,0,10.141823076923076,16.441499999999998,1.6012928571428571,1.5241499999999999]
[null,"Large-Jet",0,11.947166666666668,0,17.979961538461538,27.4025,2.6688214285714285,2.5402500000000003]
[null,"Large-757",0,1.4080500000000002,0,2.3133807692307697,3.573583333333334,0.33116785714285718,0.31402500000000005]
[null,"Heavy",0,1.6480500000000005,0,2.9087653846153847,4.5402499999999995,0.42545357142857143,0.31402500000000005]
[]
[null,"IMC Average time between Departures",null,null,null,"Time in Seconds",null,null,null,null,null,null,"Average Departure separation"]
[null,null,"Small - S","Small - T","Small +","Large-TP","Large-Jet","Large-757","Heavy",null,null,null,{"$f":"SUM(C108:I114)","v":73.300000000000011},"seconds",{"$f":"3600/M107","v":49.113233287858108}]
[null,"Small - S",{"$f":"C7*C47","v":0},{"$f":"D7*D47","v":0},0,0,0,0,0]
[null,"Small - T",{"$f":"C8*C48","v":0},0.70000000000000018,0,1.65,2.75,0.27500000000000008,0.30000000000000004]
[null,"Small +",0,0,0,0,0,0,0]
[null,"Large-TP",0,2.6999999999999997,0,6.3,10.5,1.05,1.05]
[null,"Large-Jet",0,4.5,0,10.5,17.5,1.75,1.75]
[null,"Large-757",0,0.45000000000000007,0,1.05,1.75,0.17500000000000004,0.17500000000000004]
[null,"Heavy",0,0.65000000000000013,0,1.95,3.25,0.32500000000000007,0.25000000000000006]
[]
[null,"VMC Average Time Required for Departure between Arrivals",null,null,null,"Time in Seconds"]
[null,null,"Small - S","Small - T","Small +","Large-TP","Large-Jet","Large-757","Heavy"]
[null,"Small - S",{"$f":"'Intersecting Model'!C$28+'Intersecting Model'!$C$15*3600/'Intersecting Model'!C$31","v":112},{"$f":"'Intersecting Model'!D$28+'Intersecting Model'!$C$15*3600/'Intersecting Model'!D$31","v":112},{"$f":"'Intersecting Model'!E$28+'Intersecting Model'!$C$15*3600/'Intersecting Model'!E$31","v":102},{"$f":"'Intersecting Model'!F$28+'Intersecting Model'!$C$15*3600/'Intersecting Model'!F$31","v":100.38461538461539},{"$f":"'Intersecting Model'!G$28+'Intersecting Model'!$C$15*3600/'Intersecting Model'!G$31","v":99.333333333333343},{"$f":"'Intersecting Model'!H$28+'Intersecting Model'!$C$15*3600/'Intersecting Model'!H$31","v":102.42857142857143},{"$f":"'Intersecting Model'!I$28+'Intersecting Model'!$C$15*3600/'Intersecting Model'!I$31","v":103}]
[null,"Small - T",{"$f":"'Intersecting Model'!C$28+'Intersecting Model'!$C$15*3600/'Intersecting Model'!C$31","v":112},{"$f":"'Intersecting Model'!D$28+'Intersecting Model'!$C$15*3600/'Intersecting Model'!D$31","v":112},{"$f":"'Intersecting Model'!E$28+'Intersecting Model'!$C$15*3600/'Intersecting Model'!E$31","v":102},{"$f":"'Intersecting Model'!F$28+'Intersecting Model'!$C$15*3600/'Intersecting Model'!F$31","v":100.38461538461539},{"$f":"'Intersecting Model'!G$28+'Intersecting Model'!$C$15*3600/'Intersecting Model'!G$31","v":99.333333333333343},{"$f":"'Intersecting Model'!H$28+'Intersecting Model'!$C$15*3600/'Intersecting Model'!H$31","v":102.42857142857143},{"$f":"'Intersecting Model'!I$28+'Intersecting Model'!$C$15*3600/'Intersecting Model'!I$31","v":103}]
[null,"Small +",{"$f":"'Intersecting Model'!C$28+'Intersecting Model'!$C$15*3600/'Intersecting Model'!C$31","v":112},{"$f":"'Intersecting Model'!D$28+'Intersecting Model'!$C$15*3600/'Intersecting Model'!D$31","v":112},{"$f":"'Intersecting Model'!E$28+'Intersecting Model'!$C$15*3600/'Intersecting Model'!E$31","v":102},{"$f":"'Intersecting Model'!F$28+'Intersecting Model'!$C$15*3600/'Intersecting Model'!F$31","v":100.38461538461539},{"$f":"'Intersecting Model'!G$28+'Intersecting Model'!$C$15*3600/'Intersecting Model'!G$31","v":99.333333333333343},{"$f":"'Intersecting Model'!H$28+'Intersecting Model'!$C$15*3600/'Intersecting Model'!H$31","v":102.42857142857143},{"$f":"'Intersecting Model'!I$28+'Intersecting Model'!$C$15*3600/'Intersecting Model'!I$31","v":103}]
[null,"Large-TP",{"$f":"'Intersecting Model'!C$28+'Intersecting Model'!$C$15*3600/'Intersecting Model'!C$31","v":112},{"$f":"'Intersecting Model'!D$28+'Intersecting Model'!$C$15*3600/'Intersecting Model'!D$31","v":112},{"$f":"'Intersecting Model'!E$28+'Intersecting Model'!$C$15*3600/'Intersecting Model'!E$31","v":102},{"$f":"'Intersecting Model'!F$28+'Intersecting Model'!$C$15*3600/'Intersecting Model'!F$31","v":100.38461538461539},{"$f":"'Intersecting Model'!G$28+'Intersecting Model'!$C$15*3600/'Intersecting Model'!G$31","v":99.333333333333343},{"$f":"'Intersecting Model'!H$28+'Intersecting Model'!$C$15*3600/'Intersecting Model'!H$31","v":102.42857142857143},{"$f":"'Intersecting Model'!I$28+'Intersecting Model'!$C$15*3600/'Intersecting Model'!I$31","v":103}]
[null,"Large-Jet",{"$f":"'Intersecting Model'!C$28+'Intersecting Model'!$C$15*3600/'Intersecting Model'!C$31","v":112},{"$f":"'Intersecting Model'!D$28+'Intersecting Model'!$C$15*3600/'Intersecting Model'!D$31","v":112},{"$f":"'Intersecting Model'!E$28+'Intersecting Model'!$C$15*3600/'Intersecting Model'!E$31","v":102},{"$f":"'Intersecting Model'!F$28+'Intersecting Model'!$C$15*3600/'Intersecting Model'!F$31","v":100.38461538461539},{"$f":"'Intersecting Model'!G$28+'Intersecting Model'!$C$15*3600/'Intersecting Model'!G$31","v":99.333333333333343},{"$f":"'Intersecting Model'!H$28+'Intersecting Model'!$C$15*3600/'Intersecting Model'!H$31","v":102.42857142857143},{"$f":"'Intersecting Model'!I$28+'Intersecting Model'!$C$15*3600/'Intersecting Model'!I$31","v":103}]
[null,"Large-757",{"$f":"'Intersecting Model'!C$28+'Intersecting Model'!$C$15*3600/'Intersecting Model'!C$31","v":112},{"$f":"'Intersecting Model'!D$28+'Intersecting Model'!$C$15*3600/'Intersecting Model'!D$31","v":112},{"$f":"'Intersecting Model'!E$28+'Intersecting Model'!$C$15*3600/'Intersecting Model'!E$31","v":102},{"$f":"'Intersecting Model'!F$28+'Intersecting Model'!$C$15*3600/'Intersecting Model'!F$31","v":100.38461538461539},{"$f":"'Intersecting Model'!G$28+'Intersecting Model'!$C$15*3600/'Intersecting Model'!G$31","v":99.333333333333343},{"$f":"'Intersecting Model'!H$28+'Intersecting Model'!$C$15*3600/'Intersecting Model'!H$31","v":102.42857142857143},{"$f":"'Intersecting Model'!I$28+'Intersecting Model'!$C$15*3600/'Intersecting Model'!I$31","v":103}]
[null,"Heavy",{"$f":"'Intersecting Model'!C$28+'Intersecting Model'!$C$15*3600/'Intersecting Model'!C$31","v":112},{"$f":"'Intersecting Model'!D$28+'Intersecting Model'!$C$15*3600/'Intersecting Model'!D$31","v":112},{"$f":"'Intersecting Model'!E$28+'Intersecting Model'!$C$15*3600/'Intersecting Model'!E$31","v":102},{"$f":"'Intersecting Model'!F$28+'Intersecting Model'!$C$15*3600/'Intersecting Model'!F$31","v":100.38461538461539},{"$f":"'Intersecting Model'!G$28+'Intersecting Model'!$C$15*3600/'Intersecting Model'!G$31","v":99.333333333333343},{"$f":"'Intersecting Model'!H$28+'Intersecting Model'!$C$15*3600/'Intersecting Model'!H$31","v":102.42857142857143},{"$f":"'Intersecting Model'!I$28+'Intersecting Model'!$C$15*3600/'Intersecting Model'!I$31","v":103}]
[]
[null,"IMC Average Time Required for Departure between Arrivals",null,null,null,"Time in Seconds"]
[null,null,"Small - S","Small - T","Small +","Large-TP","Large-Jet","Large-757","Heavy"]
[null,"Small - S",{"$f":"'Intersecting Model'!C$28+'Intersecting Model'!$C$16*3600/'Intersecting Model'!C$31","v":112},{"$f":"'Intersecting Model'!D$28+'Intersecting Model'!$C$16*3600/'Intersecting Model'!D$31","v":112},{"$f":"'Intersecting Model'!E$28+'Intersecting Model'!$C$16*3600/'Intersecting Model'!E$31","v":102},{"$f":"'Intersecting Model'!F$28+'Intersecting Model'!$C$16*3600/'Intersecting Model'!F$31","v":100.38461538461539},{"$f":"'Intersecting Model'!G$28+'Intersecting Model'!$C$16*3600/'Intersecting Model'!G$31","v":99.333333333333343},{"$f":"'Intersecting Model'!H$28+'Intersecting Model'!$C$16*3600/'Intersecting Model'!H$31","v":102.42857142857143},{"$f":"'Intersecting Model'!I$28+'Intersecting Model'!$C$16*3600/'Intersecting Model'!I$31","v":103}]
[null,"Small - T",{"$f":"'Intersecting Model'!C$28+'Intersecting Model'!$C$16*3600/'Intersecting Model'!C$31","v":112},{"$f":"'Intersecting Model'!D$28+'Intersecting Model'!$C$16*3600/'Intersecting Model'!D$31","v":112},{"$f":"'Intersecting Model'!E$28+'Intersecting Model'!$C$16*3600/'Intersecting Model'!E$31","v":102},{"$f":"'Intersecting Model'!F$28+'Intersecting Model'!$C$16*3600/'Intersecting Model'!F$31","v":100.38461538461539},{"$f":"'Intersecting Model'!G$28+'Intersecting Model'!$C$16*3600/'Intersecting Model'!G$31","v":99.333333333333343},{"$f":"'Intersecting Model'!H$28+'Intersecting Model'!$C$16*3600/'Intersecting Model'!H$31","v":102.42857142857143},{"$f":"'Intersecting Model'!I$28+'Intersecting Model'!$C$16*3600/'Intersecting Model'!I$31","v":103}]
[null,"Small +",{"$f":"'Intersecting Model'!C$28+'Intersecting Model'!$C$16*3600/'Intersecting Model'!C$31","v":112},{"$f":"'Intersecting Model'!D$28+'Intersecting Model'!$C$16*3600/'Intersecting Model'!D$31","v":112},{"$f":"'Intersecting Model'!E$28+'Intersecting Model'!$C$16*3600/'Intersecting Model'!E$31","v":102},{"$f":"'Intersecting Model'!F$28+'Intersecting Model'!$C$16*3600/'Intersecting Model'!F$31","v":100.38461538461539},{"$f":"'Intersecting Model'!G$28+'Intersecting Model'!$C$16*3600/'Intersecting Model'!G$31","v":99.333333333333343},{"$f":"'Intersecting Model'!H$28+'Intersecting Model'!$C$16*3600/'Intersecting Model'!H$31","v":102.42857142857143},{"$f":"'Intersecting Model'!I$28+'Intersecting Model'!$C$16*3600/'Intersecting Model'!I$31","v":103}]
[null,"Large-TP",{"$f":"'Intersecting Model'!C$28+'Intersecting Model'!$C$16*3600/'Intersecting Model'!C$31","v":112},{"$f":"'Intersecting Model'!D$28+'Intersecting Model'!$C$16*3600/'Intersecting Model'!D$31","v":112},{"$f":"'Intersecting Model'!E$28+'Intersecting Model'!$C$16*3600/'Intersecting Model'!E$31","v":102},{"$f":"'Intersecting Model'!F$28+'Intersecting Model'!$C$16*3600/'Intersecting Model'!F$31","v":100.38461538461539},{"$f":"'Intersecting Model'!G$28+'Intersecting Model'!$C$16*3600/'Intersecting Model'!G$31","v":99.333333333333343},{"$f":"'Intersecting Model'!H$28+'Intersecting Model'!$C$16*3600/'Intersecting Model'!H$31","v":102.42857142857143},{"$f":"'Intersecting Model'!I$28+'Intersecting Model'!$C$16*3600/'Intersecting Model'!I$31","v":103}]
[null,"Large-Jet",{"$f":"'Intersecting Model'!C$28+'Intersecting Model'!$C$16*3600/'Intersecting Model'!C$31","v":112},{"$f":"'Intersecting Model'!D$28+'Intersecting Model'!$C$16*3600/'Intersecting Model'!D$31","v":112},{"$f":"'Intersecting Model'!E$28+'Intersecting Model'!$C$16*3600/'Intersecting Model'!E$31","v":102},{"$f":"'Intersecting Model'!F$28+'Intersecting Model'!$C$16*3600/'Intersecting Model'!F$31","v":100.38461538461539},{"$f":"'Intersecting Model'!G$28+'Intersecting Model'!$C$16*3600/'Intersecting Model'!G$31","v":99.333333333333343},{"$f":"'Intersecting Model'!H$28+'Intersecting Model'!$C$16*3600/'Intersecting Model'!H$31","v":102.42857142857143},{"$f":"'Intersecting Model'!I$28+'Intersecting Model'!$C$16*3600/'Intersecting Model'!I$31","v":103}]
[null,"Large-757",{"$f":"'Intersecting Model'!C$28+'Intersecting Model'!$C$16*3600/'Intersecting Model'!C$31","v":112},{"$f":"'Intersecting Model'!D$28+'Intersecting Model'!$C$16*3600/'Intersecting Model'!D$31","v":112},{"$f":"'Intersecting Model'!E$28+'Intersecting Model'!$C$16*3600/'Intersecting Model'!E$31","v":102},{"$f":"'Intersecting Model'!F$28+'Intersecting Model'!$C$16*3600/'Intersecting Model'!F$31","v":100.38461538461539},{"$f":"'Intersecting Model'!G$28+'Intersecting Model'!$C$16*3600/'Intersecting Model'!G$31","v":99.333333333333343},{"$f":"'Intersecting Model'!H$28+'Intersecting Model'!$C$16*3600/'Intersecting Model'!H$31","v":102.42857142857143},{"$f":"'Intersecting Model'!I$28+'Intersecting Model'!$C$16*3600/'Intersecting Model'!I$31","v":103}]
[null,"Heavy",{"$f":"'Intersecting Model'!C$28+'Intersecting Model'!$C$16*3600/'Intersecting Model'!C$31","v":112},{"$f":"'Intersecting Model'!D$28+'Intersecting Model'!$C$16*3600/'Intersecting Model'!D$31","v":112},{"$f":"'Intersecting Model'!E$28+'Intersecting Model'!$C$16*3600/'Intersecting Model'!E$31","v":102},{"$f":"'Intersecting Model'!F$28+'Intersecting Model'!$C$16*3600/'Intersecting Model'!F$31","v":100.38461538461539},{"$f":"'Intersecting Model'!G$28+'Intersecting Model'!$C$16*3600/'Intersecting Model'!G$31","v":99.333333333333343},{"$f":"'Intersecting Model'!H$28+'Intersecting Model'!$C$16*3600/'Intersecting Model'!H$31","v":102.42857142857143},{"$f":"'Intersecting Model'!I$28+'Intersecting Model'!$C$16*3600/'Intersecting Model'!I$31","v":103},null,null,null,null,"Departures between Arrivals",null,"VMC"]
["Departures on Dependent \"opening\" Runway",null,null,null,null,null,null,null,null,null,null,null,null,{"$f":"SUMPRODUCT(N136:N142,C7:C13)+SUMPRODUCT(O136:O142,D7:D13)+SUMPRODUCT(P136:P142,E7:E13)+SUMPRODUCT(Q136:Q142,F7:F13)+SUMPRODUCT(R136:R142,G7:G13)+SUMPRODUCT(T136:T142,I7:I13)+SUMPRODUCT(S136:S142,H7:H13)","v":0.23750000000000004},{"$f":"N135*3600/M77","v":8.8547230156146526}]
[null,"VMC Average Required for Departure between Arrivals",null,null,null,"Time in Seconds",null,null,null,null,null,null,null,{"$f":"IF(C138>=0,TRUNC(C138/$M$87,0)+1,0)","v":0},{"$f":"IF(D138>=0,TRUNC(D138/$M$87,0)+1,0)","v":0},0,0,0,0,0]
[null,null,"Small - S","Small - T","Small +","Large-TP","Large-Jet","Large-757","Heavy",null,null,null,null,1,0,0,0,0,0,0]
[null,"Small - S",{"$f":"C58-C118","v":-6.3900000000000006},{"$f":"D58-D118","v":-13.989999999999995},-15.39,-18.159230769230774,-19.056666666666672,-23.961428571428584,-27.789999999999992,null,null,null,null,1,1,0,0,0,0,0]
[null,"Small - T",{"$f":"C59-C119","v":21.610000000000014},-13.989999999999995,-15.39,-18.159230769230774,-19.056666666666672,-23.961428571428584,-27.789999999999992,null,null,null,null,2,1,1,0,0,0,0]
[null,"Small +",63.610000000000014,28.010000000000019,-15.39,-18.159230769230774,-19.056666666666672,-23.961428571428584,-27.789999999999992,null,null,null,null,2,2,1,0,0,0,0]
[null,"Large-TP",111.76384615384617,72.963846153846134,24.763846153846146,-18.159230769230774,-19.056666666666672,-23.961428571428584,-26.788319494138094,null,null,null,null,{"$f":"IF(C143>=0,TRUNC(C143/$M$87,0)+1,0)","v":3},2,1,1,1,0,0]
[null,"Large-Jet",118.94333333333336,80.143333333333317,31.943333333333328,-10.979743589743592,-19.056666666666672,-23.961428571428584,-25.788319494138094,null,null,null,null,{"$f":"IF(C144>=0,TRUNC(C144/$M$87,0)+1,0)","v":3},3,2,1,1,1,0]
[null,"Large-757",165.61,122.81,68.610000000000014,17.840769230769254,8.9433333333333422,-3.3900000000000006,-8.5900000000000034]
[null,"Heavy",213.61,167.20999999999998,77.610000000000014,54.763846153846146,44.943333333333328,31.75285714285711,-8.5900000000000034]
[null,null,null,null,null,null,null,null,null,null,null,null,null,"Departures between Arrivals",null,"IMC"]
[null,"IMC Average Required for Departure between Arrivals",null,null,null,"Time in Seconds",null,null,null,null,null,null,null,{"$f":"SUMPRODUCT(N147:N153,C7:C13)+SUMPRODUCT(O147:O153,D7:D13)+SUMPRODUCT(P147:P153,E7:E13)+SUMPRODUCT(Q147:Q153,F7:F13)+SUMPRODUCT(R147:R153,G7:G13)+SUMPRODUCT(T147:T153,I7:I13)","v":1.0550000000000002},{"$f":"N146*3600/M97","v":29.612614179556541}]
[null,null,"Small - S","Small - T","Small +","Large-TP","Large-Jet","Large-757","Heavy",null,null,null,null,{"$f":"IF(C148>=0,TRUNC(C148/$M$107,0)+1,0)","v":1},1,1,1,1,1,0]
[null,"Small - S",{"$f":"C68-C118","v":37.610000000000014},{"$f":"D68-D118","v":25.610000000000014},17.61,12.302307692307693,10.276666666666657,4.3242857142857076,-1.3900000000000006,null,null,null,null,{"$f":"IF(C152>=0,TRUNC(C152/$M$107,0)+1,0)","v":3},2,1,1,1,1,0]
[null,"Small - T",{"$f":"C69-C119","v":65.610000000000014},25.610000000000014,17.61,12.302307692307693,10.276666666666657,4.3242857142857076,-1.3900000000000006,null,null,null,null,{"$f":"IF(C150>=0,TRUNC(C150/$M$107,0)+1,0)","v":2},1,1,1,1,1,0]
[null,"Small +",107.61000000000001,67.610000000000014,17.61,12.302307692307693,10.276666666666657,4.3242857142857076,-1.3900000000000006,null,null,null,null,3,2,1,1,1,1,0]
[null,"Large-TP",163.7638461538462,119.76384615384615,63.763846153846146,12.302307692307693,10.276666666666657,4.3242857142857076,-1.3900000000000006,null,null,null,null,3,2,1,1,1,1,0]
[null,"Large-Jet",170.94333333333338,126.94333333333333,70.943333333333328,19.481794871794875,10.276666666666657,4.3242857142857076,-1.3900000000000006,null,null,null,null,{"$f":"IF(C153>=0,TRUNC(C153/$M$107,0)+1,0)","v":3},3,2,1,1,1,1]
[null,"Large-757",217.61,169.61,107.61000000000001,53.840769230769268,43.610000000000014,30.038571428571416,22.61,null,null,null,null,{"$f":"IF(C154>=0,TRUNC(C154/$M$107,0)+1,0)","v":4},3,2,2,2,1,1]
[null,"Heavy",269.61,217.61,119.61000000000001,93.533076923076919,82.276666666666642,67.75285714285711,22.61]
[null,"previous formula for cell C168, same type as VMC",{"$f":"C148+'Intersecting Work Tab (2)'!C$2-'Intersecting Model'!$C$16*3600/'Intersecting Model'!C$31","v":-34.490357063860699}]

{"sheet":"Intersecting Work Tab (3)","index":17,"n_rows":155,"n_cols":20,"rows_kept":155,"cut":false,"hidden":true,"merged":[]}
["Departure Intersection Clearance - Rnwy 1 (Seconds)",null,{"$f":"IF('Intersecting Model'!$C$13='Intersecting Model'!$M$169,120,SQRT(2*'Intersecting Model'!$C$10/'Intersecting Model'!$H$13))","v":22.360679774997898},"Departure Intersection Clearance - Rnwy 2 (Seconds)",null,null,null,null,{"$f":"SQRT(2*'Intersecting Model'!$C$9/'Intersecting Model'!$H$13)","v":17.320508075688775},{"$f":"IF('Intersecting Model'!$C$13='Intersecting Model'!$M$169,120,SQRT(2*'Intersecting Model'!$C$10/'Intersecting Model'!$H$13))","v":22.360679774997898}]
["Arrival-Shortened ROT on Runway 1",null,{"$f":"'Intersecting Model'!$C$9/('Intersecting Model'!C31*1.1508*5280/3600)","v":7.8996429361392853},{"$f":"'Intersecting Model'!$C$9/('Intersecting Model'!D31*1.1508*5280/3600)","v":7.1096786425253571},{"$f":"'Intersecting Model'!$C$9/('Intersecting Model'!E31*1.1508*5280/3600)","v":5.9247322021044653},{"$f":"'Intersecting Model'!$C$9/('Intersecting Model'!F31*1.1508*5280/3600)","v":5.4689835711733519},{"$f":"'Intersecting Model'!$C$9/('Intersecting Model'!G31*1.1508*5280/3600)","v":5.2664286240928577},{"$f":"'Intersecting Model'!$C$9/('Intersecting Model'!H31*1.1508*5280/3600)","v":5.0783418875181132},{"$f":"'Intersecting Model'!$C$9/('Intersecting Model'!I31*1.1508*5280/3600)","v":4.7397857616835726}]
["Arrival-Shortened ROT on Runway 2",null,{"$f":"'Intersecting Model'!$C$10/('Intersecting Model'!C31*1.1508*5280/3600)","v":13.166071560232142},{"$f":"'Intersecting Model'!$C$10/('Intersecting Model'!D31*1.1508*5280/3600)","v":11.849464404208929},{"$f":"'Intersecting Model'!$C$10/('Intersecting Model'!E31*1.1508*5280/3600)","v":9.8745536701741088},{"$f":"'Intersecting Model'!$C$10/('Intersecting Model'!F31*1.1508*5280/3600)","v":9.1149726186222537},{"$f":"'Intersecting Model'!$C$10/('Intersecting Model'!G31*1.1508*5280/3600)","v":8.7773810401547632},{"$f":"'Intersecting Model'!$C$10/('Intersecting Model'!H31*1.1508*5280/3600)","v":8.4639031458635223},{"$f":"'Intersecting Model'!$C$10/('Intersecting Model'!I31*1.1508*5280/3600)","v":7.899642936139287}]
[]
[null,"Arrivals Pairing Probability Matrix",null,"(chance of landing behind an aircraft from each class)",null,null,null,null,null,null,0,"Calculated Cells"]
[null,null,"Small - S","Small - T","Small +","Large-TP","Large-Jet","Large-757","Heavy",null,0,"Linked Input Cells"]
[null,"Small - S",{"$f":"'Intersecting Model'!$C25*'Intersecting Model'!C25","v":0},{"$f":"'Intersecting Model'!$C25*'Intersecting Model'!D25","v":0},{"$f":"'Intersecting Model'!$C25*'Intersecting Model'!E25","v":0},{"$f":"'Intersecting Model'!$C25*'Intersecting Model'!F25","v":0},{"$f":"'Intersecting Model'!$C25*'Intersecting Model'!G25","v":0},{"$f":"'Intersecting Model'!$C25*'Intersecting Model'!H25","v":0},{"$f":"'Intersecting Model'!$C25*'Intersecting Model'!I25","v":0},null,0,"Linked Cells"]
[null,"Small - T",{"$f":"'Intersecting Model'!$D25*'Intersecting Model'!C25","v":0},{"$f":"'Intersecting Model'!$D25*'Intersecting Model'!D25","v":1.0000000000000002E-2},{"$f":"'Intersecting Model'!$D25*'Intersecting Model'!E25","v":0},{"$f":"'Intersecting Model'!$D25*'Intersecting Model'!F25","v":0.03},{"$f":"'Intersecting Model'!$D25*'Intersecting Model'!G25","v":0.05},{"$f":"'Intersecting Model'!$D25*'Intersecting Model'!H25","v":5.000000000000001E-3},{"$f":"'Intersecting Model'!$D25*'Intersecting Model'!I25","v":5.000000000000001E-3},null,null,"(within this worksheet)"]
[null,"Small +",{"$f":"'Intersecting Model'!$E25*'Intersecting Model'!C25","v":0},{"$f":"'Intersecting Model'!$E25*'Intersecting Model'!D25","v":0},{"$f":"'Intersecting Model'!$E25*'Intersecting Model'!E25","v":0},{"$f":"'Intersecting Model'!$E25*'Intersecting Model'!F25","v":0},{"$f":"'Intersecting Model'!$E25*'Intersecting Model'!G25","v":0},{"$f":"'Intersecting Model'!$E25*'Intersecting Model'!H25","v":0},{"$f":"'Intersecting Model'!$E25*'Intersecting Model'!I25","v":0}]
[null,"Large-TP",{"$f":"'Intersecting Model'!$F25*'Intersecting Model'!C25","v":0},{"$f":"'Intersecting Model'!$F25*'Intersecting Model'!D25","v":0.03},{"$f":"'Intersecting Model'!$F25*'Intersecting Model'!E25","v":0},{"$f":"'Intersecting Model'!$F25*'Intersecting Model'!F25","v":0.09},{"$f":"'Intersecting Model'!$F25*'Intersecting Model'!G25","v":0.15},{"$f":"'Intersecting Model'!$F25*'Intersecting Model'!H25","v":1.4999999999999999E-2},{"$f":"'Intersecting Model'!$F25*'Intersecting Model'!I25","v":1.4999999999999999E-2}]
[null,"Large-Jet",{"$f":"'Intersecting Model'!$G25*'Intersecting Model'!C25","v":0},{"$f":"'Intersecting Model'!$G25*'Intersecting Model'!D25","v":0.05},{"$f":"'Intersecting Model'!$G25*'Intersecting Model'!E25","v":0},{"$f":"'Intersecting Model'!$G25*'Intersecting Model'!F25","v":0.15},{"$f":"'Intersecting Model'!$G25*'Intersecting Model'!G25","v":0.25},{"$f":"'Intersecting Model'!$G25*'Intersecting Model'!H25","v":2.5000000000000001E-2},{"$f":"'Intersecting Model'!$G25*'Intersecting Model'!I25","v":2.5000000000000001E-2}]
[null,"Large-757",{"$f":"'Intersecting Model'!$H25*'Intersecting Model'!C25","v":0},{"$f":"'Intersecting Model'!$H25*'Intersecting Model'!D25","v":5.000000000000001E-3},{"$f":"'Intersecting Model'!$H25*'Intersecting Model'!E25","v":0},{"$f":"'Intersecting Model'!$H25*'Intersecting Model'!F25","v":1.4999999999999999E-2},{"$f":"'Intersecting Model'!$H25*'Intersecting Model'!G25","v":2.5000000000000001E-2},{"$f":"'Intersecting Model'!$H25*'Intersecting Model'!H25","v":2.5000000000000005E-3},{"$f":"'Intersecting Model'!$H25*'Intersecting Model'!I25","v":2.5000000000000005E-3},"Summary Check"]
[null,"Heavy",{"$f":"'Intersecting Model'!$I25*'Intersecting Model'!C25","v":0},{"$f":"'Intersecting Model'!$I25*'Intersecting Model'!D25","v":5.000000000000001E-3},{"$f":"'Intersecting Model'!$I25*'Intersecting Model'!E25","v":0},{"$f":"'Intersecting Model'!$I25*'Intersecting Model'!F25","v":1.4999999999999999E-2},{"$f":"'Intersecting Model'!$I25*'Intersecting Model'!G25","v":2.5000000000000001E-2},{"$f":"'Intersecting Model'!$I25*'Intersecting Model'!H25","v":2.5000000000000005E-3},{"$f":"'Intersecting Model'!$I25*'Intersecting Model'!I25","v":2.5000000000000005E-3},"Total = ",{"$f":"SUM(C7:I13)","v":0.99999999999999989}]
[]
[null,"VMC Required Separation for arrivals following an aircraft from each class",null,null,null,"Distance in Nautical Miles"]
[null,null,"Small - S","Small - T","Small +","Large-TP","Large-Jet","Large-757","Heavy"]
[null,"Small - S",{"$f":"'Intersecting Model'!$D$44+'Intersecting Model'!$H$39","v":1.9},{"$f":"$C$17","v":1.9},1.9,1.9,1.9,1.9,1.9]
[null,"Small - T",{"$f":"$C$17","v":1.9},1.9,1.9,1.9,1.9,1.9,1.9]
[null,"Small +",{"$f":"'Intersecting Model'!$D$45+'Intersecting Model'!$H$39","v":1.9},{"$f":"$C$19","v":1.9},{"$f":"$C$19","v":1.9},{"$f":"'Intersecting Model'!$D$46+'Intersecting Model'!$H$39","v":1.9},{"$f":"$F$19","v":1.9},{"$f":"$F$19","v":1.9},{"$f":"$F$19","v":1.9},null,null,"seconds"]
[null,"Large-TP",{"$f":"'Intersecting Model'!$D$47+'Intersecting Model'!$H$39","v":2.7},{"$f":"$C$20","v":2.7},{"$f":"$C$20","v":2.7},{"$f":"'Intersecting Model'!$D$48+'Intersecting Model'!$H$39","v":1.9},{"$f":"$F$20","v":1.9},{"$f":"$F$20","v":1.9},{"$f":"$F$20","v":1.9}]
[null,"Large-Jet",{"$f":"'Intersecting Model'!$D$47+'Intersecting Model'!$H$39","v":2.7},{"$f":"$C$21","v":2.7},{"$f":"$C$21","v":2.7},{"$f":"'Intersecting Model'!$D$48+'Intersecting Model'!$H$39","v":1.9},{"$f":"$F$21","v":1.9},{"$f":"$F$21","v":1.9},{"$f":"$F$21","v":1.9}]
[null,"Large-757",{"$f":"'Intersecting Model'!$D$49+'Intersecting Model'!$H$39","v":3.7},{"$f":"$C$22","v":3.7},{"$f":"$C$22","v":3.7},{"$f":"'Intersecting Model'!$D$50+'Intersecting Model'!$H$39","v":2.7},{"$f":"F22","v":2.7},{"$f":"$F$22","v":2.7},{"$f":"$F$22","v":2.7}]
[null,"Heavy",{"$f":"'Intersecting Model'!$D$51+'Intersecting Model'!$H$39","v":4.5999999999999996},{"$f":"$C$23","v":4.5999999999999996},{"$f":"'Intersecting Model'!$D$52+'Intersecting Model'!$H$39","v":3.6},{"$f":"$E$23","v":3.6},{"$f":"$E$23","v":3.6},{"$f":"$E$23","v":3.6},{"$f":"'Intersecting Model'!$D$53+'Intersecting Model'!$H$39","v":2.7}]
[]
[null,"IMC Required Separation for arrivals following an aircraft from each class",null,null,null,"Distance in Nautical Miles"]
[null,null,"Small - S","Small - T","Small +","Large-TP","Large-Jet","Large-757","Heavy"]
[null,"Small - S",{"$f":"'Intersecting Model'!$E$44+'Intersecting Model'!$H$39","v":3},{"$f":"$C$27","v":3},3,3,3,3,3]
[null,"Small - T",{"$f":"$C$27","v":3},3,3,3,3,3,3]
[null,"Small +",{"$f":"'Intersecting Model'!$E$45+'Intersecting Model'!$H$39","v":3},{"$f":"$C$29","v":3},{"$f":"$C$29","v":3},{"$f":"'Intersecting Model'!$E$46+'Intersecting Model'!$H$39","v":3},{"$f":"$F$29","v":3},{"$f":"$F$29","v":3},{"$f":"$F$29","v":3}]
[null,"Large-TP",{"$f":"'Intersecting Model'!$E$47+'Intersecting Model'!$H$39","v":4},{"$f":"$C$30","v":4},{"$f":"$C$30","v":4},{"$f":"'Intersecting Model'!$E$48+'Intersecting Model'!$H$39","v":3},{"$f":"$F$30","v":3},{"$f":"$F$30","v":3},{"$f":"$F$30","v":3}]
[null,"Large-Jet",{"$f":"'Intersecting Model'!$E$47+'Intersecting Model'!$H$39","v":4},{"$f":"$C$31","v":4},{"$f":"$C$31","v":4},{"$f":"'Intersecting Model'!$E$48+'Intersecting Model'!$H$39","v":3},{"$f":"$F$31","v":3},{"$f":"$F$31","v":3},{"$f":"$F$31","v":3}]
[null,"Large-757",{"$f":"'Intersecting Model'!$E$49+'Intersecting Model'!$H$39","v":5},{"$f":"$C$32","v":5},{"$f":"$C$32","v":5},{"$f":"'Intersecting Model'!$E$50+'Intersecting Model'!$H$39","v":4},{"$f":"$F$32","v":4},{"$f":"$F$32","v":4},{"$f":"$F$32","v":4}]
[null,"Heavy",{"$f":"'Intersecting Model'!$E$51+'Intersecting Model'!$H$39","v":6},{"$f":"$C$33","v":6},{"$f":"'Intersecting Model'!$E$52+'Intersecting Model'!$H$39","v":5},{"$f":"$E$33","v":5},{"$f":"$E$33","v":5},{"$f":"$E$33","v":5},{"$f":"'Intersecting Model'!$E$53+'Intersecting Model'!$H$39","v":4}]
[]
[null,"VMC Required Separation for departures following an aircraft from each class",null,null,null,"Time in seconds"]
[null,null,"Small - S","Small - T","Small +","Large-TP","Large-Jet","Large-757","Heavy"]
[null,"Small - S",{"$f":"'Intersecting Model'!$D$57+'Intersecting Model'!$C$40","v":45},{"$f":"$C$37","v":45},{"$f":"$C$37","v":45},{"$f":"'Intersecting Model'!$D$58+'Intersecting Model'!$C$40","v":55},{"$f":"$F$37","v":55},55,{"$f":"'Intersecting Model'!$D$59+'Intersecting Model'!$C$40","v":60}]
[null,"Small - T",{"$f":"$C$37","v":45},45,45,{"$f":"$F$37","v":55},55,55,{"$f":"$I$37","v":60}]
[null,"Small +",45,45,45,{"$f":"$F$37","v":55},55,55,{"$f":"$I$37","v":60}]
[null,"Large-TP",{"$f":"'Intersecting Model'!$D$60+'Intersecting Model'!$C$40","v":90},{"$f":"$C$40","v":90},90,{"$f":"'Intersecting Model'!$D$61+'Intersecting Model'!$C$40","v":70},{"$f":"$F$40","v":70},{"$f":"$F$40","v":70},{"$f":"$F$40","v":70}]
[null,"Large-Jet",90,90,90,{"$f":"$F$40","v":70},70,70,70]
[null,"Large-757",90,90,90,70,70,70,70]
[null,"Heavy",{"$f":"'Intersecting Model'!$D$62+'Intersecting Model'!$C$40","v":130},{"$f":"$C$43","v":130},{"$f":"$C$43","v":130},{"$f":"$C$43","v":130},{"$f":"$C$43","v":130},{"$f":"$C$43","v":130},{"$f":"'Intersecting Model'!$D$63+'Intersecting Model'!$C$40","v":100}]
[]
[null,"IMC Required Separation for departures following an aircraft from each class",null,null,null,"Time in seconds"]
[null,null,"Small - S","Small - T","Small +","Large-TP","Large-Jet","Large-757","Heavy",null,null,"  "]
[null,"Small - S",{"$f":"'Intersecting Model'!$E$57+'Intersecting Model'!$C$40","v":70},{"$f":"$C$47","v":70},{"$f":"$C$47","v":70},{"$f":"'Intersecting Model'!$D$58+'Intersecting Model'!$C$40","v":55},{"$f":"$F$47","v":55},{"$f":"$F$47","v":55},{"$f":"'Intersecting Model'!$D$59+'Intersecting Model'!$C$40","v":60}]
[null,"Small - T",{"$f":"$C$47","v":70},70,70,{"$f":"$F$47","v":55},55,55,{"$f":"$I$47","v":60}]
[null,"Small +",70,70,70,55,55,55,{"$f":"$I$47","v":60}]
[null,"Large-TP",{"$f":"'Intersecting Model'!$E$60+'Intersecting Model'!$C$40","v":90},{"$f":"$C$50","v":90},90,{"$f":"'Intersecting Model'!$D$61+'Intersecting Model'!$C$40","v":70},{"$f":"$F$50","v":70},{"$f":"$F$50","v":70},{"$f":"$F$50","v":70}]
[null,"Large-Jet",{"$f":"$C$50","v":90},90,90,{"$f":"$F$50","v":70},70,70,70]
[null,"Large-757",{"$f":"$C$50","v":90},90,90,70,70,70,70]
[null,"Heavy",{"$f":"'Intersecting Model'!$D$62+'Intersecting Model'!$C$40","v":130},{"$f":"$C$53","v":130},{"$f":"$C$53","v":130},{"$f":"$C$53","v":130},{"$f":"$C$53","v":130},{"$f":"$C$53","v":130},{"$f":"'Intersecting Model'!$D$63+'Intersecting Model'!$C$40","v":100}]
[]
[null,null,null," "]
[null,"VMC Required Separation for arrivals following an aircraft from each class",null,null,null,"Time in Seconds"]
[null,null,"Small - S","Small - T","Small +","Large-TP","Large-Jet","Large-757","Heavy"]
[null,"Small - S",{"$f":"MAXA(3600*C17/('Intersecting Model'!$C$31)+'Intersecting Model'!$H$17*'Intersecting Model'!$H$15+MAXA(0,'Intersecting Model'!$C$17*3600*(1/'Intersecting Model'!$C$31-1/'Intersecting Model'!$C$31)),'Intersecting Model'!$C$28+'Intersecting Model'!$H$17*SQRT('Intersecting Model'!$H$15^2+'Intersecting Model'!$H$16^2))+'Intersecting Model'!$C$39","v":105.61},{"$f":"MAXA(3600*D17/('Intersecting Model'!$D$31)+'Intersecting Model'!$H$17*'Intersecting Model'!$H$15+MAXA(0,'Intersecting Model'!$C$17*3600*(1/'Intersecting Model'!$D$31-1/'Intersecting Model'!$C$31)),'Intersecting Model'!$C$28+'Intersecting Model'!$H$17*SQRT('Intersecting Model'!$H$15^2+'Intersecting Model'!$H$16^2))+'Intersecting Model'!$C$39","v":98.01},{"$f":"MAXA(3600*E17/('Intersecting Model'!$E$31)+'Intersecting Model'!$H$17*'Intersecting Model'!$H$15+MAXA(0,'Intersecting Model'!$C$17*3600*(1/'Intersecting Model'!$E$31-1/'Intersecting Model'!$C$31)),'Intersecting Model'!$C$28+'Intersecting Model'!$H$17*SQRT('Intersecting Model'!$H$15^2+'Intersecting Model'!$H$16^2))+'Intersecting Model'!$C$39","v":86.61},{"$f":"MAXA(3600*F17/('Intersecting Model'!$F$31)+'Intersecting Model'!$H$17*'Intersecting Model'!$H$15+MAXA(0,'Intersecting Model'!$C$17*3600*(1/'Intersecting Model'!$F$31-1/'Intersecting Model'!$C$31)),'Intersecting Model'!$C$28+'Intersecting Model'!$H$17*SQRT('Intersecting Model'!$H$15^2+'Intersecting Model'!$H$16^2))+'Intersecting Model'!$C$39","v":82.225384615384613},{"$f":"MAXA(3600*G17/('Intersecting Model'!$G$31)+'Intersecting Model'!$H$17*'Intersecting Model'!$H$15+MAXA(0,'Intersecting Model'!$C$17*3600*(1/'Intersecting Model'!$G$31-1/'Intersecting Model'!$C$31)),'Intersecting Model'!$C$28+'Intersecting Model'!$H$17*SQRT('Intersecting Model'!$H$15^2+'Intersecting Model'!$H$16^2))+'Intersecting Model'!$C$39","v":80.276666666666671},{"$f":"MAXA(3600*H17/('Intersecting Model'!$H$31)+'Intersecting Model'!$H$17*'Intersecting Model'!$H$15+MAXA(0,'Intersecting Model'!$C$17*3600*(1/'Intersecting Model'!$H$31-1/'Intersecting Model'!$C$31)),'Intersecting Model'!$C$28+'Intersecting Model'!$H$17*SQRT('Intersecting Model'!$H$15^2+'Intersecting Model'!$H$16^2))+'Intersecting Model'!$C$39","v":78.467142857142846},{"$f":"MAXA(3600*I17/('Intersecting Model'!$I$31)+'Intersecting Model'!$H$17*'Intersecting Model'!$H$15+MAXA(0,'Intersecting Model'!$C$17*3600*(1/'Intersecting Model'!$I$31-1/'Intersecting Model'!$C$31)),'Intersecting Model'!$C$28+'Intersecting Model'!$H$17*SQRT('Intersecting Model'!$H$15^2+'Intersecting Model'!$H$16^2))+'Intersecting Model'!$C$39","v":75.210000000000008}]
[null,"Small - T",{"$f":"MAXA(3600*C18/('Intersecting Model'!$C$31)+'Intersecting Model'!$H$17*'Intersecting Model'!$H$15+MAXA(0,'Intersecting Model'!$C$17*3600*(1/'Intersecting Model'!$C$31-1/'Intersecting Model'!$D$31)),'Intersecting Model'!$D$28+'Intersecting Model'!$H$17*SQRT('Intersecting Model'!$H$15^2+'Intersecting Model'!$H$16^2))+'Intersecting Model'!$C$39","v":133.61000000000001},{"$f":"MAXA(3600*D18/('Intersecting Model'!$D$31)+'Intersecting Model'!$H$17*'Intersecting Model'!$H$15+MAXA(0,'Intersecting Model'!$C$17*3600*(1/'Intersecting Model'!$D$31-1/'Intersecting Model'!$D$31)),'Intersecting Model'!$D$28+'Intersecting Model'!$H$17*SQRT('Intersecting Model'!$H$15^2+'Intersecting Model'!$H$16^2))+'Intersecting Model'!$C$39","v":98.01},{"$f":"MAXA(3600*E18/('Intersecting Model'!$E$31)+'Intersecting Model'!$H$17*'Intersecting Model'!$H$15+MAXA(0,'Intersecting Model'!$C$17*3600*(1/'Intersecting Model'!$E$31-1/'Intersecting Model'!$D$31)),'Intersecting Model'!$D$28+'Intersecting Model'!$H$17*SQRT('Intersecting Model'!$H$15^2+'Intersecting Model'!$H$16^2))+'Intersecting Model'!$C$39","v":86.61},{"$f":"MAXA(3600*F18/('Intersecting Model'!$F$31)+'Intersecting Model'!$H$17*'Intersecting Model'!$H$15+MAXA(0,'Intersecting Model'!$C$17*3600*(1/'Intersecting Model'!$F$31-1/'Intersecting Model'!$D$31)),'Intersecting Model'!$D$28+'Intersecting Model'!$H$17*SQRT('Intersecting Model'!$H$15^2+'Intersecting Model'!$H$16^2))+'Intersecting Model'!$C$39","v":82.225384615384613},{"$f":"MAXA(3600*G18/('Intersecting Model'!$G$31)+'Intersecting Model'!$H$17*'Intersecting Model'!$H$15+MAXA(0,'Intersecting Model'!$C$17*3600*(1/'Intersecting Model'!$G$31-1/'Intersecting Model'!$D$31)),'Intersecting Model'!$D$28+'Intersecting Model'!$H$17*SQRT('Intersecting Model'!$H$15^2+'Intersecting Model'!$H$16^2))+'Intersecting Model'!$C$39","v":80.276666666666671},{"$f":"MAXA(3600*H18/('Intersecting Model'!$H$31)+'Intersecting Model'!$H$17*'Intersecting Model'!$H$15+MAXA(0,'Intersecting Model'!$C$17*3600*(1/'Intersecting Model'!$H$31-1/'Intersecting Model'!$D$31)),'Intersecting Model'!$D$28+'Intersecting Model'!$H$17*SQRT('Intersecting Model'!$H$15^2+'Intersecting Model'!$H$16^2))+'Intersecting Model'!$C$39","v":78.467142857142846},{"$f":"MAXA(3600*I18/('Intersecting Model'!$I$31)+'Intersecting Model'!$H$17*'Intersecting Model'!$H$15+MAXA(0,'Intersecting Model'!$C$17*3600*(1/'Intersecting Model'!$I$31-1/'Intersecting Model'!$D$31)),'Intersecting Model'!$D$28+'Intersecting Model'!$H$17*SQRT('Intersecting Model'!$H$15^2+'Intersecting Model'!$H$16^2))+'Intersecting Model'!$C$39","v":75.210000000000008}]
[null,"Small +",{"$f":"MAXA(3600*C19/('Intersecting Model'!$C$31)+'Intersecting Model'!$H$17*'Intersecting Model'!$H$15+MAXA(0,'Intersecting Model'!$C$17*3600*(1/'Intersecting Model'!$C$31-1/'Intersecting Model'!$E$31)),'Intersecting Model'!$E$28+'Intersecting Model'!$H$17*SQRT('Intersecting Model'!$H$15^2+'Intersecting Model'!$H$16^2))+'Intersecting Model'!$C$39","v":175.61},{"$f":"MAXA(3600*D19/('Intersecting Model'!$D$31)+'Intersecting Model'!$H$17*'Intersecting Model'!$H$15+MAXA(0,'Intersecting Model'!$C$17*3600*(1/'Intersecting Model'!$D$31-1/'Intersecting Model'!$E$31)),'Intersecting Model'!$E$28+'Intersecting Model'!$H$17*SQRT('Intersecting Model'!$H$15^2+'Intersecting Model'!$H$16^2))+'Intersecting Model'!$C$39","v":140.01000000000002},{"$f":"MAXA(3600*E19/('Intersecting Model'!$E$31)+'Intersecting Model'!$H$17*'Intersecting Model'!$H$15+MAXA(0,'Intersecting Model'!$C$17*3600*(1/'Intersecting Model'!$E$31-1/'Intersecting Model'!$E$31)),'Intersecting Model'!$E$28+'Intersecting Model'!$H$17*SQRT('Intersecting Model'!$H$15^2+'Intersecting Model'!$H$16^2))+'Intersecting Model'!$C$39","v":86.61},{"$f":"MAXA(3600*F19/('Intersecting Model'!$F$31)+'Intersecting Model'!$H$17*'Intersecting Model'!$H$15+MAXA(0,'Intersecting Model'!$C$17*3600*(1/'Intersecting Model'!$F$31-1/'Intersecting Model'!$E$31)),'Intersecting Model'!$E$28+'Intersecting Model'!$H$17*SQRT('Intersecting Model'!$H$15^2+'Intersecting Model'!$H$16^2))+'Intersecting Model'!$C$39","v":82.225384615384613},{"$f":"MAXA(3600*G19/('Intersecting Model'!$G$31)+'Intersecting Model'!$H$17*'Intersecting Model'!$H$15+MAXA(0,'Intersecting Model'!$C$17*3600*(1/'Intersecting Model'!$G$31-1/'Intersecting Model'!$E$31)),'Intersecting Model'!$E$28+'Intersecting Model'!$H$17*SQRT('Intersecting Model'!$H$15^2+'Intersecting Model'!$H$16^2))+'Intersecting Model'!$C$39","v":80.276666666666671},{"$f":"MAXA(3600*H19/('Intersecting Model'!$H$31)+'Intersecting Model'!$H$17*'Intersecting Model'!$H$15+MAXA(0,'Intersecting Model'!$C$17*3600*(1/'Intersecting Model'!$H$31-1/'Intersecting Model'!$E$31)),'Intersecting Model'!$E$28+'Intersecting Model'!$H$17*SQRT('Intersecting Model'!$H$15^2+'Intersecting Model'!$H$16^2))+'Intersecting Model'!$C$39","v":78.467142857142846},{"$f":"MAXA(3600*I19/('Intersecting Model'!$I$31)+'Intersecting Model'!$H$17*'Intersecting Model'!$H$15+MAXA(0,'Intersecting Model'!$C$17*3600*(1/'Intersecting Model'!$I$31-1/'Intersecting Model'!$E$31)),'Intersecting Model'!$E$28+'Intersecting Model'!$H$17*SQRT('Intersecting Model'!$H$15^2+'Intersecting Model'!$H$16^2))+'Intersecting Model'!$C$39","v":75.210000000000008}]
[null,"Large-TP",{"$f":"MAXA(3600*C20/('Intersecting Model'!$C$31)+'Intersecting Model'!$H$17*'Intersecting Model'!$H$15+MAXA(0,'Intersecting Model'!$C$17*3600*(1/'Intersecting Model'!$C$31-1/'Intersecting Model'!$F$31)),'Intersecting Model'!$F$28+'Intersecting Model'!$H$17*SQRT('Intersecting Model'!$H$15^2+'Intersecting Model'!$H$16^2))+'Intersecting Model'!$C$39","v":223.76384615384617},{"$f":"MAXA(3600*D20/('Intersecting Model'!$D$31)+'Intersecting Model'!$H$17*'Intersecting Model'!$H$15+MAXA(0,'Intersecting Model'!$C$17*3600*(1/'Intersecting Model'!$D$31-1/'Intersecting Model'!$F$31)),'Intersecting Model'!$F$28+'Intersecting Model'!$H$17*SQRT('Intersecting Model'!$H$15^2+'Intersecting Model'!$H$16^2))+'Intersecting Model'!$C$39","v":184.96384615384613},{"$f":"MAXA(3600*E20/('Intersecting Model'!$E$31)+'Intersecting Model'!$H$17*'Intersecting Model'!$H$15+MAXA(0,'Intersecting Model'!$C$17*3600*(1/'Intersecting Model'!$E$31-1/'Intersecting Model'!$F$31)),'Intersecting Model'!$F$28+'Intersecting Model'!$H$17*SQRT('Intersecting Model'!$H$15^2+'Intersecting Model'!$H$16^2))+'Intersecting Model'!$C$39","v":126.76384615384615},{"$f":"MAXA(3600*F20/('Intersecting Model'!$F$31)+'Intersecting Model'!$H$17*'Intersecting Model'!$H$15+MAXA(0,'Intersecting Model'!$C$17*3600*(1/'Intersecting Model'!$F$31-1/'Intersecting Model'!$F$31)),'Intersecting Model'!$F$28+'Intersecting Model'!$H$17*SQRT('Intersecting Model'!$H$15^2+'Intersecting Model'!$H$16^2))+'Intersecting Model'!$C$39","v":82.225384615384613},{"$f":"MAXA(3600*G20/('Intersecting Model'!$G$31)+'Intersecting Model'!$H$17*'Intersecting Model'!$H$15+MAXA(0,'Intersecting Model'!$C$17*3600*(1/'Intersecting Model'!$G$31-1/'Intersecting Model'!$F$31)),'Intersecting Model'!$F$28+'Intersecting Model'!$H$17*SQRT('Intersecting Model'!$H$15^2+'Intersecting Model'!$H$16^2))+'Intersecting Model'!$C$39","v":80.276666666666671},{"$f":"MAXA(3600*H20/('Intersecting Model'!$H$31)+'Intersecting Model'!$H$17*'Intersecting Model'!$H$15+MAXA(0,'Intersecting Model'!$C$17*3600*(1/'Intersecting Model'!$H$31-1/'Intersecting Model'!$F$31)),'Intersecting Model'!$F$28+'Intersecting Model'!$H$17*SQRT('Intersecting Model'!$H$15^2+'Intersecting Model'!$H$16^2))+'Intersecting Model'!$C$39","v":78.467142857142846},{"$f":"MAXA(3600*I20/('Intersecting Model'!$I$31)+'Intersecting Model'!$H$17*'Intersecting Model'!$H$15+MAXA(0,'Intersecting Model'!$C$17*3600*(1/'Intersecting Model'!$I$31-1/'Intersecting Model'!$F$31)),'Intersecting Model'!$F$28+'Intersecting Model'!$H$17*SQRT('Intersecting Model'!$H$15^2+'Intersecting Model'!$H$16^2))+'Intersecting Model'!$C$39","v":76.211680505861906}]
[null,"Large-Jet",{"$f":"MAXA(3600*C21/('Intersecting Model'!$C$31)+'Intersecting Model'!$H$17*'Intersecting Model'!$H$15+MAXA(0,'Intersecting Model'!$C$17*3600*(1/'Intersecting Model'!$C$31-1/'Intersecting Model'!$G$31)),'Intersecting Model'!$G$28+'Intersecting Model'!$H$17*SQRT('Intersecting Model'!$H$15^2+'Intersecting Model'!$H$16^2))+'Intersecting Model'!$C$39","v":230.94333333333336},{"$f":"MAXA(3600*D21/('Intersecting Model'!$D$31)+'Intersecting Model'!$H$17*'Intersecting Model'!$H$15+MAXA(0,'Intersecting Model'!$C$17*3600*(1/'Intersecting Model'!$D$31-1/'Intersecting Model'!$G$31)),'Intersecting Model'!$G$28+'Intersecting Model'!$H$17*SQRT('Intersecting Model'!$H$15^2+'Intersecting Model'!$H$16^2))+'Intersecting Model'!$C$39","v":192.14333333333332},{"$f":"MAXA(3600*E21/('Intersecting Model'!$E$31)+'Intersecting Model'!$H$17*'Intersecting Model'!$H$15+MAXA(0,'Intersecting Model'!$C$17*3600*(1/'Intersecting Model'!$E$31-1/'Intersecting Model'!$G$31)),'Intersecting Model'!$G$28+'Intersecting Model'!$H$17*SQRT('Intersecting Model'!$H$15^2+'Intersecting Model'!$H$16^2))+'Intersecting Model'!$C$39","v":133.94333333333333},{"$f":"MAXA(3600*F21/('Intersecting Model'!$F$31)+'Intersecting Model'!$H$17*'Intersecting Model'!$H$15+MAXA(0,'Intersecting Model'!$C$17*3600*(1/'Intersecting Model'!$F$31-1/'Intersecting Model'!$G$31)),'Intersecting Model'!$G$28+'Intersecting Model'!$H$17*SQRT('Intersecting Model'!$H$15^2+'Intersecting Model'!$H$16^2))+'Intersecting Model'!$C$39","v":89.404871794871795},{"$f":"MAXA(3600*G21/('Intersecting Model'!$G$31)+'Intersecting Model'!$H$17*'Intersecting Model'!$H$15+MAXA(0,'Intersecting Model'!$C$17*3600*(1/'Intersecting Model'!$G$31-1/'Intersecting Model'!$G$31)),'Intersecting Model'!$G$28+'Intersecting Model'!$H$17*SQRT('Intersecting Model'!$H$15^2+'Intersecting Model'!$H$16^2))+'Intersecting Model'!$C$39","v":80.276666666666671},{"$f":"MAXA(3600*H21/('Intersecting Model'!$H$31)+'Intersecting Model'!$H$17*'Intersecting Model'!$H$15+MAXA(0,'Intersecting Model'!$C$17*3600*(1/'Intersecting Model'!$H$31-1/'Intersecting Model'!$G$31)),'Intersecting Model'!$G$28+'Intersecting Model'!$H$17*SQRT('Intersecting Model'!$H$15^2+'Intersecting Model'!$H$16^2))+'Intersecting Model'!$C$39","v":78.467142857142846},{"$f":"MAXA(3600*I21/('Intersecting Model'!$I$31)+'Intersecting Model'!$H$17*'Intersecting Model'!$H$15+MAXA(0,'Intersecting Model'!$C$17*3600*(1/'Intersecting Model'!$I$31-1/'Intersecting Model'!$G$31)),'Intersecting Model'!$G$28+'Intersecting Model'!$H$17*SQRT('Intersecting Model'!$H$15^2+'Intersecting Model'!$H$16^2))+'Intersecting Model'!$C$39","v":77.211680505861906}]
[null,"Large-757",{"$f":"MAXA(3600*C22/('Intersecting Model'!C$31)+'Intersecting Model'!$H$17*'Intersecting Model'!$H$15+MAXA(0,'Intersecting Model'!$C$17*3600*(1/'Intersecting Model'!C$31-1/'Intersecting Model'!$H$31)),'Intersecting Model'!$H$28+'Intersecting Model'!$H$17*SQRT('Intersecting Model'!$H$15^2+'Intersecting Model'!$H$16^2))+'Intersecting Model'!$C$39","v":277.61},{"$f":"MAXA(3600*D22/('Intersecting Model'!D$31)+'Intersecting Model'!$H$17*'Intersecting Model'!$H$15+MAXA(0,'Intersecting Model'!$C$17*3600*(1/'Intersecting Model'!D$31-1/'Intersecting Model'!$H$31)),'Intersecting Model'!$H$28+'Intersecting Model'!$H$17*SQRT('Intersecting Model'!$H$15^2+'Intersecting Model'!$H$16^2))+'Intersecting Model'!$C$39","v":234.81},{"$f":"MAXA(3600*E22/('Intersecting Model'!E$31)+'Intersecting Model'!$H$17*'Intersecting Model'!$H$15+MAXA(0,'Intersecting Model'!$C$17*3600*(1/'Intersecting Model'!E$31-1/'Intersecting Model'!$H$31)),'Intersecting Model'!$H$28+'Intersecting Model'!$H$17*SQRT('Intersecting Model'!$H$15^2+'Intersecting Model'!$H$16^2))+'Intersecting Model'!$C$39","v":170.61},{"$f":"MAXA(3600*F22/('Intersecting Model'!F$31)+'Intersecting Model'!$H$17*'Intersecting Model'!$H$15+MAXA(0,'Intersecting Model'!$C$17*3600*(1/'Intersecting Model'!F$31-1/'Intersecting Model'!$H$31)),'Intersecting Model'!$H$28+'Intersecting Model'!$H$17*SQRT('Intersecting Model'!$H$15^2+'Intersecting Model'!$H$16^2))+'Intersecting Model'!$C$39","v":118.22538461538464},{"$f":"MAXA(3600*G22/('Intersecting Model'!G$31)+'Intersecting Model'!$H$17*'Intersecting Model'!$H$15+MAXA(0,'Intersecting Model'!$C$17*3600*(1/'Intersecting Model'!G$31-1/'Intersecting Model'!$H$31)),'Intersecting Model'!$H$28+'Intersecting Model'!$H$17*SQRT('Intersecting Model'!$H$15^2+'Intersecting Model'!$H$16^2))+'Intersecting Model'!$C$39","v":108.27666666666669},{"$f":"MAXA(3600*H22/('Intersecting Model'!H$31)+'Intersecting Model'!$H$17*'Intersecting Model'!$H$15+MAXA(0,'Intersecting Model'!$C$17*3600*(1/'Intersecting Model'!H$31-1/'Intersecting Model'!$H$31)),'Intersecting Model'!$H$28+'Intersecting Model'!$H$17*SQRT('Intersecting Model'!$H$15^2+'Intersecting Model'!$H$16^2))+'Intersecting Model'!$C$39","v":99.03857142857143},{"$f":"MAXA(3600*I22/('Intersecting Model'!I$31)+'Intersecting Model'!$H$17*'Intersecting Model'!$H$15+MAXA(0,'Intersecting Model'!$C$17*3600*(1/'Intersecting Model'!I$31-1/'Intersecting Model'!$H$31)),'Intersecting Model'!$H$28+'Intersecting Model'!$H$17*SQRT('Intersecting Model'!$H$15^2+'Intersecting Model'!$H$16^2))+'Intersecting Model'!$C$39","v":94.41}]
[null,"Heavy",{"$f":"MAXA(3600*C23/('Intersecting Model'!$C$31)+'Intersecting Model'!$H$17*'Intersecting Model'!$H$15+MAXA(0,'Intersecting Model'!$C$17*3600*(1/'Intersecting Model'!$C$31-1/'Intersecting Model'!$I$31)),'Intersecting Model'!$I$28+'Intersecting Model'!$H$17*SQRT('Intersecting Model'!$H$15^2+'Intersecting Model'!$H$16^2))+'Intersecting Model'!$C$39","v":325.61},{"$f":"MAXA(3600*D23/('Intersecting Model'!$D$31)+'Intersecting Model'!$H$17*'Intersecting Model'!$H$15+MAXA(0,'Intersecting Model'!$C$17*3600*(1/'Intersecting Model'!$D$31-1/'Intersecting Model'!$I$31)),'Intersecting Model'!$I$28+'Intersecting Model'!$H$17*SQRT('Intersecting Model'!$H$15^2+'Intersecting Model'!$H$16^2))+'Intersecting Model'!$C$39","v":279.20999999999998},{"$f":"MAXA(3600*E23/('Intersecting Model'!$E$31)+'Intersecting Model'!$H$17*'Intersecting Model'!$H$15+MAXA(0,'Intersecting Model'!$C$17*3600*(1/'Intersecting Model'!$E$31-1/'Intersecting Model'!$I$31)),'Intersecting Model'!$I$28+'Intersecting Model'!$H$17*SQRT('Intersecting Model'!$H$15^2+'Intersecting Model'!$H$16^2))+'Intersecting Model'!$C$39","v":179.61},{"$f":"MAXA(3600*F23/('Intersecting Model'!$F$31)+'Intersecting Model'!$H$17*'Intersecting Model'!$H$15+MAXA(0,'Intersecting Model'!$C$17*3600*(1/'Intersecting Model'!$F$31-1/'Intersecting Model'!$I$31)),'Intersecting Model'!$I$28+'Intersecting Model'!$H$17*SQRT('Intersecting Model'!$H$15^2+'Intersecting Model'!$H$16^2))+'Intersecting Model'!$C$39","v":155.14846153846153},{"$f":"MAXA(3600*G23/('Intersecting Model'!$G$31)+'Intersecting Model'!$H$17*'Intersecting Model'!$H$15+MAXA(0,'Intersecting Model'!$C$17*3600*(1/'Intersecting Model'!$G$31-1/'Intersecting Model'!$I$31)),'Intersecting Model'!$I$28+'Intersecting Model'!$H$17*SQRT('Intersecting Model'!$H$15^2+'Intersecting Model'!$H$16^2))+'Intersecting Model'!$C$39","v":144.27666666666667},{"$f":"MAXA(3600*H23/('Intersecting Model'!$H$31)+'Intersecting Model'!$H$17*'Intersecting Model'!$H$15+MAXA(0,'Intersecting Model'!$C$17*3600*(1/'Intersecting Model'!$H$31-1/'Intersecting Model'!$I$31)),'Intersecting Model'!$I$28+'Intersecting Model'!$H$17*SQRT('Intersecting Model'!$H$15^2+'Intersecting Model'!$H$16^2))+'Intersecting Model'!$C$39","v":134.18142857142854},{"$f":"MAXA(3600*I23/('Intersecting Model'!$I$31)+'Intersecting Model'!$H$17*'Intersecting Model'!$H$15+MAXA(0,'Intersecting Model'!$C$17*3600*(1/'Intersecting Model'!$I$31-1/'Intersecting Model'!$I$31)),'Intersecting Model'!$I$28+'Intersecting Model'!$H$17*SQRT('Intersecting Model'!$H$15^2+'Intersecting Model'!$H$16^2))+'Intersecting Model'!$C$39","v":94.41}]
[]
[null,"IMC Required Separation for arrivals following an aircraft from each class",null,null,null,"Time in Seconds"]
[null,null,"Small - S","Small - T","Small +","Large-TP","Large-Jet","Large-757","Heavy"]
[null,"Small - S",{"$f":"MAXA(3600*C27/('Intersecting Model'!$C$31)+'Intersecting Model'!$H$17*'Intersecting Model'!$H$15+MAXA(0,'Intersecting Model'!$C$17*3600*(1/'Intersecting Model'!$C$31-1/'Intersecting Model'!$C$31)),'Intersecting Model'!$C$28+'Intersecting Model'!$H$17*SQRT('Intersecting Model'!$H$15^2+'Intersecting Model'!$H$16^2))+'Intersecting Model'!$C$39","v":149.61000000000001},{"$f":"MAXA(3600*D27/('Intersecting Model'!$D$31)+'Intersecting Model'!$H$17*'Intersecting Model'!$H$15+MAXA(0,'Intersecting Model'!$C$17*3600*(1/'Intersecting Model'!$D$31-1/'Intersecting Model'!$C$31)),'Intersecting Model'!$C$28+'Intersecting Model'!$H$17*SQRT('Intersecting Model'!$H$15^2+'Intersecting Model'!$H$16^2))+'Intersecting Model'!$C$39","v":137.61000000000001},{"$f":"MAXA(3600*E27/('Intersecting Model'!$E$31)+'Intersecting Model'!$H$17*'Intersecting Model'!$H$15+MAXA(0,'Intersecting Model'!$C$17*3600*(1/'Intersecting Model'!$E$31-1/'Intersecting Model'!$C$31)),'Intersecting Model'!$C$28+'Intersecting Model'!$H$17*SQRT('Intersecting Model'!$H$15^2+'Intersecting Model'!$H$16^2))+'Intersecting Model'!$C$39","v":119.61},{"$f":"MAXA(3600*F27/('Intersecting Model'!$F$31)+'Intersecting Model'!$H$17*'Intersecting Model'!$H$15+MAXA(0,'Intersecting Model'!$C$17*3600*(1/'Intersecting Model'!$F$31-1/'Intersecting Model'!$C$31)),'Intersecting Model'!$C$28+'Intersecting Model'!$H$17*SQRT('Intersecting Model'!$H$15^2+'Intersecting Model'!$H$16^2))+'Intersecting Model'!$C$39","v":112.68692307692308},{"$f":"MAXA(3600*G27/('Intersecting Model'!$G$31)+'Intersecting Model'!$H$17*'Intersecting Model'!$H$15+MAXA(0,'Intersecting Model'!$C$17*3600*(1/'Intersecting Model'!$G$31-1/'Intersecting Model'!$C$31)),'Intersecting Model'!$C$28+'Intersecting Model'!$H$17*SQRT('Intersecting Model'!$H$15^2+'Intersecting Model'!$H$16^2))+'Intersecting Model'!$C$39","v":109.61},{"$f":"MAXA(3600*H27/('Intersecting Model'!$H$31)+'Intersecting Model'!$H$17*'Intersecting Model'!$H$15+MAXA(0,'Intersecting Model'!$C$17*3600*(1/'Intersecting Model'!$H$31-1/'Intersecting Model'!$C$31)),'Intersecting Model'!$C$28+'Intersecting Model'!$H$17*SQRT('Intersecting Model'!$H$15^2+'Intersecting Model'!$H$16^2))+'Intersecting Model'!$C$39","v":106.75285714285714},{"$f":"MAXA(3600*I27/('Intersecting Model'!$I$31)+'Intersecting Model'!$H$17*'Intersecting Model'!$H$15+MAXA(0,'Intersecting Model'!$C$17*3600*(1/'Intersecting Model'!$I$31-1/'Intersecting Model'!$C$31)),'Intersecting Model'!$C$28+'Intersecting Model'!$H$17*SQRT('Intersecting Model'!$H$15^2+'Intersecting Model'!$H$16^2))+'Intersecting Model'!$C$39","v":101.61}]
[null,"Small - T",{"$f":"MAXA(3600*C28/('Intersecting Model'!$C$31)+'Intersecting Model'!$H$17*'Intersecting Model'!$H$15+MAXA(0,'Intersecting Model'!$C$17*3600*(1/'Intersecting Model'!$C$31-1/'Intersecting Model'!$D$31)),'Intersecting Model'!$D$28+'Intersecting Model'!$H$17*SQRT('Intersecting Model'!$H$15^2+'Intersecting Model'!$H$16^2))+'Intersecting Model'!$C$39","v":177.61},{"$f":"MAXA(3600*D28/('Intersecting Model'!$D$31)+'Intersecting Model'!$H$17*'Intersecting Model'!$H$15+MAXA(0,'Intersecting Model'!$C$17*3600*(1/'Intersecting Model'!$D$31-1/'Intersecting Model'!$D$31)),'Intersecting Model'!$D$28+'Intersecting Model'!$H$17*SQRT('Intersecting Model'!$H$15^2+'Intersecting Model'!$H$16^2))+'Intersecting Model'!$C$39","v":137.61000000000001},{"$f":"MAXA(3600*E28/('Intersecting Model'!$E$31)+'Intersecting Model'!$H$17*'Intersecting Model'!$H$15+MAXA(0,'Intersecting Model'!$C$17*3600*(1/'Intersecting Model'!$E$31-1/'Intersecting Model'!$D$31)),'Intersecting Model'!$D$28+'Intersecting Model'!$H$17*SQRT('Intersecting Model'!$H$15^2+'Intersecting Model'!$H$16^2))+'Intersecting Model'!$C$39","v":119.61},{"$f":"MAXA(3600*F28/('Intersecting Model'!$F$31)+'Intersecting Model'!$H$17*'Intersecting Model'!$H$15+MAXA(0,'Intersecting Model'!$C$17*3600*(1/'Intersecting Model'!$F$31-1/'Intersecting Model'!$D$31)),'Intersecting Model'!$D$28+'Intersecting Model'!$H$17*SQRT('Intersecting Model'!$H$15^2+'Intersecting Model'!$H$16^2))+'Intersecting Model'!$C$39","v":112.68692307692308},{"$f":"MAXA(3600*G28/('Intersecting Model'!$G$31)+'Intersecting Model'!$H$17*'Intersecting Model'!$H$15+MAXA(0,'Intersecting Model'!$C$17*3600*(1/'Intersecting Model'!$G$31-1/'Intersecting Model'!$D$31)),'Intersecting Model'!$D$28+'Intersecting Model'!$H$17*SQRT('Intersecting Model'!$H$15^2+'Intersecting Model'!$H$16^2))+'Intersecting Model'!$C$39","v":109.61},{"$f":"MAXA(3600*H28/('Intersecting Model'!$H$31)+'Intersecting Model'!$H$17*'Intersecting Model'!$H$15+MAXA(0,'Intersecting Model'!$C$17*3600*(1/'Intersecting Model'!$H$31-1/'Intersecting Model'!$D$31)),'Intersecting Model'!$D$28+'Intersecting Model'!$H$17*SQRT('Intersecting Model'!$H$15^2+'Intersecting Model'!$H$16^2))+'Intersecting Model'!$C$39","v":106.75285714285714},{"$f":"MAXA(3600*I28/('Intersecting Model'!$I$31)+'Intersecting Model'!$H$17*'Intersecting Model'!$H$15+MAXA(0,'Intersecting Model'!$C$17*3600*(1/'Intersecting Model'!$I$31-1/'Intersecting Model'!$D$31)),'Intersecting Model'!$D$28+'Intersecting Model'!$H$17*SQRT('Intersecting Model'!$H$15^2+'Intersecting Model'!$H$16^2))+'Intersecting Model'!$C$39","v":101.61}]
[null,"Small +",{"$f":"MAXA(3600*C29/('Intersecting Model'!$C$31)+'Intersecting Model'!$H$17*'Intersecting Model'!$H$15+MAXA(0,'Intersecting Model'!$C$17*3600*(1/'Intersecting Model'!$C$31-1/'Intersecting Model'!$E$31)),'Intersecting Model'!$E$28+'Intersecting Model'!$H$17*SQRT('Intersecting Model'!$H$15^2+'Intersecting Model'!$H$16^2))+'Intersecting Model'!$C$39","v":219.61},{"$f":"MAXA(3600*D29/('Intersecting Model'!$D$31)+'Intersecting Model'!$H$17*'Intersecting Model'!$H$15+MAXA(0,'Intersecting Model'!$C$17*3600*(1/'Intersecting Model'!$D$31-1/'Intersecting Model'!$E$31)),'Intersecting Model'!$E$28+'Intersecting Model'!$H$17*SQRT('Intersecting Model'!$H$15^2+'Intersecting Model'!$H$16^2))+'Intersecting Model'!$C$39","v":179.61},{"$f":"MAXA(3600*E29/('Intersecting Model'!$E$31)+'Intersecting Model'!$H$17*'Intersecting Model'!$H$15+MAXA(0,'Intersecting Model'!$C$17*3600*(1/'Intersecting Model'!$E$31-1/'Intersecting Model'!$E$31)),'Intersecting Model'!$E$28+'Intersecting Model'!$H$17*SQRT('Intersecting Model'!$H$15^2+'Intersecting Model'!$H$16^2))+'Intersecting Model'!$C$39","v":119.61},{"$f":"MAXA(3600*F29/('Intersecting Model'!$F$31)+'Intersecting Model'!$H$17*'Intersecting Model'!$H$15+MAXA(0,'Intersecting Model'!$C$17*3600*(1/'Intersecting Model'!$F$31-1/'Intersecting Model'!$E$31)),'Intersecting Model'!$E$28+'Intersecting Model'!$H$17*SQRT('Intersecting Model'!$H$15^2+'Intersecting Model'!$H$16^2))+'Intersecting Model'!$C$39","v":112.68692307692308},{"$f":"MAXA(3600*G29/('Intersecting Model'!$G$31)+'Intersecting Model'!$H$17*'Intersecting Model'!$H$15+MAXA(0,'Intersecting Model'!$C$17*3600*(1/'Intersecting Model'!$G$31-1/'Intersecting Model'!$E$31)),'Intersecting Model'!$E$28+'Intersecting Model'!$H$17*SQRT('Intersecting Model'!$H$15^2+'Intersecting Model'!$H$16^2))+'Intersecting Model'!$C$39","v":109.61},{"$f":"MAXA(3600*H29/('Intersecting Model'!$H$31)+'Intersecting Model'!$H$17*'Intersecting Model'!$H$15+MAXA(0,'Intersecting Model'!$C$17*3600*(1/'Intersecting Model'!$H$31-1/'Intersecting Model'!$E$31)),'Intersecting Model'!$E$28+'Intersecting Model'!$H$17*SQRT('Intersecting Model'!$H$15^2+'Intersecting Model'!$H$16^2))+'Intersecting Model'!$C$39","v":106.75285714285714},{"$f":"MAXA(3600*I29/('Intersecting Model'!$I$31)+'Intersecting Model'!$H$17*'Intersecting Model'!$H$15+MAXA(0,'Intersecting Model'!$C$17*3600*(1/'Intersecting Model'!$I$31-1/'Intersecting Model'!$E$31)),'Intersecting Model'!$E$28+'Intersecting Model'!$H$17*SQRT('Intersecting Model'!$H$15^2+'Intersecting Model'!$H$16^2))+'Intersecting Model'!$C$39","v":101.61}]
[null,"Large-TP",{"$f":"MAXA(3600*C30/('Intersecting Model'!$C$31)+'Intersecting Model'!$H$17*'Intersecting Model'!$H$15+MAXA(0,'Intersecting Model'!$C$17*3600*(1/'Intersecting Model'!$C$31-1/'Intersecting Model'!$F$31)),'Intersecting Model'!$F$28+'Intersecting Model'!$H$17*SQRT('Intersecting Model'!$H$15^2+'Intersecting Model'!$H$16^2))+'Intersecting Model'!$C$39","v":275.7638461538462},{"$f":"MAXA(3600*D30/('Intersecting Model'!$D$31)+'Intersecting Model'!$H$17*'Intersecting Model'!$H$15+MAXA(0,'Intersecting Model'!$C$17*3600*(1/'Intersecting Model'!$D$31-1/'Intersecting Model'!$F$31)),'Intersecting Model'!$F$28+'Intersecting Model'!$H$17*SQRT('Intersecting Model'!$H$15^2+'Intersecting Model'!$H$16^2))+'Intersecting Model'!$C$39","v":231.76384615384615},{"$f":"MAXA(3600*E30/('Intersecting Model'!$E$31)+'Intersecting Model'!$H$17*'Intersecting Model'!$H$15+MAXA(0,'Intersecting Model'!$C$17*3600*(1/'Intersecting Model'!$E$31-1/'Intersecting Model'!$F$31)),'Intersecting Model'!$F$28+'Intersecting Model'!$H$17*SQRT('Intersecting Model'!$H$15^2+'Intersecting Model'!$H$16^2))+'Intersecting Model'!$C$39","v":165.76384615384615},{"$f":"MAXA(3600*F30/('Intersecting Model'!$F$31)+'Intersecting Model'!$H$17*'Intersecting Model'!$H$15+MAXA(0,'Intersecting Model'!$C$17*3600*(1/'Intersecting Model'!$F$31-1/'Intersecting Model'!$F$31)),'Intersecting Model'!$F$28+'Intersecting Model'!$H$17*SQRT('Intersecting Model'!$H$15^2+'Intersecting Model'!$H$16^2))+'Intersecting Model'!$C$39","v":112.68692307692308},{"$f":"MAXA(3600*G30/('Intersecting Model'!$G$31)+'Intersecting Model'!$H$17*'Intersecting Model'!$H$15+MAXA(0,'Intersecting Model'!$C$17*3600*(1/'Intersecting Model'!$G$31-1/'Intersecting Model'!$F$31)),'Intersecting Model'!$F$28+'Intersecting Model'!$H$17*SQRT('Intersecting Model'!$H$15^2+'Intersecting Model'!$H$16^2))+'Intersecting Model'!$C$39","v":109.61},{"$f":"MAXA(3600*H30/('Intersecting Model'!$H$31)+'Intersecting Model'!$H$17*'Intersecting Model'!$H$15+MAXA(0,'Intersecting Model'!$C$17*3600*(1/'Intersecting Model'!$H$31-1/'Intersecting Model'!$F$31)),'Intersecting Model'!$F$28+'Intersecting Model'!$H$17*SQRT('Intersecting Model'!$H$15^2+'Intersecting Model'!$H$16^2))+'Intersecting Model'!$C$39","v":106.75285714285714},{"$f":"MAXA(3600*I30/('Intersecting Model'!$I$31)+'Intersecting Model'!$H$17*'Intersecting Model'!$H$15+MAXA(0,'Intersecting Model'!$C$17*3600*(1/'Intersecting Model'!$I$31-1/'Intersecting Model'!$F$31)),'Intersecting Model'!$F$28+'Intersecting Model'!$H$17*SQRT('Intersecting Model'!$H$15^2+'Intersecting Model'!$H$16^2))+'Intersecting Model'!$C$39","v":101.61}]
[null,"Large-Jet",{"$f":"MAXA(3600*C31/('Intersecting Model'!$C$31)+'Intersecting Model'!$H$17*'Intersecting Model'!$H$15+MAXA(0,'Intersecting Model'!$C$17*3600*(1/'Intersecting Model'!$C$31-1/'Intersecting Model'!$G$31)),'Intersecting Model'!$G$28+'Intersecting Model'!$H$17*SQRT('Intersecting Model'!$H$15^2+'Intersecting Model'!$H$16^2))+'Intersecting Model'!$C$39","v":282.94333333333338},{"$f":"MAXA(3600*D31/('Intersecting Model'!$D$31)+'Intersecting Model'!$H$17*'Intersecting Model'!$H$15+MAXA(0,'Intersecting Model'!$C$17*3600*(1/'Intersecting Model'!$D$31-1/'Intersecting Model'!$G$31)),'Intersecting Model'!$G$28+'Intersecting Model'!$H$17*SQRT('Intersecting Model'!$H$15^2+'Intersecting Model'!$H$16^2))+'Intersecting Model'!$C$39","v":238.94333333333333},{"$f":"MAXA(3600*E31/('Intersecting Model'!$E$31)+'Intersecting Model'!$H$17*'Intersecting Model'!$H$15+MAXA(0,'Intersecting Model'!$C$17*3600*(1/'Intersecting Model'!$E$31-1/'Intersecting Model'!$G$31)),'Intersecting Model'!$G$28+'Intersecting Model'!$H$17*SQRT('Intersecting Model'!$H$15^2+'Intersecting Model'!$H$16^2))+'Intersecting Model'!$C$39","v":172.94333333333333},{"$f":"MAXA(3600*F31/('Intersecting Model'!$F$31)+'Intersecting Model'!$H$17*'Intersecting Model'!$H$15+MAXA(0,'Intersecting Model'!$C$17*3600*(1/'Intersecting Model'!$F$31-1/'Intersecting Model'!$G$31)),'Intersecting Model'!$G$28+'Intersecting Model'!$H$17*SQRT('Intersecting Model'!$H$15^2+'Intersecting Model'!$H$16^2))+'Intersecting Model'!$C$39","v":119.86641025641026},{"$f":"MAXA(3600*G31/('Intersecting Model'!$G$31)+'Intersecting Model'!$H$17*'Intersecting Model'!$H$15+MAXA(0,'Intersecting Model'!$C$17*3600*(1/'Intersecting Model'!$G$31-1/'Intersecting Model'!$G$31)),'Intersecting Model'!$G$28+'Intersecting Model'!$H$17*SQRT('Intersecting Model'!$H$15^2+'Intersecting Model'!$H$16^2))+'Intersecting Model'!$C$39","v":109.61},{"$f":"MAXA(3600*H31/('Intersecting Model'!$H$31)+'Intersecting Model'!$H$17*'Intersecting Model'!$H$15+MAXA(0,'Intersecting Model'!$C$17*3600*(1/'Intersecting Model'!$H$31-1/'Intersecting Model'!$G$31)),'Intersecting Model'!$G$28+'Intersecting Model'!$H$17*SQRT('Intersecting Model'!$H$15^2+'Intersecting Model'!$H$16^2))+'Intersecting Model'!$C$39","v":106.75285714285714},{"$f":"MAXA(3600*I31/('Intersecting Model'!$I$31)+'Intersecting Model'!$H$17*'Intersecting Model'!$H$15+MAXA(0,'Intersecting Model'!$C$17*3600*(1/'Intersecting Model'!$I$31-1/'Intersecting Model'!$G$31)),'Intersecting Model'!$G$28+'Intersecting Model'!$H$17*SQRT('Intersecting Model'!$H$15^2+'Intersecting Model'!$H$16^2))+'Intersecting Model'!$C$39","v":101.61}]
[null,"Large-757",{"$f":"MAXA(3600*C32/('Intersecting Model'!$C$31)+'Intersecting Model'!$H$17*'Intersecting Model'!$H$15+MAXA(0,'Intersecting Model'!$C$17*3600*(1/'Intersecting Model'!C$31-1/'Intersecting Model'!$H$31)),'Intersecting Model'!$H$28+'Intersecting Model'!$H$17*SQRT('Intersecting Model'!$H$15^2+'Intersecting Model'!$H$16^2))+'Intersecting Model'!$C$39","v":329.61},{"$f":"MAXA(3600*D32/('Intersecting Model'!$D$31)+'Intersecting Model'!$H$17*'Intersecting Model'!$H$15+MAXA(0,'Intersecting Model'!$C$17*3600*(1/'Intersecting Model'!D$31-1/'Intersecting Model'!$H$31)),'Intersecting Model'!$H$28+'Intersecting Model'!$H$17*SQRT('Intersecting Model'!$H$15^2+'Intersecting Model'!$H$16^2))+'Intersecting Model'!$C$39","v":281.61},{"$f":"MAXA(3600*E32/('Intersecting Model'!$E$31)+'Intersecting Model'!$H$17*'Intersecting Model'!$H$15+MAXA(0,'Intersecting Model'!$C$17*3600*(1/'Intersecting Model'!E$31-1/'Intersecting Model'!$H$31)),'Intersecting Model'!$H$28+'Intersecting Model'!$H$17*SQRT('Intersecting Model'!$H$15^2+'Intersecting Model'!$H$16^2))+'Intersecting Model'!$C$39","v":209.61},{"$f":"MAXA(3600*F32/('Intersecting Model'!$F$31)+'Intersecting Model'!$H$17*'Intersecting Model'!$H$15+MAXA(0,'Intersecting Model'!$C$17*3600*(1/'Intersecting Model'!F$31-1/'Intersecting Model'!$H$31)),'Intersecting Model'!$H$28+'Intersecting Model'!$H$17*SQRT('Intersecting Model'!$H$15^2+'Intersecting Model'!$H$16^2))+'Intersecting Model'!$C$39","v":154.22538461538466},{"$f":"MAXA(3600*G32/('Intersecting Model'!$G$31)+'Intersecting Model'!$H$17*'Intersecting Model'!$H$15+MAXA(0,'Intersecting Model'!$C$17*3600*(1/'Intersecting Model'!G$31-1/'Intersecting Model'!$H$31)),'Intersecting Model'!$H$28+'Intersecting Model'!$H$17*SQRT('Intersecting Model'!$H$15^2+'Intersecting Model'!$H$16^2))+'Intersecting Model'!$C$39","v":142.94333333333336},{"$f":"MAXA(3600*H32/('Intersecting Model'!$H$31)+'Intersecting Model'!$H$17*'Intersecting Model'!$H$15+MAXA(0,'Intersecting Model'!$C$17*3600*(1/'Intersecting Model'!H$31-1/'Intersecting Model'!$H$31)),'Intersecting Model'!$H$28+'Intersecting Model'!$H$17*SQRT('Intersecting Model'!$H$15^2+'Intersecting Model'!$H$16^2))+'Intersecting Model'!$C$39","v":132.46714285714285},{"$f":"MAXA(3600*I32/('Intersecting Model'!$I$31)+'Intersecting Model'!$H$17*'Intersecting Model'!$H$15+MAXA(0,'Intersecting Model'!$C$17*3600*(1/'Intersecting Model'!I$31-1/'Intersecting Model'!$H$31)),'Intersecting Model'!$H$28+'Intersecting Model'!$H$17*SQRT('Intersecting Model'!$H$15^2+'Intersecting Model'!$H$16^2))+'Intersecting Model'!$C$39","v":125.61}]
[null,"Heavy",{"$f":"MAXA(3600*C33/('Intersecting Model'!$C$31)+'Intersecting Model'!$H$17*'Intersecting Model'!$H$15+MAXA(0,'Intersecting Model'!$C$17*3600*(1/'Intersecting Model'!$C$31-1/'Intersecting Model'!$I$31)),'Intersecting Model'!$I$28+'Intersecting Model'!$H$17*SQRT('Intersecting Model'!$H$15^2+'Intersecting Model'!$H$16^2))+'Intersecting Model'!$C$39","v":381.61},{"$f":"MAXA(3600*D33/('Intersecting Model'!$D$31)+'Intersecting Model'!$H$17*'Intersecting Model'!$H$15+MAXA(0,'Intersecting Model'!$C$17*3600*(1/'Intersecting Model'!$D$31-1/'Intersecting Model'!$I$31)),'Intersecting Model'!$I$28+'Intersecting Model'!$H$17*SQRT('Intersecting Model'!$H$15^2+'Intersecting Model'!$H$16^2))+'Intersecting Model'!$C$39","v":329.61},{"$f":"MAXA(3600*E33/('Intersecting Model'!$E$31)+'Intersecting Model'!$H$17*'Intersecting Model'!$H$15+MAXA(0,'Intersecting Model'!$C$17*3600*(1/'Intersecting Model'!$E$31-1/'Intersecting Model'!$I$31)),'Intersecting Model'!$I$28+'Intersecting Model'!$H$17*SQRT('Intersecting Model'!$H$15^2+'Intersecting Model'!$H$16^2))+'Intersecting Model'!$C$39","v":221.61},{"$f":"MAXA(3600*F33/('Intersecting Model'!$F$31)+'Intersecting Model'!$H$17*'Intersecting Model'!$H$15+MAXA(0,'Intersecting Model'!$C$17*3600*(1/'Intersecting Model'!$F$31-1/'Intersecting Model'!$I$31)),'Intersecting Model'!$I$28+'Intersecting Model'!$H$17*SQRT('Intersecting Model'!$H$15^2+'Intersecting Model'!$H$16^2))+'Intersecting Model'!$C$39","v":193.91769230769231},{"$f":"MAXA(3600*G33/('Intersecting Model'!$G$31)+'Intersecting Model'!$H$17*'Intersecting Model'!$H$15+MAXA(0,'Intersecting Model'!$C$17*3600*(1/'Intersecting Model'!$G$31-1/'Intersecting Model'!$I$31)),'Intersecting Model'!$I$28+'Intersecting Model'!$H$17*SQRT('Intersecting Model'!$H$15^2+'Intersecting Model'!$H$16^2))+'Intersecting Model'!$C$39","v":181.60999999999999},{"$f":"MAXA(3600*H33/('Intersecting Model'!$H$31)+'Intersecting Model'!$H$17*'Intersecting Model'!$H$15+MAXA(0,'Intersecting Model'!$C$17*3600*(1/'Intersecting Model'!$H$31-1/'Intersecting Model'!$I$31)),'Intersecting Model'!$I$28+'Intersecting Model'!$H$17*SQRT('Intersecting Model'!$H$15^2+'Intersecting Model'!$H$16^2))+'Intersecting Model'!$C$39","v":170.18142857142854},{"$f":"MAXA(3600*I33/('Intersecting Model'!$I$31)+'Intersecting Model'!$H$17*'Intersecting Model'!$H$15+MAXA(0,'Intersecting Model'!$C$17*3600*(1/'Intersecting Model'!$I$31-1/'Intersecting Model'!$I$31)),'Intersecting Model'!$I$28+'Intersecting Model'!$H$17*SQRT('Intersecting Model'!$H$15^2+'Intersecting Model'!$H$16^2))+'Intersecting Model'!$C$39","v":125.61}]
[]
[null,"VMC Average time between Arrivals",null,null,null,"Time in Seconds",null,null,null,null,null,null,"Average Arrival separation"]
[null,null,"Small - S","Small - T","Small +","Large-TP","Large-Jet","Large-757","Heavy",null,null,null,{"$f":"SUM(C78:I84)","v":96.558638648805896},"seconds",{"$f":"3600/M77","v":37.283044276272214}]
[null,"Small - S",{"$f":"C7*C58","v":0},0,0,0,0,0,0]
[null,"Small - T",0,0.98010000000000019,0,2.4667615384615384,4.0138333333333334,0.39233571428571429,0.37605000000000011]
[null,"Small +",0,0,0,0,0,0,0]
[null,"Large-TP",0,5.548915384615384,0,7.4002846153846145,12.041500000000001,1.1770071428571427,1.1431752075879285]
[null,"Large-Jet",0,9.6071666666666662,0,13.410730769230769,20.069166666666668,1.9616785714285712,1.9302920126465477]
[null,"Large-757",0,1.1740500000000003,0,1.7733807692307695,2.7069166666666673,0.24759642857142863,0.23602500000000004]
[null,"Heavy",0,1.3960500000000002,0,2.3272269230769229,3.6069166666666668,0.33545357142857141,0.23602500000000004]
[]
[null,"VMC Average time between Departures",null,null,null,"Time in Seconds",null,null,null,null,null,null,"Average Departure separation"]
[null,null,"Small - S","Small - T","Small +","Large-TP","Large-Jet","Large-757","Heavy",null,null,null,{"$f":"SUM(C88:I94)","v":73.050000000000011},"seconds",{"$f":"3600/M87","v":49.281314168377818}]
[null,"Small - S",{"$f":"C7*C37","v":0},{"$f":"D7*D37","v":0},0,0,0,0,0]
[null,"Small - T",{"$f":"C8*C38","v":0},0.45000000000000007,0,1.65,2.75,0.27500000000000008,0.30000000000000004]
[null,"Small +",0,0,0,0,0,0,0]
[null,"Large-TP",0,2.6999999999999997,0,6.3,10.5,1.05,1.05]
[null,"Large-Jet",0,4.5,0,10.5,17.5,1.75,1.75]
[null,"Large-757",0,0.45000000000000007,0,1.05,1.75,0.17500000000000004,0.17500000000000004]
[null,"Heavy",0,0.65000000000000013,0,1.95,3.25,0.32500000000000007,0.25000000000000006]
[]
[null,"IMC Average time between Arrivals",null,null,null,"Time in Seconds",null,null,null,null,null,null,"Average Arrival separation"]
[null,null,"Small - S","Small - T","Small +","Large-TP","Large-Jet","Large-757","Heavy",null,null,null,{"$f":"SUM(C98:I104)","v":128.25615384615384},"seconds",{"$f":"3600/M97","v":28.06882860621473}]
[null,"Small - S",{"$f":"C7*C68","v":0},0,0,0,0,0,0]
[null,"Small - T",0,1.3761000000000003,0,3.3806076923076924,5.4805000000000001,0.5337642857142858,0.50805000000000011]
[null,"Small +",0,0,0,0,0,0,0]
[null,"Large-TP",0,6.9529153846153839,0,10.141823076923076,16.441499999999998,1.6012928571428571,1.5241499999999999]
[null,"Large-Jet",0,11.947166666666668,0,17.979961538461538,27.4025,2.6688214285714285,2.5402500000000003]
[null,"Large-757",0,1.4080500000000002,0,2.3133807692307697,3.573583333333334,0.33116785714285718,0.31402500000000005]
[null,"Heavy",0,1.6480500000000005,0,2.9087653846153847,4.5402499999999995,0.42545357142857143,0.31402500000000005]
[]
[null,"IMC Average time between Departures",null,null,null,"Time in Seconds",null,null,null,null,null,null,"Average Departure separation"]
[null,null,"Small - S","Small - T","Small +","Large-TP","Large-Jet","Large-757","Heavy",null,null,null,{"$f":"SUM(C108:I114)","v":73.300000000000011},"seconds",{"$f":"3600/M107","v":49.113233287858108}]
[null,"Small - S",{"$f":"C7*C47","v":0},{"$f":"D7*D47","v":0},0,0,0,0,0]
[null,"Small - T",{"$f":"C8*C48","v":0},0.70000000000000018,0,1.65,2.75,0.27500000000000008,0.30000000000000004]
[null,"Small +",0,0,0,0,0,0,0]
[null,"Large-TP",0,2.6999999999999997,0,6.3,10.5,1.05,1.05]
[null,"Large-Jet",0,4.5,0,10.5,17.5,1.75,1.75]
[null,"Large-757",0,0.45000000000000007,0,1.05,1.75,0.17500000000000004,0.17500000000000004]
[null,"Heavy",0,0.65000000000000013,0,1.95,3.25,0.32500000000000007,0.25000000000000006]
[]
[null,"VMC Average Time Required for Departure between Arrivals",null,null,null,"Time in Seconds"]
[null,null,"Small - S","Small - T","Small +","Large-TP","Large-Jet","Large-757","Heavy"]
[null,"Small - S",{"$f":"'Intersecting Model'!$C$15*3600/'Intersecting Model'!C$31+'Intersecting Work Tab (1)'!N$26","v":89.874553670174109},{"$f":"'Intersecting Model'!$C$15*3600/'Intersecting Model'!D$31+'Intersecting Work Tab (1)'!O$26","v":80.887098303156691},{"$f":"'Intersecting Model'!$C$15*3600/'Intersecting Model'!E$31+'Intersecting Work Tab (1)'!P$26","v":67.405915252630578},{"$f":"'Intersecting Model'!$C$15*3600/'Intersecting Model'!F$31+'Intersecting Work Tab (1)'!Q$26","v":62.220844848582075},{"$f":"'Intersecting Model'!$C$15*3600/'Intersecting Model'!G$31+'Intersecting Work Tab (1)'!R$26","v":59.916369113449406},{"$f":"'Intersecting Model'!$C$15*3600/'Intersecting Model'!H$31+'Intersecting Work Tab (1)'!S$26","v":57.776498787969075},{"$f":"'Intersecting Model'!$C$15*3600/'Intersecting Model'!I$31+'Intersecting Work Tab (1)'!T$26","v":53.924732202104465}]
[null,"Small - T",{"$f":"'Intersecting Model'!$C$15*3600/'Intersecting Model'!C$31+'Intersecting Work Tab (1)'!N$26","v":89.874553670174109},{"$f":"'Intersecting Model'!$C$15*3600/'Intersecting Model'!D$31+'Intersecting Work Tab (1)'!O$26","v":80.887098303156691},{"$f":"'Intersecting Model'!$C$15*3600/'Intersecting Model'!E$31+'Intersecting Work Tab (1)'!P$26","v":67.405915252630578},{"$f":"'Intersecting Model'!$C$15*3600/'Intersecting Model'!F$31+'Intersecting Work Tab (1)'!Q$26","v":62.220844848582075},{"$f":"'Intersecting Model'!$C$15*3600/'Intersecting Model'!G$31+'Intersecting Work Tab (1)'!R$26","v":59.916369113449406},{"$f":"'Intersecting Model'!$C$15*3600/'Intersecting Model'!H$31+'Intersecting Work Tab (1)'!S$26","v":57.776498787969075},{"$f":"'Intersecting Model'!$C$15*3600/'Intersecting Model'!I$31+'Intersecting Work Tab (1)'!T$26","v":53.924732202104465}]
[null,"Small +",{"$f":"'Intersecting Model'!$C$15*3600/'Intersecting Model'!C$31+'Intersecting Work Tab (1)'!N$26","v":89.874553670174109},{"$f":"'Intersecting Model'!$C$15*3600/'Intersecting Model'!D$31+'Intersecting Work Tab (1)'!O$26","v":80.887098303156691},{"$f":"'Intersecting Model'!$C$15*3600/'Intersecting Model'!E$31+'Intersecting Work Tab (1)'!P$26","v":67.405915252630578},{"$f":"'Intersecting Model'!$C$15*3600/'Intersecting Model'!F$31+'Intersecting Work Tab (1)'!Q$26","v":62.220844848582075},{"$f":"'Intersecting Model'!$C$15*3600/'Intersecting Model'!G$31+'Intersecting Work Tab (1)'!R$26","v":59.916369113449406},{"$f":"'Intersecting Model'!$C$15*3600/'Intersecting Model'!H$31+'Intersecting Work Tab (1)'!S$26","v":57.776498787969075},{"$f":"'Intersecting Model'!$C$15*3600/'Intersecting Model'!I$31+'Intersecting Work Tab (1)'!T$26","v":53.924732202104465}]
[null,"Large-TP",{"$f":"'Intersecting Model'!$C$15*3600/'Intersecting Model'!C$31+'Intersecting Work Tab (1)'!N$26","v":89.874553670174109},{"$f":"'Intersecting Model'!$C$15*3600/'Intersecting Model'!D$31+'Intersecting Work Tab (1)'!O$26","v":80.887098303156691},{"$f":"'Intersecting Model'!$C$15*3600/'Intersecting Model'!E$31+'Intersecting Work Tab (1)'!P$26","v":67.405915252630578},{"$f":"'Intersecting Model'!$C$15*3600/'Intersecting Model'!F$31+'Intersecting Work Tab (1)'!Q$26","v":62.220844848582075},{"$f":"'Intersecting Model'!$C$15*3600/'Intersecting Model'!G$31+'Intersecting Work Tab (1)'!R$26","v":59.916369113449406},{"$f":"'Intersecting Model'!$C$15*3600/'Intersecting Model'!H$31+'Intersecting Work Tab (1)'!S$26","v":57.776498787969075},{"$f":"'Intersecting Model'!$C$15*3600/'Intersecting Model'!I$31+'Intersecting Work Tab (1)'!T$26","v":53.924732202104465}]
[null,"Large-Jet",{"$f":"'Intersecting Model'!$C$15*3600/'Intersecting Model'!C$31+'Intersecting Work Tab (1)'!N$26","v":89.874553670174109},{"$f":"'Intersecting Model'!$C$15*3600/'Intersecting Model'!D$31+'Intersecting Work Tab (1)'!O$26","v":80.887098303156691},{"$f":"'Intersecting Model'!$C$15*3600/'Intersecting Model'!E$31+'Intersecting Work Tab (1)'!P$26","v":67.405915252630578},{"$f":"'Intersecting Model'!$C$15*3600/'Intersecting Model'!F$31+'Intersecting Work Tab (1)'!Q$26","v":62.220844848582075},{"$f":"'Intersecting Model'!$C$15*3600/'Intersecting Model'!G$31+'Intersecting Work Tab (1)'!R$26","v":59.916369113449406},{"$f":"'Intersecting Model'!$C$15*3600/'Intersecting Model'!H$31+'Intersecting Work Tab (1)'!S$26","v":57.776498787969075},{"$f":"'Intersecting Model'!$C$15*3600/'Intersecting Model'!I$31+'Intersecting Work Tab (1)'!T$26","v":53.924732202104465}]
[null,"Large-757",{"$f":"'Intersecting Model'!$C$15*3600/'Intersecting Model'!C$31+'Intersecting Work Tab (1)'!N$26","v":89.874553670174109},{"$f":"'Intersecting Model'!$C$15*3600/'Intersecting Model'!D$31+'Intersecting Work Tab (1)'!O$26","v":80.887098303156691},{"$f":"'Intersecting Model'!$C$15*3600/'Intersecting Model'!E$31+'Intersecting Work Tab (1)'!P$26","v":67.405915252630578},{"$f":"'Intersecting Model'!$C$15*3600/'Intersecting Model'!F$31+'Intersecting Work Tab (1)'!Q$26","v":62.220844848582075},{"$f":"'Intersecting Model'!$C$15*3600/'Intersecting Model'!G$31+'Intersecting Work Tab (1)'!R$26","v":59.916369113449406},{"$f":"'Intersecting Model'!$C$15*3600/'Intersecting Model'!H$31+'Intersecting Work Tab (1)'!S$26","v":57.776498787969075},{"$f":"'Intersecting Model'!$C$15*3600/'Intersecting Model'!I$31+'Intersecting Work Tab (1)'!T$26","v":53.924732202104465}]
[null,"Heavy",{"$f":"'Intersecting Model'!$C$15*3600/'Intersecting Model'!C$31+'Intersecting Work Tab (1)'!N$26","v":89.874553670174109},{"$f":"'Intersecting Model'!$C$15*3600/'Intersecting Model'!D$31+'Intersecting Work Tab (1)'!O$26","v":80.887098303156691},{"$f":"'Intersecting Model'!$C$15*3600/'Intersecting Model'!E$31+'Intersecting Work Tab (1)'!P$26","v":67.405915252630578},{"$f":"'Intersecting Model'!$C$15*3600/'Intersecting Model'!F$31+'Intersecting Work Tab (1)'!Q$26","v":62.220844848582075},{"$f":"'Intersecting Model'!$C$15*3600/'Intersecting Model'!G$31+'Intersecting Work Tab (1)'!R$26","v":59.916369113449406},{"$f":"'Intersecting Model'!$C$15*3600/'Intersecting Model'!H$31+'Intersecting Work Tab (1)'!S$26","v":57.776498787969075},{"$f":"'Intersecting Model'!$C$15*3600/'Intersecting Model'!I$31+'Intersecting Work Tab (1)'!T$26","v":53.924732202104465}]
[]
[null,"IMC Average Time Required for Departure between Arrivals",null,null,null,"Time in Seconds"]
[null,null,"Small - S","Small - T","Small +","Large-TP","Large-Jet","Large-757","Heavy"]
[null,"Small - S",{"$f":"'Intersecting Model'!$C$16*3600/'Intersecting Model'!C$31+'Intersecting Work Tab (1)'!N$26","v":89.874553670174109},{"$f":"'Intersecting Model'!$C$16*3600/'Intersecting Model'!D$31+'Intersecting Work Tab (1)'!O$26","v":80.887098303156691},{"$f":"'Intersecting Model'!$C$16*3600/'Intersecting Model'!E$31+'Intersecting Work Tab (1)'!P$26","v":67.405915252630578},{"$f":"'Intersecting Model'!$C$16*3600/'Intersecting Model'!F$31+'Intersecting Work Tab (1)'!Q$26","v":62.220844848582075},{"$f":"'Intersecting Model'!$C$16*3600/'Intersecting Model'!G$31+'Intersecting Work Tab (1)'!R$26","v":59.916369113449406},{"$f":"'Intersecting Model'!$C$16*3600/'Intersecting Model'!H$31+'Intersecting Work Tab (1)'!S$26","v":57.776498787969075},{"$f":"'Intersecting Model'!$C$16*3600/'Intersecting Model'!I$31+'Intersecting Work Tab (1)'!T$26","v":53.924732202104465}]
[null,"Small - T",{"$f":"'Intersecting Model'!$C$16*3600/'Intersecting Model'!C$31+'Intersecting Work Tab (1)'!N$26","v":89.874553670174109},{"$f":"'Intersecting Model'!$C$16*3600/'Intersecting Model'!D$31+'Intersecting Work Tab (1)'!O$26","v":80.887098303156691},{"$f":"'Intersecting Model'!$C$16*3600/'Intersecting Model'!E$31+'Intersecting Work Tab (1)'!P$26","v":67.405915252630578},{"$f":"'Intersecting Model'!$C$16*3600/'Intersecting Model'!F$31+'Intersecting Work Tab (1)'!Q$26","v":62.220844848582075},{"$f":"'Intersecting Model'!$C$16*3600/'Intersecting Model'!G$31+'Intersecting Work Tab (1)'!R$26","v":59.916369113449406},{"$f":"'Intersecting Model'!$C$16*3600/'Intersecting Model'!H$31+'Intersecting Work Tab (1)'!S$26","v":57.776498787969075},{"$f":"'Intersecting Model'!$C$16*3600/'Intersecting Model'!I$31+'Intersecting Work Tab (1)'!T$26","v":53.924732202104465}]
[null,"Small +",{"$f":"'Intersecting Model'!$C$16*3600/'Intersecting Model'!C$31+'Intersecting Work Tab (1)'!N$26","v":89.874553670174109},{"$f":"'Intersecting Model'!$C$16*3600/'Intersecting Model'!D$31+'Intersecting Work Tab (1)'!O$26","v":80.887098303156691},{"$f":"'Intersecting Model'!$C$16*3600/'Intersecting Model'!E$31+'Intersecting Work Tab (1)'!P$26","v":67.405915252630578},{"$f":"'Intersecting Model'!$C$16*3600/'Intersecting Model'!F$31+'Intersecting Work Tab (1)'!Q$26","v":62.220844848582075},{"$f":"'Intersecting Model'!$C$16*3600/'Intersecting Model'!G$31+'Intersecting Work Tab (1)'!R$26","v":59.916369113449406},{"$f":"'Intersecting Model'!$C$16*3600/'Intersecting Model'!H$31+'Intersecting Work Tab (1)'!S$26","v":57.776498787969075},{"$f":"'Intersecting Model'!$C$16*3600/'Intersecting Model'!I$31+'Intersecting Work Tab (1)'!T$26","v":53.924732202104465}]
[null,"Large-TP",{"$f":"'Intersecting Model'!$C$16*3600/'Intersecting Model'!C$31+'Intersecting Work Tab (1)'!N$26","v":89.874553670174109},{"$f":"'Intersecting Model'!$C$16*3600/'Intersecting Model'!D$31+'Intersecting Work Tab (1)'!O$26","v":80.887098303156691},{"$f":"'Intersecting Model'!$C$16*3600/'Intersecting Model'!E$31+'Intersecting Work Tab (1)'!P$26","v":67.405915252630578},{"$f":"'Intersecting Model'!$C$16*3600/'Intersecting Model'!F$31+'Intersecting Work Tab (1)'!Q$26","v":62.220844848582075},{"$f":"'Intersecting Model'!$C$16*3600/'Intersecting Model'!G$31+'Intersecting Work Tab (1)'!R$26","v":59.916369113449406},{"$f":"'Intersecting Model'!$C$16*3600/'Intersecting Model'!H$31+'Intersecting Work Tab (1)'!S$26","v":57.776498787969075},{"$f":"'Intersecting Model'!$C$16*3600/'Intersecting Model'!I$31+'Intersecting Work Tab (1)'!T$26","v":53.924732202104465}]
[null,"Large-Jet",{"$f":"'Intersecting Model'!$C$16*3600/'Intersecting Model'!C$31+'Intersecting Work Tab (1)'!N$26","v":89.874553670174109},{"$f":"'Intersecting Model'!$C$16*3600/'Intersecting Model'!D$31+'Intersecting Work Tab (1)'!O$26","v":80.887098303156691},{"$f":"'Intersecting Model'!$C$16*3600/'Intersecting Model'!E$31+'Intersecting Work Tab (1)'!P$26","v":67.405915252630578},{"$f":"'Intersecting Model'!$C$16*3600/'Intersecting Model'!F$31+'Intersecting Work Tab (1)'!Q$26","v":62.220844848582075},{"$f":"'Intersecting Model'!$C$16*3600/'Intersecting Model'!G$31+'Intersecting Work Tab (1)'!R$26","v":59.916369113449406},{"$f":"'Intersecting Model'!$C$16*3600/'Intersecting Model'!H$31+'Intersecting Work Tab (1)'!S$26","v":57.776498787969075},{"$f":"'Intersecting Model'!$C$16*3600/'Intersecting Model'!I$31+'Intersecting Work Tab (1)'!T$26","v":53.924732202104465}]
[null,"Large-757",{"$f":"'Intersecting Model'!$C$16*3600/'Intersecting Model'!C$31+'Intersecting Work Tab (1)'!N$26","v":89.874553670174109},{"$f":"'Intersecting Model'!$C$16*3600/'Intersecting Model'!D$31+'Intersecting Work Tab (1)'!O$26","v":80.887098303156691},{"$f":"'Intersecting Model'!$C$16*3600/'Intersecting Model'!E$31+'Intersecting Work Tab (1)'!P$26","v":67.405915252630578},{"$f":"'Intersecting Model'!$C$16*3600/'Intersecting Model'!F$31+'Intersecting Work Tab (1)'!Q$26","v":62.220844848582075},{"$f":"'Intersecting Model'!$C$16*3600/'Intersecting Model'!G$31+'Intersecting Work Tab (1)'!R$26","v":59.916369113449406},{"$f":"'Intersecting Model'!$C$16*3600/'Intersecting Model'!H$31+'Intersecting Work Tab (1)'!S$26","v":57.776498787969075},{"$f":"'Intersecting Model'!$C$16*3600/'Intersecting Model'!I$31+'Intersecting Work Tab (1)'!T$26","v":53.924732202104465}]
[null,"Heavy",{"$f":"'Intersecting Model'!$C$16*3600/'Intersecting Model'!C$31+'Intersecting Work Tab (1)'!N$26","v":89.874553670174109},{"$f":"'Intersecting Model'!$C$16*3600/'Intersecting Model'!D$31+'Intersecting Work Tab (1)'!O$26","v":80.887098303156691},{"$f":"'Intersecting Model'!$C$16*3600/'Intersecting Model'!E$31+'Intersecting Work Tab (1)'!P$26","v":67.405915252630578},{"$f":"'Intersecting Model'!$C$16*3600/'Intersecting Model'!F$31+'Intersecting Work Tab (1)'!Q$26","v":62.220844848582075},{"$f":"'Intersecting Model'!$C$16*3600/'Intersecting Model'!G$31+'Intersecting Work Tab (1)'!R$26","v":59.916369113449406},{"$f":"'Intersecting Model'!$C$16*3600/'Intersecting Model'!H$31+'Intersecting Work Tab (1)'!S$26","v":57.776498787969075},{"$f":"'Intersecting Model'!$C$16*3600/'Intersecting Model'!I$31+'Intersecting Work Tab (1)'!T$26","v":53.924732202104465},null,null,null,null,"Departures between Arrivals",null,"VMC"]
["Departures on Dependent \"closing\" Runway",null,null,null,null,null,null,null,null,null,null,null,null,{"$f":"SUMPRODUCT(N136:N142,C7:C13)+SUMPRODUCT(O136:O142,D7:D13)+SUMPRODUCT(P136:P142,E7:E13)+SUMPRODUCT(Q136:Q142,F7:F13)+SUMPRODUCT(R136:R142,G7:G13)+SUMPRODUCT(T136:T142,I7:I13)+SUMPRODUCT(S136:S142,H7:H13)","v":1.1425000000000001},{"$f":"N135*3600/M77","v":42.595878085641012}]
[null,"VMC Average Required for Departure between Arrivals",null,null,null,"Time in Seconds",null,null,null,null,null,null,null,{"$f":"IF(C138>=0,TRUNC(C138/$M$87,0)+1,0)","v":1},{"$f":"IF(D138>=0,TRUNC(D138/$M$87,0)+1,0)","v":1},1,1,1,1,1]
[null,null,"Small - S","Small - T","Small +","Large-TP","Large-Jet","Large-757","Heavy",null,null,null,null,1,1,1,1,1,1,1]
[null,"Small - S",{"$f":"C58-C118","v":15.735446329825891},{"$f":"D58-D118","v":17.122901696843314},19.204084747369421,20.004539766802537,20.360297553217265,20.690644069173771,21.285267797895543,null,null,null,null,2,1,1,1,1,1,1]
[null,"Small - T",{"$f":"C59-C119","v":43.735446329825905},17.122901696843314,19.204084747369421,20.004539766802537,20.360297553217265,20.690644069173771,21.285267797895543,null,null,null,null,2,2,1,1,1,1,1]
[null,"Small +",85.735446329825905,59.122901696843329,19.204084747369421,20.004539766802537,20.360297553217265,20.690644069173771,21.285267797895543,null,null,null,null,2,2,1,1,1,1,1]
[null,"Large-TP",133.88929248367208,104.07674785068944,59.357930901215568,20.004539766802537,20.360297553217265,20.690644069173771,22.286948303757441,null,null,null,null,{"$f":"IF(C143>=0,TRUNC(C143/$M$87,0)+1,0)","v":3},3,2,1,1,1,1]
[null,"Large-Jet",141.06877966315926,111.25623503017663,66.53741808070275,27.18402694628972,20.360297553217265,20.690644069173771,23.286948303757441,null,null,null,null,{"$f":"IF(C144>=0,TRUNC(C144/$M$87,0)+1,0)","v":4},3,2,2,2,2,1]
[null,"Large-757",187.73544632982589,153.92290169684333,103.20408474736944,56.004539766802566,48.360297553217279,41.262072640602355,40.485267797895531]
[null,"Heavy",235.73544632982589,198.3229016968433,112.20408474736944,92.927616689879457,84.360297553217265,76.404929783459465,40.485267797895531]
[null,null,null,null,null,null,null,null,null,null,null,null,null,"Departures between Arrivals",null,"IMC"]
[null,"IMC Average Required for Departure between Arrivals",null,null,null,"Time in Seconds",null,null,null,null,null,null,null,{"$f":"SUMPRODUCT(N147:N153,C7:C13)+SUMPRODUCT(O147:O153,D7:D13)+SUMPRODUCT(P147:P153,E7:E13)+SUMPRODUCT(Q147:Q153,F7:F13)+SUMPRODUCT(R147:R153,G7:G13)+SUMPRODUCT(T147:T153,I7:I13)","v":1.2350000000000001},{"$f":"N146*3600/M97","v":34.665003328675191}]
[null,null,"Small - S","Small - T","Small +","Large-TP","Large-Jet","Large-757","Heavy",null,null,null,null,{"$f":"IF(C148>=0,TRUNC(C148/$M$107,0)+1,0)","v":1},1,1,1,1,1,1]
[null,"Small - S",{"$f":"C68-C118","v":59.735446329825905},{"$f":"D68-D118","v":56.722901696843323},52.204084747369421,50.466078228341004,49.693630886550594,48.976358354888063,47.685267797895534,null,null,null,null,{"$f":"IF(C152>=0,TRUNC(C152/$M$107,0)+1,0)","v":3},3,2,1,1,1,1]
[null,"Small - T",{"$f":"C69-C119","v":87.735446329825905},56.722901696843323,52.204084747369421,50.466078228341004,49.693630886550594,48.976358354888063,47.685267797895534,null,null,null,null,{"$f":"IF(C150>=0,TRUNC(C150/$M$107,0)+1,0)","v":2},2,1,1,1,1,1]
[null,"Small +",129.73544632982589,98.722901696843323,52.204084747369421,50.466078228341004,49.693630886550594,48.976358354888063,47.685267797895534,null,null,null,null,3,3,2,1,1,1,1]
[null,"Large-TP",185.88929248367208,150.87674785068947,98.357930901215568,50.466078228341004,49.693630886550594,48.976358354888063,47.685267797895534,null,null,null,null,3,3,2,1,1,1,1]
[null,"Large-Jet",193.06877966315926,158.05623503017665,105.53741808070275,57.645565407828187,49.693630886550594,48.976358354888063,47.685267797895534,null,null,null,null,{"$f":"IF(C153>=0,TRUNC(C153/$M$107,0)+1,0)","v":4},3,2,2,2,2,1]
[null,"Large-757",239.73544632982589,200.72290169684334,142.20408474736945,92.00453976680258,83.026964219883951,74.690644069173771,71.685267797895534,null,null,null,null,{"$f":"IF(C154>=0,TRUNC(C154/$M$107,0)+1,0)","v":4},4,3,2,2,2,1]
[null,"Heavy",291.73544632982589,248.72290169684334,154.20408474736945,131.69684745911024,121.69363088655058,112.40492978345947,71.685267797895534]
[null,"previous formula for cell C168, same type as VMC",{"$f":"C148+'Intersecting Work Tab (3)'!C$2-'Intersecting Model'!$C$16*3600/'Intersecting Model'!C$31","v":-12.364910734034808}]

{"sheet":"Intersecting Work Tab (4)","index":18,"n_rows":155,"n_cols":20,"rows_kept":155,"cut":false,"hidden":true,"merged":[]}
["Departure Intersection Clearance - Rnwy 1 (Seconds)",null,{"$f":"IF('Intersecting Model'!$C$13='Intersecting Model'!$M$169,120,SQRT(2*'Intersecting Model'!$C$10/'Intersecting Model'!$H$13))","v":22.360679774997898},"Departure Intersection Clearance - Rnwy 2 (Seconds)",null,null,null,null,{"$f":"SQRT(2*'Intersecting Model'!$C$9/'Intersecting Model'!$H$13)","v":17.320508075688775},{"$f":"IF('Intersecting Model'!$C$13='Intersecting Model'!$M$169,120,SQRT(2*'Intersecting Model'!$C$10/'Intersecting Model'!$H$13))","v":22.360679774997898}]
["Arrival-Shortened ROT on Runway 1",null,{"$f":"'Intersecting Model'!$C$9/('Intersecting Model'!C31*1.1508*5280/3600)","v":7.8996429361392853},{"$f":"'Intersecting Model'!$C$9/('Intersecting Model'!D31*1.1508*5280/3600)","v":7.1096786425253571},{"$f":"'Intersecting Model'!$C$9/('Intersecting Model'!E31*1.1508*5280/3600)","v":5.9247322021044653},{"$f":"'Intersecting Model'!$C$9/('Intersecting Model'!F31*1.1508*5280/3600)","v":5.4689835711733519},{"$f":"'Intersecting Model'!$C$9/('Intersecting Model'!G31*1.1508*5280/3600)","v":5.2664286240928577},{"$f":"'Intersecting Model'!$C$9/('Intersecting Model'!H31*1.1508*5280/3600)","v":5.0783418875181132},{"$f":"'Intersecting Model'!$C$9/('Intersecting Model'!I31*1.1508*5280/3600)","v":4.7397857616835726}]
["Arrival-Shortened ROT on Runway 2",null,{"$f":"'Intersecting Model'!$C$10/('Intersecting Model'!C31*1.1508*5280/3600)","v":13.166071560232142},{"$f":"'Intersecting Model'!$C$10/('Intersecting Model'!D31*1.1508*5280/3600)","v":11.849464404208929},{"$f":"'Intersecting Model'!$C$10/('Intersecting Model'!E31*1.1508*5280/3600)","v":9.8745536701741088},{"$f":"'Intersecting Model'!$C$10/('Intersecting Model'!F31*1.1508*5280/3600)","v":9.1149726186222537},{"$f":"'Intersecting Model'!$C$10/('Intersecting Model'!G31*1.1508*5280/3600)","v":8.7773810401547632},{"$f":"'Intersecting Model'!$C$10/('Intersecting Model'!H31*1.1508*5280/3600)","v":8.4639031458635223},{"$f":"'Intersecting Model'!$C$10/('Intersecting Model'!I31*1.1508*5280/3600)","v":7.899642936139287}]
[]
[null,"Arrivals Pairing Probability Matrix",null,"(chance of landing behind an aircraft from each class)",null,null,null,null,null,null,0,"Calculated Cells"]
[null,null,"Small - S","Small - T","Small +","Large-TP","Large-Jet","Large-757","Heavy",null,0,"Linked Input Cells"]
[null,"Small - S",{"$f":"'Intersecting Model'!$C25*'Intersecting Model'!C25","v":0},{"$f":"'Intersecting Model'!$C25*'Intersecting Model'!D25","v":0},{"$f":"'Intersecting Model'!$C25*'Intersecting Model'!E25","v":0},{"$f":"'Intersecting Model'!$C25*'Intersecting Model'!F25","v":0},{"$f":"'Intersecting Model'!$C25*'Intersecting Model'!G25","v":0},{"$f":"'Intersecting Model'!$C25*'Intersecting Model'!H25","v":0},{"$f":"'Intersecting Model'!$C25*'Intersecting Model'!I25","v":0},null,0,"Linked Cells"]
[null,"Small - T",{"$f":"'Intersecting Model'!$D25*'Intersecting Model'!C25","v":0},{"$f":"'Intersecting Model'!$D25*'Intersecting Model'!D25","v":1.0000000000000002E-2},{"$f":"'Intersecting Model'!$D25*'Intersecting Model'!E25","v":0},{"$f":"'Intersecting Model'!$D25*'Intersecting Model'!F25","v":0.03},{"$f":"'Intersecting Model'!$D25*'Intersecting Model'!G25","v":0.05},{"$f":"'Intersecting Model'!$D25*'Intersecting Model'!H25","v":5.000000000000001E-3},{"$f":"'Intersecting Model'!$D25*'Intersecting Model'!I25","v":5.000000000000001E-3},null,null,"(within this worksheet)"]
[null,"Small +",{"$f":"'Intersecting Model'!$E25*'Intersecting Model'!C25","v":0},{"$f":"'Intersecting Model'!$E25*'Intersecting Model'!D25","v":0},{"$f":"'Intersecting Model'!$E25*'Intersecting Model'!E25","v":0},{"$f":"'Intersecting Model'!$E25*'Intersecting Model'!F25","v":0},{"$f":"'Intersecting Model'!$E25*'Intersecting Model'!G25","v":0},{"$f":"'Intersecting Model'!$E25*'Intersecting Model'!H25","v":0},{"$f":"'Intersecting Model'!$E25*'Intersecting Model'!I25","v":0}]
[null,"Large-TP",{"$f":"'Intersecting Model'!$F25*'Intersecting Model'!C25","v":0},{"$f":"'Intersecting Model'!$F25*'Intersecting Model'!D25","v":0.03},{"$f":"'Intersecting Model'!$F25*'Intersecting Model'!E25","v":0},{"$f":"'Intersecting Model'!$F25*'Intersecting Model'!F25","v":0.09},{"$f":"'Intersecting Model'!$F25*'Intersecting Model'!G25","v":0.15},{"$f":"'Intersecting Model'!$F25*'Intersecting Model'!H25","v":1.4999999999999999E-2},{"$f":"'Intersecting Model'!$F25*'Intersecting Model'!I25","v":1.4999999999999999E-2}]
[null,"Large-Jet",{"$f":"'Intersecting Model'!$G25*'Intersecting Model'!C25","v":0},{"$f":"'Intersecting Model'!$G25*'Intersecting Model'!D25","v":0.05},{"$f":"'Intersecting Model'!$G25*'Intersecting Model'!E25","v":0},{"$f":"'Intersecting Model'!$G25*'Intersecting Model'!F25","v":0.15},{"$f":"'Intersecting Model'!$G25*'Intersecting Model'!G25","v":0.25},{"$f":"'Intersecting Model'!$G25*'Intersecting Model'!H25","v":2.5000000000000001E-2},{"$f":"'Intersecting Model'!$G25*'Intersecting Model'!I25","v":2.5000000000000001E-2}]
[null,"Large-757",{"$f":"'Intersecting Model'!$H25*'Intersecting Model'!C25","v":0},{"$f":"'Intersecting Model'!$H25*'Intersecting Model'!D25","v":5.000000000000001E-3},{"$f":"'Intersecting Model'!$H25*'Intersecting Model'!E25","v":0},{"$f":"'Intersecting Model'!$H25*'Intersecting Model'!F25","v":1.4999999999999999E-2},{"$f":"'Intersecting Model'!$H25*'Intersecting Model'!G25","v":2.5000000000000001E-2},{"$f":"'Intersecting Model'!$H25*'Intersecting Model'!H25","v":2.5000000000000005E-3},{"$f":"'Intersecting Model'!$H25*'Intersecting Model'!I25","v":2.5000000000000005E-3},"Summary Check"]
[null,"Heavy",{"$f":"'Intersecting Model'!$I25*'Intersecting Model'!C25","v":0},{"$f":"'Intersecting Model'!$I25*'Intersecting Model'!D25","v":5.000000000000001E-3},{"$f":"'Intersecting Model'!$I25*'Intersecting Model'!E25","v":0},{"$f":"'Intersecting Model'!$I25*'Intersecting Model'!F25","v":1.4999999999999999E-2},{"$f":"'Intersecting Model'!$I25*'Intersecting Model'!G25","v":2.5000000000000001E-2},{"$f":"'Intersecting Model'!$I25*'Intersecting Model'!H25","v":2.5000000000000005E-3},{"$f":"'Intersecting Model'!$I25*'Intersecting Model'!I25","v":2.5000000000000005E-3},"Total = ",{"$f":"SUM(C7:I13)","v":0.99999999999999989}]
[]
[null,"VMC Required Separation for arrivals following an aircraft from each class",null,null,null,"Distance in Nautical Miles"]
[null,null,"Small - S","Small - T","Small +","Large-TP","Large-Jet","Large-757","Heavy"]
[null,"Small - S",{"$f":"'Intersecting Model'!$D$44+'Intersecting Model'!$H$39","v":1.9},{"$f":"$C$17","v":1.9},1.9,1.9,1.9,1.9,1.9]
[null,"Small - T",{"$f":"$C$17","v":1.9},1.9,1.9,1.9,1.9,1.9,1.9]
[null,"Small +",{"$f":"'Intersecting Model'!$D$45+'Intersecting Model'!$H$39","v":1.9},{"$f":"$C$19","v":1.9},{"$f":"$C$19","v":1.9},{"$f":"'Intersecting Model'!$D$46+'Intersecting Model'!$H$39","v":1.9},{"$f":"$F$19","v":1.9},{"$f":"$F$19","v":1.9},{"$f":"$F$19","v":1.9},null,null,"seconds"]
[null,"Large-TP",{"$f":"'Intersecting Model'!$D$47+'Intersecting Model'!$H$39","v":2.7},{"$f":"$C$20","v":2.7},{"$f":"$C$20","v":2.7},{"$f":"'Intersecting Model'!$D$48+'Intersecting Model'!$H$39","v":1.9},{"$f":"$F$20","v":1.9},{"$f":"$F$20","v":1.9},{"$f":"$F$20","v":1.9}]
[null,"Large-Jet",{"$f":"'Intersecting Model'!$D$47+'Intersecting Model'!$H$39","v":2.7},{"$f":"$C$21","v":2.7},{"$f":"$C$21","v":2.7},{"$f":"'Intersecting Model'!$D$48+'Intersecting Model'!$H$39","v":1.9},{"$f":"$F$21","v":1.9},{"$f":"$F$21","v":1.9},{"$f":"$F$21","v":1.9}]
[null,"Large-757",{"$f":"'Intersecting Model'!$D$49+'Intersecting Model'!$H$39","v":3.7},{"$f":"$C$22","v":3.7},{"$f":"$C$22","v":3.7},{"$f":"'Intersecting Model'!$D$50+'Intersecting Model'!$H$39","v":2.7},{"$f":"F22","v":2.7},{"$f":"$F$22","v":2.7},{"$f":"$F$22","v":2.7}]
[null,"Heavy",{"$f":"'Intersecting Model'!$D$51+'Intersecting Model'!$H$39","v":4.5999999999999996},{"$f":"$C$23","v":4.5999999999999996},{"$f":"'Intersecting Model'!$D$52+'Intersecting Model'!$H$39","v":3.6},{"$f":"$E$23","v":3.6},{"$f":"$E$23","v":3.6},{"$f":"$E$23","v":3.6},{"$f":"'Intersecting Model'!$D$53+'Intersecting Model'!$H$39","v":2.7}]
[]
[null,"IMC Required Separation for arrivals following an aircraft from each class",null,null,null,"Distance in Nautical Miles"]
[null,null,"Small - S","Small - T","Small +","Large-TP","Large-Jet","Large-757","Heavy"]
[null,"Small - S",{"$f":"'Intersecting Model'!$E$44+'Intersecting Model'!$H$39","v":3},{"$f":"$C$27","v":3},3,3,3,3,3]
[null,"Small - T",{"$f":"$C$27","v":3},3,3,3,3,3,3]
[null,"Small +",{"$f":"'Intersecting Model'!$E$45+'Intersecting Model'!$H$39","v":3},{"$f":"$C$29","v":3},{"$f":"$C$29","v":3},{"$f":"'Intersecting Model'!$E$46+'Intersecting Model'!$H$39","v":3},{"$f":"$F$29","v":3},{"$f":"$F$29","v":3},{"$f":"$F$29","v":3}]
[null,"Large-TP",{"$f":"'Intersecting Model'!$E$47+'Intersecting Model'!$H$39","v":4},{"$f":"$C$30","v":4},{"$f":"$C$30","v":4},{"$f":"'Intersecting Model'!$E$48+'Intersecting Model'!$H$39","v":3},{"$f":"$F$30","v":3},{"$f":"$F$30","v":3},{"$f":"$F$30","v":3}]
[null,"Large-Jet",{"$f":"'Intersecting Model'!$E$47+'Intersecting Model'!$H$39","v":4},{"$f":"$C$31","v":4},{"$f":"$C$31","v":4},{"$f":"'Intersecting Model'!$E$48+'Intersecting Model'!$H$39","v":3},{"$f":"$F$31","v":3},{"$f":"$F$31","v":3},{"$f":"$F$31","v":3}]
[null,"Large-757",{"$f":"'Intersecting Model'!$E$49+'Intersecting Model'!$H$39","v":5},{"$f":"$C$32","v":5},{"$f":"$C$32","v":5},{"$f":"'Intersecting Model'!$E$50+'Intersecting Model'!$H$39","v":4},{"$f":"$F$32","v":4},{"$f":"$F$32","v":4},{"$f":"$F$32","v":4}]
[null,"Heavy",{"$f":"'Intersecting Model'!$E$51+'Intersecting Model'!$H$39","v":6},{"$f":"$C$33","v":6},{"$f":"'Intersecting Model'!$E$52+'Intersecting Model'!$H$39","v":5},{"$f":"$E$33","v":5},{"$f":"$E$33","v":5},{"$f":"$E$33","v":5},{"$f":"'Intersecting Model'!$E$53+'Intersecting Model'!$H$39","v":4}]
[]
[null,"VMC Required Separation for departures following an aircraft from each class",null,null,null,"Time in seconds"]
[null,null,"Small - S","Small - T","Small +","Large-TP","Large-Jet","Large-757","Heavy"]
[null,"Small - S",{"$f":"'Intersecting Model'!$D$57+'Intersecting Model'!$C$40","v":45},{"$f":"$C$37","v":45},{"$f":"$C$37","v":45},{"$f":"'Intersecting Model'!$D$58+'Intersecting Model'!$C$40","v":55},{"$f":"$F$37","v":55},55,{"$f":"'Intersecting Model'!$D$59+'Intersecting Model'!$C$40","v":60}]
[null,"Small - T",{"$f":"$C$37","v":45},45,45,{"$f":"$F$37","v":55},55,55,{"$f":"$I$37","v":60}]
[null,"Small +",45,45,45,{"$f":"$F$37","v":55},55,55,{"$f":"$I$37","v":60}]
[null,"Large-TP",{"$f":"'Intersecting Model'!$D$60+'Intersecting Model'!$C$40","v":90},{"$f":"$C$40","v":90},90,{"$f":"'Intersecting Model'!$D$61+'Intersecting Model'!$C$40","v":70},{"$f":"$F$40","v":70},{"$f":"$F$40","v":70},{"$f":"$F$40","v":70}]
[null,"Large-Jet",90,90,90,{"$f":"$F$40","v":70},70,70,70]
[null,"Large-757",90,90,90,70,70,70,70]
[null,"Heavy",{"$f":"'Intersecting Model'!$D$62+'Intersecting Model'!$C$40","v":130},{"$f":"$C$43","v":130},{"$f":"$C$43","v":130},{"$f":"$C$43","v":130},{"$f":"$C$43","v":130},{"$f":"$C$43","v":130},{"$f":"'Intersecting Model'!$D$63+'Intersecting Model'!$C$40","v":100}]
[]
[null,"IMC Required Separation for departures following an aircraft from each class",null,null,null,"Time in seconds"]
[null,null,"Small - S","Small - T","Small +","Large-TP","Large-Jet","Large-757","Heavy",null,null,"  "]
[null,"Small - S",{"$f":"'Intersecting Model'!$E$57+'Intersecting Model'!$C$40","v":70},{"$f":"$C$47","v":70},{"$f":"$C$47","v":70},{"$f":"'Intersecting Model'!$D$58+'Intersecting Model'!$C$40","v":55},{"$f":"$F$47","v":55},{"$f":"$F$47","v":55},{"$f":"'Intersecting Model'!$D$59+'Intersecting Model'!$C$40","v":60}]
[null,"Small - T",{"$f":"$C$47","v":70},70,70,{"$f":"$F$47","v":55},55,55,{"$f":"$I$47","v":60}]
[null,"Small +",70,70,70,55,55,55,{"$f":"$I$47","v":60}]
[null,"Large-TP",{"$f":"'Intersecting Model'!$E$60+'Intersecting Model'!$C$40","v":90},{"$f":"$C$50","v":90},90,{"$f":"'Intersecting Model'!$D$61+'Intersecting Model'!$C$40","v":70},{"$f":"$F$50","v":70},{"$f":"$F$50","v":70},{"$f":"$F$50","v":70}]
[null,"Large-Jet",{"$f":"$C$50","v":90},90,90,{"$f":"$F$50","v":70},70,70,70]
[null,"Large-757",{"$f":"$C$50","v":90},90,90,70,70,70,70]
[null,"Heavy",{"$f":"'Intersecting Model'!$D$62+'Intersecting Model'!$C$40","v":130},{"$f":"$C$53","v":130},{"$f":"$C$53","v":130},{"$f":"$C$53","v":130},{"$f":"$C$53","v":130},{"$f":"$C$53","v":130},{"$f":"'Intersecting Model'!$D$63+'Intersecting Model'!$C$40","v":100}]
[]
[null,null,null," "]
[null,"VMC Required Separation for arrivals following an aircraft from each class",null,null,null,"Time in Seconds"]
[null,null,"Small - S","Small - T","Small +","Large-TP","Large-Jet","Large-757","Heavy"]
[null,"Small - S",{"$f":"MAXA(3600*C17/('Intersecting Model'!$C$31)+'Intersecting Model'!$H$17*'Intersecting Model'!$H$15+MAXA(0,'Intersecting Model'!$C$17*3600*(1/'Intersecting Model'!$C$31-1/'Intersecting Model'!$C$31)),'Intersecting Model'!$C$28+'Intersecting Model'!$H$17*SQRT('Intersecting Model'!$H$15^2+'Intersecting Model'!$H$16^2))+'Intersecting Model'!$C$39","v":105.61},{"$f":"MAXA(3600*D17/('Intersecting Model'!$D$31)+'Intersecting Model'!$H$17*'Intersecting Model'!$H$15+MAXA(0,'Intersecting Model'!$C$17*3600*(1/'Intersecting Model'!$D$31-1/'Intersecting Model'!$C$31)),'Intersecting Model'!$C$28+'Intersecting Model'!$H$17*SQRT('Intersecting Model'!$H$15^2+'Intersecting Model'!$H$16^2))+'Intersecting Model'!$C$39","v":98.01},{"$f":"MAXA(3600*E17/('Intersecting Model'!$E$31)+'Intersecting Model'!$H$17*'Intersecting Model'!$H$15+MAXA(0,'Intersecting Model'!$C$17*3600*(1/'Intersecting Model'!$E$31-1/'Intersecting Model'!$C$31)),'Intersecting Model'!$C$28+'Intersecting Model'!$H$17*SQRT('Intersecting Model'!$H$15^2+'Intersecting Model'!$H$16^2))+'Intersecting Model'!$C$39","v":86.61},{"$f":"MAXA(3600*F17/('Intersecting Model'!$F$31)+'Intersecting Model'!$H$17*'Intersecting Model'!$H$15+MAXA(0,'Intersecting Model'!$C$17*3600*(1/'Intersecting Model'!$F$31-1/'Intersecting Model'!$C$31)),'Intersecting Model'!$C$28+'Intersecting Model'!$H$17*SQRT('Intersecting Model'!$H$15^2+'Intersecting Model'!$H$16^2))+'Intersecting Model'!$C$39","v":82.225384615384613},{"$f":"MAXA(3600*G17/('Intersecting Model'!$G$31)+'Intersecting Model'!$H$17*'Intersecting Model'!$H$15+MAXA(0,'Intersecting Model'!$C$17*3600*(1/'Intersecting Model'!$G$31-1/'Intersecting Model'!$C$31)),'Intersecting Model'!$C$28+'Intersecting Model'!$H$17*SQRT('Intersecting Model'!$H$15^2+'Intersecting Model'!$H$16^2))+'Intersecting Model'!$C$39","v":80.276666666666671},{"$f":"MAXA(3600*H17/('Intersecting Model'!$H$31)+'Intersecting Model'!$H$17*'Intersecting Model'!$H$15+MAXA(0,'Intersecting Model'!$C$17*3600*(1/'Intersecting Model'!$H$31-1/'Intersecting Model'!$C$31)),'Intersecting Model'!$C$28+'Intersecting Model'!$H$17*SQRT('Intersecting Model'!$H$15^2+'Intersecting Model'!$H$16^2))+'Intersecting Model'!$C$39","v":78.467142857142846},{"$f":"MAXA(3600*I17/('Intersecting Model'!$I$31)+'Intersecting Model'!$H$17*'Intersecting Model'!$H$15+MAXA(0,'Intersecting Model'!$C$17*3600*(1/'Intersecting Model'!$I$31-1/'Intersecting Model'!$C$31)),'Intersecting Model'!$C$28+'Intersecting Model'!$H$17*SQRT('Intersecting Model'!$H$15^2+'Intersecting Model'!$H$16^2))+'Intersecting Model'!$C$39","v":75.210000000000008}]
[null,"Small - T",{"$f":"MAXA(3600*C18/('Intersecting Model'!$C$31)+'Intersecting Model'!$H$17*'Intersecting Model'!$H$15+MAXA(0,'Intersecting Model'!$C$17*3600*(1/'Intersecting Model'!$C$31-1/'Intersecting Model'!$D$31)),'Intersecting Model'!$D$28+'Intersecting Model'!$H$17*SQRT('Intersecting Model'!$H$15^2+'Intersecting Model'!$H$16^2))+'Intersecting Model'!$C$39","v":133.61000000000001},{"$f":"MAXA(3600*D18/('Intersecting Model'!$D$31)+'Intersecting Model'!$H$17*'Intersecting Model'!$H$15+MAXA(0,'Intersecting Model'!$C$17*3600*(1/'Intersecting Model'!$D$31-1/'Intersecting Model'!$D$31)),'Intersecting Model'!$D$28+'Intersecting Model'!$H$17*SQRT('Intersecting Model'!$H$15^2+'Intersecting Model'!$H$16^2))+'Intersecting Model'!$C$39","v":98.01},{"$f":"MAXA(3600*E18/('Intersecting Model'!$E$31)+'Intersecting Model'!$H$17*'Intersecting Model'!$H$15+MAXA(0,'Intersecting Model'!$C$17*3600*(1/'Intersecting Model'!$E$31-1/'Intersecting Model'!$D$31)),'Intersecting Model'!$D$28+'Intersecting Model'!$H$17*SQRT('Intersecting Model'!$H$15^2+'Intersecting Model'!$H$16^2))+'Intersecting Model'!$C$39","v":86.61},{"$f":"MAXA(3600*F18/('Intersecting Model'!$F$31)+'Intersecting Model'!$H$17*'Intersecting Model'!$H$15+MAXA(0,'Intersecting Model'!$C$17*3600*(1/'Intersecting Model'!$F$31-1/'Intersecting Model'!$D$31)),'Intersecting Model'!$D$28+'Intersecting Model'!$H$17*SQRT('Intersecting Model'!$H$15^2+'Intersecting Model'!$H$16^2))+'Intersecting Model'!$C$39","v":82.225384615384613},{"$f":"MAXA(3600*G18/('Intersecting Model'!$G$31)+'Intersecting Model'!$H$17*'Intersecting Model'!$H$15+MAXA(0,'Intersecting Model'!$C$17*3600*(1/'Intersecting Model'!$G$31-1/'Intersecting Model'!$D$31)),'Intersecting Model'!$D$28+'Intersecting Model'!$H$17*SQRT('Intersecting Model'!$H$15^2+'Intersecting Model'!$H$16^2))+'Intersecting Model'!$C$39","v":80.276666666666671},{"$f":"MAXA(3600*H18/('Intersecting Model'!$H$31)+'Intersecting Model'!$H$17*'Intersecting Model'!$H$15+MAXA(0,'Intersecting Model'!$C$17*3600*(1/'Intersecting Model'!$H$31-1/'Intersecting Model'!$D$31)),'Intersecting Model'!$D$28+'Intersecting Model'!$H$17*SQRT('Intersecting Model'!$H$15^2+'Intersecting Model'!$H$16^2))+'Intersecting Model'!$C$39","v":78.467142857142846},{"$f":"MAXA(3600*I18/('Intersecting Model'!$I$31)+'Intersecting Model'!$H$17*'Intersecting Model'!$H$15+MAXA(0,'Intersecting Model'!$C$17*3600*(1/'Intersecting Model'!$I$31-1/'Intersecting Model'!$D$31)),'Intersecting Model'!$D$28+'Intersecting Model'!$H$17*SQRT('Intersecting Model'!$H$15^2+'Intersecting Model'!$H$16^2))+'Intersecting Model'!$C$39","v":75.210000000000008}]
[null,"Small +",{"$f":"MAXA(3600*C19/('Intersecting Model'!$C$31)+'Intersecting Model'!$H$17*'Intersecting Model'!$H$15+MAXA(0,'Intersecting Model'!$C$17*3600*(1/'Intersecting Model'!$C$31-1/'Intersecting Model'!$E$31)),'Intersecting Model'!$E$28+'Intersecting Model'!$H$17*SQRT('Intersecting Model'!$H$15^2+'Intersecting Model'!$H$16^2))+'Intersecting Model'!$C$39","v":175.61},{"$f":"MAXA(3600*D19/('Intersecting Model'!$D$31)+'Intersecting Model'!$H$17*'Intersecting Model'!$H$15+MAXA(0,'Intersecting Model'!$C$17*3600*(1/'Intersecting Model'!$D$31-1/'Intersecting Model'!$E$31)),'Intersecting Model'!$E$28+'Intersecting Model'!$H$17*SQRT('Intersecting Model'!$H$15^2+'Intersecting Model'!$H$16^2))+'Intersecting Model'!$C$39","v":140.01000000000002},{"$f":"MAXA(3600*E19/('Intersecting Model'!$E$31)+'Intersecting Model'!$H$17*'Intersecting Model'!$H$15+MAXA(0,'Intersecting Model'!$C$17*3600*(1/'Intersecting Model'!$E$31-1/'Intersecting Model'!$E$31)),'Intersecting Model'!$E$28+'Intersecting Model'!$H$17*SQRT('Intersecting Model'!$H$15^2+'Intersecting Model'!$H$16^2))+'Intersecting Model'!$C$39","v":86.61},{"$f":"MAXA(3600*F19/('Intersecting Model'!$F$31)+'Intersecting Model'!$H$17*'Intersecting Model'!$H$15+MAXA(0,'Intersecting Model'!$C$17*3600*(1/'Intersecting Model'!$F$31-1/'Intersecting Model'!$E$31)),'Intersecting Model'!$E$28+'Intersecting Model'!$H$17*SQRT('Intersecting Model'!$H$15^2+'Intersecting Model'!$H$16^2))+'Intersecting Model'!$C$39","v":82.225384615384613},{"$f":"MAXA(3600*G19/('Intersecting Model'!$G$31)+'Intersecting Model'!$H$17*'Intersecting Model'!$H$15+MAXA(0,'Intersecting Model'!$C$17*3600*(1/'Intersecting Model'!$G$31-1/'Intersecting Model'!$E$31)),'Intersecting Model'!$E$28+'Intersecting Model'!$H$17*SQRT('Intersecting Model'!$H$15^2+'Intersecting Model'!$H$16^2))+'Intersecting Model'!$C$39","v":80.276666666666671},{"$f":"MAXA(3600*H19/('Intersecting Model'!$H$31)+'Intersecting Model'!$H$17*'Intersecting Model'!$H$15+MAXA(0,'Intersecting Model'!$C$17*3600*(1/'Intersecting Model'!$H$31-1/'Intersecting Model'!$E$31)),'Intersecting Model'!$E$28+'Intersecting Model'!$H$17*SQRT('Intersecting Model'!$H$15^2+'Intersecting Model'!$H$16^2))+'Intersecting Model'!$C$39","v":78.467142857142846},{"$f":"MAXA(3600*I19/('Intersecting Model'!$I$31)+'Intersecting Model'!$H$17*'Intersecting Model'!$H$15+MAXA(0,'Intersecting Model'!$C$17*3600*(1/'Intersecting Model'!$I$31-1/'Intersecting Model'!$E$31)),'Intersecting Model'!$E$28+'Intersecting Model'!$H$17*SQRT('Intersecting Model'!$H$15^2+'Intersecting Model'!$H$16^2))+'Intersecting Model'!$C$39","v":75.210000000000008}]
[null,"Large-TP",{"$f":"MAXA(3600*C20/('Intersecting Model'!$C$31)+'Intersecting Model'!$H$17*'Intersecting Model'!$H$15+MAXA(0,'Intersecting Model'!$C$17*3600*(1/'Intersecting Model'!$C$31-1/'Intersecting Model'!$F$31)),'Intersecting Model'!$F$28+'Intersecting Model'!$H$17*SQRT('Intersecting Model'!$H$15^2+'Intersecting Model'!$H$16^2))+'Intersecting Model'!$C$39","v":223.76384615384617},{"$f":"MAXA(3600*D20/('Intersecting Model'!$D$31)+'Intersecting Model'!$H$17*'Intersecting Model'!$H$15+MAXA(0,'Intersecting Model'!$C$17*3600*(1/'Intersecting Model'!$D$31-1/'Intersecting Model'!$F$31)),'Intersecting Model'!$F$28+'Intersecting Model'!$H$17*SQRT('Intersecting Model'!$H$15^2+'Intersecting Model'!$H$16^2))+'Intersecting Model'!$C$39","v":184.96384615384613},{"$f":"MAXA(3600*E20/('Intersecting Model'!$E$31)+'Intersecting Model'!$H$17*'Intersecting Model'!$H$15+MAXA(0,'Intersecting Model'!$C$17*3600*(1/'Intersecting Model'!$E$31-1/'Intersecting Model'!$F$31)),'Intersecting Model'!$F$28+'Intersecting Model'!$H$17*SQRT('Intersecting Model'!$H$15^2+'Intersecting Model'!$H$16^2))+'Intersecting Model'!$C$39","v":126.76384615384615},{"$f":"MAXA(3600*F20/('Intersecting Model'!$F$31)+'Intersecting Model'!$H$17*'Intersecting Model'!$H$15+MAXA(0,'Intersecting Model'!$C$17*3600*(1/'Intersecting Model'!$F$31-1/'Intersecting Model'!$F$31)),'Intersecting Model'!$F$28+'Intersecting Model'!$H$17*SQRT('Intersecting Model'!$H$15^2+'Intersecting Model'!$H$16^2))+'Intersecting Model'!$C$39","v":82.225384615384613},{"$f":"MAXA(3600*G20/('Intersecting Model'!$G$31)+'Intersecting Model'!$H$17*'Intersecting Model'!$H$15+MAXA(0,'Intersecting Model'!$C$17*3600*(1/'Intersecting Model'!$G$31-1/'Intersecting Model'!$F$31)),'Intersecting Model'!$F$28+'Intersecting Model'!$H$17*SQRT('Intersecting Model'!$H$15^2+'Intersecting Model'!$H$16^2))+'Intersecting Model'!$C$39","v":80.276666666666671},{"$f":"MAXA(3600*H20/('Intersecting Model'!$H$31)+'Intersecting Model'!$H$17*'Intersecting Model'!$H$15+MAXA(0,'Intersecting Model'!$C$17*3600*(1/'Intersecting Model'!$H$31-1/'Intersecting Model'!$F$31)),'Intersecting Model'!$F$28+'Intersecting Model'!$H$17*SQRT('Intersecting Model'!$H$15^2+'Intersecting Model'!$H$16^2))+'Intersecting Model'!$C$39","v":78.467142857142846},{"$f":"MAXA(3600*I20/('Intersecting Model'!$I$31)+'Intersecting Model'!$H$17*'Intersecting Model'!$H$15+MAXA(0,'Intersecting Model'!$C$17*3600*(1/'Intersecting Model'!$I$31-1/'Intersecting Model'!$F$31)),'Intersecting Model'!$F$28+'Intersecting Model'!$H$17*SQRT('Intersecting Model'!$H$15^2+'Intersecting Model'!$H$16^2))+'Intersecting Model'!$C$39","v":76.211680505861906}]
[null,"Large-Jet",{"$f":"MAXA(3600*C21/('Intersecting Model'!$C$31)+'Intersecting Model'!$H$17*'Intersecting Model'!$H$15+MAXA(0,'Intersecting Model'!$C$17*3600*(1/'Intersecting Model'!$C$31-1/'Intersecting Model'!$G$31)),'Intersecting Model'!$G$28+'Intersecting Model'!$H$17*SQRT('Intersecting Model'!$H$15^2+'Intersecting Model'!$H$16^2))+'Intersecting Model'!$C$39","v":230.94333333333336},{"$f":"MAXA(3600*D21/('Intersecting Model'!$D$31)+'Intersecting Model'!$H$17*'Intersecting Model'!$H$15+MAXA(0,'Intersecting Model'!$C$17*3600*(1/'Intersecting Model'!$D$31-1/'Intersecting Model'!$G$31)),'Intersecting Model'!$G$28+'Intersecting Model'!$H$17*SQRT('Intersecting Model'!$H$15^2+'Intersecting Model'!$H$16^2))+'Intersecting Model'!$C$39","v":192.14333333333332},{"$f":"MAXA(3600*E21/('Intersecting Model'!$E$31)+'Intersecting Model'!$H$17*'Intersecting Model'!$H$15+MAXA(0,'Intersecting Model'!$C$17*3600*(1/'Intersecting Model'!$E$31-1/'Intersecting Model'!$G$31)),'Intersecting Model'!$G$28+'Intersecting Model'!$H$17*SQRT('Intersecting Model'!$H$15^2+'Intersecting Model'!$H$16^2))+'Intersecting Model'!$C$39","v":133.94333333333333},{"$f":"MAXA(3600*F21/('Intersecting Model'!$F$31)+'Intersecting Model'!$H$17*'Intersecting Model'!$H$15+MAXA(0,'Intersecting Model'!$C$17*3600*(1/'Intersecting Model'!$F$31-1/'Intersecting Model'!$G$31)),'Intersecting Model'!$G$28+'Intersecting Model'!$H$17*SQRT('Intersecting Model'!$H$15^2+'Intersecting Model'!$H$16^2))+'Intersecting Model'!$C$39","v":89.404871794871795},{"$f":"MAXA(3600*G21/('Intersecting Model'!$G$31)+'Intersecting Model'!$H$17*'Intersecting Model'!$H$15+MAXA(0,'Intersecting Model'!$C$17*3600*(1/'Intersecting Model'!$G$31-1/'Intersecting Model'!$G$31)),'Intersecting Model'!$G$28+'Intersecting Model'!$H$17*SQRT('Intersecting Model'!$H$15^2+'Intersecting Model'!$H$16^2))+'Intersecting Model'!$C$39","v":80.276666666666671},{"$f":"MAXA(3600*H21/('Intersecting Model'!$H$31)+'Intersecting Model'!$H$17*'Intersecting Model'!$H$15+MAXA(0,'Intersecting Model'!$C$17*3600*(1/'Intersecting Model'!$H$31-1/'Intersecting Model'!$G$31)),'Intersecting Model'!$G$28+'Intersecting Model'!$H$17*SQRT('Intersecting Model'!$H$15^2+'Intersecting Model'!$H$16^2))+'Intersecting Model'!$C$39","v":78.467142857142846},{"$f":"MAXA(3600*I21/('Intersecting Model'!$I$31)+'Intersecting Model'!$H$17*'Intersecting Model'!$H$15+MAXA(0,'Intersecting Model'!$C$17*3600*(1/'Intersecting Model'!$I$31-1/'Intersecting Model'!$G$31)),'Intersecting Model'!$G$28+'Intersecting Model'!$H$17*SQRT('Intersecting Model'!$H$15^2+'Intersecting Model'!$H$16^2))+'Intersecting Model'!$C$39","v":77.211680505861906}]
[null,"Large-757",{"$f":"MAXA(3600*C22/('Intersecting Model'!C$31)+'Intersecting Model'!$H$17*'Intersecting Model'!$H$15+MAXA(0,'Intersecting Model'!$C$17*3600*(1/'Intersecting Model'!C$31-1/'Intersecting Model'!$H$31)),'Intersecting Model'!$H$28+'Intersecting Model'!$H$17*SQRT('Intersecting Model'!$H$15^2+'Intersecting Model'!$H$16^2))+'Intersecting Model'!$C$39","v":277.61},{"$f":"MAXA(3600*D22/('Intersecting Model'!D$31)+'Intersecting Model'!$H$17*'Intersecting Model'!$H$15+MAXA(0,'Intersecting Model'!$C$17*3600*(1/'Intersecting Model'!D$31-1/'Intersecting Model'!$H$31)),'Intersecting Model'!$H$28+'Intersecting Model'!$H$17*SQRT('Intersecting Model'!$H$15^2+'Intersecting Model'!$H$16^2))+'Intersecting Model'!$C$39","v":234.81},{"$f":"MAXA(3600*E22/('Intersecting Model'!E$31)+'Intersecting Model'!$H$17*'Intersecting Model'!$H$15+MAXA(0,'Intersecting Model'!$C$17*3600*(1/'Intersecting Model'!E$31-1/'Intersecting Model'!$H$31)),'Intersecting Model'!$H$28+'Intersecting Model'!$H$17*SQRT('Intersecting Model'!$H$15^2+'Intersecting Model'!$H$16^2))+'Intersecting Model'!$C$39","v":170.61},{"$f":"MAXA(3600*F22/('Intersecting Model'!F$31)+'Intersecting Model'!$H$17*'Intersecting Model'!$H$15+MAXA(0,'Intersecting Model'!$C$17*3600*(1/'Intersecting Model'!F$31-1/'Intersecting Model'!$H$31)),'Intersecting Model'!$H$28+'Intersecting Model'!$H$17*SQRT('Intersecting Model'!$H$15^2+'Intersecting Model'!$H$16^2))+'Intersecting Model'!$C$39","v":118.22538461538464},{"$f":"MAXA(3600*G22/('Intersecting Model'!G$31)+'Intersecting Model'!$H$17*'Intersecting Model'!$H$15+MAXA(0,'Intersecting Model'!$C$17*3600*(1/'Intersecting Model'!G$31-1/'Intersecting Model'!$H$31)),'Intersecting Model'!$H$28+'Intersecting Model'!$H$17*SQRT('Intersecting Model'!$H$15^2+'Intersecting Model'!$H$16^2))+'Intersecting Model'!$C$39","v":108.27666666666669},{"$f":"MAXA(3600*H22/('Intersecting Model'!H$31)+'Intersecting Model'!$H$17*'Intersecting Model'!$H$15+MAXA(0,'Intersecting Model'!$C$17*3600*(1/'Intersecting Model'!H$31-1/'Intersecting Model'!$H$31)),'Intersecting Model'!$H$28+'Intersecting Model'!$H$17*SQRT('Intersecting Model'!$H$15^2+'Intersecting Model'!$H$16^2))+'Intersecting Model'!$C$39","v":99.03857142857143},{"$f":"MAXA(3600*I22/('Intersecting Model'!I$31)+'Intersecting Model'!$H$17*'Intersecting Model'!$H$15+MAXA(0,'Intersecting Model'!$C$17*3600*(1/'Intersecting Model'!I$31-1/'Intersecting Model'!$H$31)),'Intersecting Model'!$H$28+'Intersecting Model'!$H$17*SQRT('Intersecting Model'!$H$15^2+'Intersecting Model'!$H$16^2))+'Intersecting Model'!$C$39","v":94.41}]
[null,"Heavy",{"$f":"MAXA(3600*C23/('Intersecting Model'!$C$31)+'Intersecting Model'!$H$17*'Intersecting Model'!$H$15+MAXA(0,'Intersecting Model'!$C$17*3600*(1/'Intersecting Model'!$C$31-1/'Intersecting Model'!$I$31)),'Intersecting Model'!$I$28+'Intersecting Model'!$H$17*SQRT('Intersecting Model'!$H$15^2+'Intersecting Model'!$H$16^2))+'Intersecting Model'!$C$39","v":325.61},{"$f":"MAXA(3600*D23/('Intersecting Model'!$D$31)+'Intersecting Model'!$H$17*'Intersecting Model'!$H$15+MAXA(0,'Intersecting Model'!$C$17*3600*(1/'Intersecting Model'!$D$31-1/'Intersecting Model'!$I$31)),'Intersecting Model'!$I$28+'Intersecting Model'!$H$17*SQRT('Intersecting Model'!$H$15^2+'Intersecting Model'!$H$16^2))+'Intersecting Model'!$C$39","v":279.20999999999998},{"$f":"MAXA(3600*E23/('Intersecting Model'!$E$31)+'Intersecting Model'!$H$17*'Intersecting Model'!$H$15+MAXA(0,'Intersecting Model'!$C$17*3600*(1/'Intersecting Model'!$E$31-1/'Intersecting Model'!$I$31)),'Intersecting Model'!$I$28+'Intersecting Model'!$H$17*SQRT('Intersecting Model'!$H$15^2+'Intersecting Model'!$H$16^2))+'Intersecting Model'!$C$39","v":179.61},{"$f":"MAXA(3600*F23/('Intersecting Model'!$F$31)+'Intersecting Model'!$H$17*'Intersecting Model'!$H$15+MAXA(0,'Intersecting Model'!$C$17*3600*(1/'Intersecting Model'!$F$31-1/'Intersecting Model'!$I$31)),'Intersecting Model'!$I$28+'Intersecting Model'!$H$17*SQRT('Intersecting Model'!$H$15^2+'Intersecting Model'!$H$16^2))+'Intersecting Model'!$C$39","v":155.14846153846153},{"$f":"MAXA(3600*G23/('Intersecting Model'!$G$31)+'Intersecting Model'!$H$17*'Intersecting Model'!$H$15+MAXA(0,'Intersecting Model'!$C$17*3600*(1/'Intersecting Model'!$G$31-1/'Intersecting Model'!$I$31)),'Intersecting Model'!$I$28+'Intersecting Model'!$H$17*SQRT('Intersecting Model'!$H$15^2+'Intersecting Model'!$H$16^2))+'Intersecting Model'!$C$39","v":144.27666666666667},{"$f":"MAXA(3600*H23/('Intersecting Model'!$H$31)+'Intersecting Model'!$H$17*'Intersecting Model'!$H$15+MAXA(0,'Intersecting Model'!$C$17*3600*(1/'Intersecting Model'!$H$31-1/'Intersecting Model'!$I$31)),'Intersecting Model'!$I$28+'Intersecting Model'!$H$17*SQRT('Intersecting Model'!$H$15^2+'Intersecting Model'!$H$16^2))+'Intersecting Model'!$C$39","v":134.18142857142854},{"$f":"MAXA(3600*I23/('Intersecting Model'!$I$31)+'Intersecting Model'!$H$17*'Intersecting Model'!$H$15+MAXA(0,'Intersecting Model'!$C$17*3600*(1/'Intersecting Model'!$I$31-1/'Intersecting Model'!$I$31)),'Intersecting Model'!$I$28+'Intersecting Model'!$H$17*SQRT('Intersecting Model'!$H$15^2+'Intersecting Model'!$H$16^2))+'Intersecting Model'!$C$39","v":94.41}]
[]
[null,"IMC Required Separation for arrivals following an aircraft from each class",null,null,null,"Time in Seconds"]
[null,null,"Small - S","Small - T","Small +","Large-TP","Large-Jet","Large-757","Heavy"]
[null,"Small - S",{"$f":"MAXA(3600*C27/('Intersecting Model'!$C$31)+'Intersecting Model'!$H$17*'Intersecting Model'!$H$15+MAXA(0,'Intersecting Model'!$C$17*3600*(1/'Intersecting Model'!$C$31-1/'Intersecting Model'!$C$31)),'Intersecting Model'!$C$28+'Intersecting Model'!$H$17*SQRT('Intersecting Model'!$H$15^2+'Intersecting Model'!$H$16^2))+'Intersecting Model'!$C$39","v":149.61000000000001},{"$f":"MAXA(3600*D27/('Intersecting Model'!$D$31)+'Intersecting Model'!$H$17*'Intersecting Model'!$H$15+MAXA(0,'Intersecting Model'!$C$17*3600*(1/'Intersecting Model'!$D$31-1/'Intersecting Model'!$C$31)),'Intersecting Model'!$C$28+'Intersecting Model'!$H$17*SQRT('Intersecting Model'!$H$15^2+'Intersecting Model'!$H$16^2))+'Intersecting Model'!$C$39","v":137.61000000000001},{"$f":"MAXA(3600*E27/('Intersecting Model'!$E$31)+'Intersecting Model'!$H$17*'Intersecting Model'!$H$15+MAXA(0,'Intersecting Model'!$C$17*3600*(1/'Intersecting Model'!$E$31-1/'Intersecting Model'!$C$31)),'Intersecting Model'!$C$28+'Intersecting Model'!$H$17*SQRT('Intersecting Model'!$H$15^2+'Intersecting Model'!$H$16^2))+'Intersecting Model'!$C$39","v":119.61},{"$f":"MAXA(3600*F27/('Intersecting Model'!$F$31)+'Intersecting Model'!$H$17*'Intersecting Model'!$H$15+MAXA(0,'Intersecting Model'!$C$17*3600*(1/'Intersecting Model'!$F$31-1/'Intersecting Model'!$C$31)),'Intersecting Model'!$C$28+'Intersecting Model'!$H$17*SQRT('Intersecting Model'!$H$15^2+'Intersecting Model'!$H$16^2))+'Intersecting Model'!$C$39","v":112.68692307692308},{"$f":"MAXA(3600*G27/('Intersecting Model'!$G$31)+'Intersecting Model'!$H$17*'Intersecting Model'!$H$15+MAXA(0,'Intersecting Model'!$C$17*3600*(1/'Intersecting Model'!$G$31-1/'Intersecting Model'!$C$31)),'Intersecting Model'!$C$28+'Intersecting Model'!$H$17*SQRT('Intersecting Model'!$H$15^2+'Intersecting Model'!$H$16^2))+'Intersecting Model'!$C$39","v":109.61},{"$f":"MAXA(3600*H27/('Intersecting Model'!$H$31)+'Intersecting Model'!$H$17*'Intersecting Model'!$H$15+MAXA(0,'Intersecting Model'!$C$17*3600*(1/'Intersecting Model'!$H$31-1/'Intersecting Model'!$C$31)),'Intersecting Model'!$C$28+'Intersecting Model'!$H$17*SQRT('Intersecting Model'!$H$15^2+'Intersecting Model'!$H$16^2))+'Intersecting Model'!$C$39","v":106.75285714285714},{"$f":"MAXA(3600*I27/('Intersecting Model'!$I$31)+'Intersecting Model'!$H$17*'Intersecting Model'!$H$15+MAXA(0,'Intersecting Model'!$C$17*3600*(1/'Intersecting Model'!$I$31-1/'Intersecting Model'!$C$31)),'Intersecting Model'!$C$28+'Intersecting Model'!$H$17*SQRT('Intersecting Model'!$H$15^2+'Intersecting Model'!$H$16^2))+'Intersecting Model'!$C$39","v":101.61}]
[null,"Small - T",{"$f":"MAXA(3600*C28/('Intersecting Model'!$C$31)+'Intersecting Model'!$H$17*'Intersecting Model'!$H$15+MAXA(0,'Intersecting Model'!$C$17*3600*(1/'Intersecting Model'!$C$31-1/'Intersecting Model'!$D$31)),'Intersecting Model'!$D$28+'Intersecting Model'!$H$17*SQRT('Intersecting Model'!$H$15^2+'Intersecting Model'!$H$16^2))+'Intersecting Model'!$C$39","v":177.61},{"$f":"MAXA(3600*D28/('Intersecting Model'!$D$31)+'Intersecting Model'!$H$17*'Intersecting Model'!$H$15+MAXA(0,'Intersecting Model'!$C$17*3600*(1/'Intersecting Model'!$D$31-1/'Intersecting Model'!$D$31)),'Intersecting Model'!$D$28+'Intersecting Model'!$H$17*SQRT('Intersecting Model'!$H$15^2+'Intersecting Model'!$H$16^2))+'Intersecting Model'!$C$39","v":137.61000000000001},{"$f":"MAXA(3600*E28/('Intersecting Model'!$E$31)+'Intersecting Model'!$H$17*'Intersecting Model'!$H$15+MAXA(0,'Intersecting Model'!$C$17*3600*(1/'Intersecting Model'!$E$31-1/'Intersecting Model'!$D$31)),'Intersecting Model'!$D$28+'Intersecting Model'!$H$17*SQRT('Intersecting Model'!$H$15^2+'Intersecting Model'!$H$16^2))+'Intersecting Model'!$C$39","v":119.61},{"$f":"MAXA(3600*F28/('Intersecting Model'!$F$31)+'Intersecting Model'!$H$17*'Intersecting Model'!$H$15+MAXA(0,'Intersecting Model'!$C$17*3600*(1/'Intersecting Model'!$F$31-1/'Intersecting Model'!$D$31)),'Intersecting Model'!$D$28+'Intersecting Model'!$H$17*SQRT('Intersecting Model'!$H$15^2+'Intersecting Model'!$H$16^2))+'Intersecting Model'!$C$39","v":112.68692307692308},{"$f":"MAXA(3600*G28/('Intersecting Model'!$G$31)+'Intersecting Model'!$H$17*'Intersecting Model'!$H$15+MAXA(0,'Intersecting Model'!$C$17*3600*(1/'Intersecting Model'!$G$31-1/'Intersecting Model'!$D$31)),'Intersecting Model'!$D$28+'Intersecting Model'!$H$17*SQRT('Intersecting Model'!$H$15^2+'Intersecting Model'!$H$16^2))+'Intersecting Model'!$C$39","v":109.61},{"$f":"MAXA(3600*H28/('Intersecting Model'!$H$31)+'Intersecting Model'!$H$17*'Intersecting Model'!$H$15+MAXA(0,'Intersecting Model'!$C$17*3600*(1/'Intersecting Model'!$H$31-1/'Intersecting Model'!$D$31)),'Intersecting Model'!$D$28+'Intersecting Model'!$H$17*SQRT('Intersecting Model'!$H$15^2+'Intersecting Model'!$H$16^2))+'Intersecting Model'!$C$39","v":106.75285714285714},{"$f":"MAXA(3600*I28/('Intersecting Model'!$I$31)+'Intersecting Model'!$H$17*'Intersecting Model'!$H$15+MAXA(0,'Intersecting Model'!$C$17*3600*(1/'Intersecting Model'!$I$31-1/'Intersecting Model'!$D$31)),'Intersecting Model'!$D$28+'Intersecting Model'!$H$17*SQRT('Intersecting Model'!$H$15^2+'Intersecting Model'!$H$16^2))+'Intersecting Model'!$C$39","v":101.61}]
[null,"Small +",{"$f":"MAXA(3600*C29/('Intersecting Model'!$C$31)+'Intersecting Model'!$H$17*'Intersecting Model'!$H$15+MAXA(0,'Intersecting Model'!$C$17*3600*(1/'Intersecting Model'!$C$31-1/'Intersecting Model'!$E$31)),'Intersecting Model'!$E$28+'Intersecting Model'!$H$17*SQRT('Intersecting Model'!$H$15^2+'Intersecting Model'!$H$16^2))+'Intersecting Model'!$C$39","v":219.61},{"$f":"MAXA(3600*D29/('Intersecting Model'!$D$31)+'Intersecting Model'!$H$17*'Intersecting Model'!$H$15+MAXA(0,'Intersecting Model'!$C$17*3600*(1/'Intersecting Model'!$D$31-1/'Intersecting Model'!$E$31)),'Intersecting Model'!$E$28+'Intersecting Model'!$H$17*SQRT('Intersecting Model'!$H$15^2+'Intersecting Model'!$H$16^2))+'Intersecting Model'!$C$39","v":179.61},{"$f":"MAXA(3600*E29/('Intersecting Model'!$E$31)+'Intersecting Model'!$H$17*'Intersecting Model'!$H$15+MAXA(0,'Intersecting Model'!$C$17*3600*(1/'Intersecting Model'!$E$31-1/'Intersecting Model'!$E$31)),'Intersecting Model'!$E$28+'Intersecting Model'!$H$17*SQRT('Intersecting Model'!$H$15^2+'Intersecting Model'!$H$16^2))+'Intersecting Model'!$C$39","v":119.61},{"$f":"MAXA(3600*F29/('Intersecting Model'!$F$31)+'Intersecting Model'!$H$17*'Intersecting Model'!$H$15+MAXA(0,'Intersecting Model'!$C$17*3600*(1/'Intersecting Model'!$F$31-1/'Intersecting Model'!$E$31)),'Intersecting Model'!$E$28+'Intersecting Model'!$H$17*SQRT('Intersecting Model'!$H$15^2+'Intersecting Model'!$H$16^2))+'Intersecting Model'!$C$39","v":112.68692307692308},{"$f":"MAXA(3600*G29/('Intersecting Model'!$G$31)+'Intersecting Model'!$H$17*'Intersecting Model'!$H$15+MAXA(0,'Intersecting Model'!$C$17*3600*(1/'Intersecting Model'!$G$31-1/'Intersecting Model'!$E$31)),'Intersecting Model'!$E$28+'Intersecting Model'!$H$17*SQRT('Intersecting Model'!$H$15^2+'Intersecting Model'!$H$16^2))+'Intersecting Model'!$C$39","v":109.61},{"$f":"MAXA(3600*H29/('Intersecting Model'!$H$31)+'Intersecting Model'!$H$17*'Intersecting Model'!$H$15+MAXA(0,'Intersecting Model'!$C$17*3600*(1/'Intersecting Model'!$H$31-1/'Intersecting Model'!$E$31)),'Intersecting Model'!$E$28+'Intersecting Model'!$H$17*SQRT('Intersecting Model'!$H$15^2+'Intersecting Model'!$H$16^2))+'Intersecting Model'!$C$39","v":106.75285714285714},{"$f":"MAXA(3600*I29/('Intersecting Model'!$I$31)+'Intersecting Model'!$H$17*'Intersecting Model'!$H$15+MAXA(0,'Intersecting Model'!$C$17*3600*(1/'Intersecting Model'!$I$31-1/'Intersecting Model'!$E$31)),'Intersecting Model'!$E$28+'Intersecting Model'!$H$17*SQRT('Intersecting Model'!$H$15^2+'Intersecting Model'!$H$16^2))+'Intersecting Model'!$C$39","v":101.61}]
[null,"Large-TP",{"$f":"MAXA(3600*C30/('Intersecting Model'!$C$31)+'Intersecting Model'!$H$17*'Intersecting Model'!$H$15+MAXA(0,'Intersecting Model'!$C$17*3600*(1/'Intersecting Model'!$C$31-1/'Intersecting Model'!$F$31)),'Intersecting Model'!$F$28+'Intersecting Model'!$H$17*SQRT('Intersecting Model'!$H$15^2+'Intersecting Model'!$H$16^2))+'Intersecting Model'!$C$39","v":275.7638461538462},{"$f":"MAXA(3600*D30/('Intersecting Model'!$D$31)+'Intersecting Model'!$H$17*'Intersecting Model'!$H$15+MAXA(0,'Intersecting Model'!$C$17*3600*(1/'Intersecting Model'!$D$31-1/'Intersecting Model'!$F$31)),'Intersecting Model'!$F$28+'Intersecting Model'!$H$17*SQRT('Intersecting Model'!$H$15^2+'Intersecting Model'!$H$16^2))+'Intersecting Model'!$C$39","v":231.76384615384615},{"$f":"MAXA(3600*E30/('Intersecting Model'!$E$31)+'Intersecting Model'!$H$17*'Intersecting Model'!$H$15+MAXA(0,'Intersecting Model'!$C$17*3600*(1/'Intersecting Model'!$E$31-1/'Intersecting Model'!$F$31)),'Intersecting Model'!$F$28+'Intersecting Model'!$H$17*SQRT('Intersecting Model'!$H$15^2+'Intersecting Model'!$H$16^2))+'Intersecting Model'!$C$39","v":165.76384615384615},{"$f":"MAXA(3600*F30/('Intersecting Model'!$F$31)+'Intersecting Model'!$H$17*'Intersecting Model'!$H$15+MAXA(0,'Intersecting Model'!$C$17*3600*(1/'Intersecting Model'!$F$31-1/'Intersecting Model'!$F$31)),'Intersecting Model'!$F$28+'Intersecting Model'!$H$17*SQRT('Intersecting Model'!$H$15^2+'Intersecting Model'!$H$16^2))+'Intersecting Model'!$C$39","v":112.68692307692308},{"$f":"MAXA(3600*G30/('Intersecting Model'!$G$31)+'Intersecting Model'!$H$17*'Intersecting Model'!$H$15+MAXA(0,'Intersecting Model'!$C$17*3600*(1/'Intersecting Model'!$G$31-1/'Intersecting Model'!$F$31)),'Intersecting Model'!$F$28+'Intersecting Model'!$H$17*SQRT('Intersecting Model'!$H$15^2+'Intersecting Model'!$H$16^2))+'Intersecting Model'!$C$39","v":109.61},{"$f":"MAXA(3600*H30/('Intersecting Model'!$H$31)+'Intersecting Model'!$H$17*'Intersecting Model'!$H$15+MAXA(0,'Intersecting Model'!$C$17*3600*(1/'Intersecting Model'!$H$31-1/'Intersecting Model'!$F$31)),'Intersecting Model'!$F$28+'Intersecting Model'!$H$17*SQRT('Intersecting Model'!$H$15^2+'Intersecting Model'!$H$16^2))+'Intersecting Model'!$C$39","v":106.75285714285714},{"$f":"MAXA(3600*I30/('Intersecting Model'!$I$31)+'Intersecting Model'!$H$17*'Intersecting Model'!$H$15+MAXA(0,'Intersecting Model'!$C$17*3600*(1/'Intersecting Model'!$I$31-1/'Intersecting Model'!$F$31)),'Intersecting Model'!$F$28+'Intersecting Model'!$H$17*SQRT('Intersecting Model'!$H$15^2+'Intersecting Model'!$H$16^2))+'Intersecting Model'!$C$39","v":101.61}]
[null,"Large-Jet",{"$f":"MAXA(3600*C31/('Intersecting Model'!$C$31)+'Intersecting Model'!$H$17*'Intersecting Model'!$H$15+MAXA(0,'Intersecting Model'!$C$17*3600*(1/'Intersecting Model'!$C$31-1/'Intersecting Model'!$G$31)),'Intersecting Model'!$G$28+'Intersecting Model'!$H$17*SQRT('Intersecting Model'!$H$15^2+'Intersecting Model'!$H$16^2))+'Intersecting Model'!$C$39","v":282.94333333333338},{"$f":"MAXA(3600*D31/('Intersecting Model'!$D$31)+'Intersecting Model'!$H$17*'Intersecting Model'!$H$15+MAXA(0,'Intersecting Model'!$C$17*3600*(1/'Intersecting Model'!$D$31-1/'Intersecting Model'!$G$31)),'Intersecting Model'!$G$28+'Intersecting Model'!$H$17*SQRT('Intersecting Model'!$H$15^2+'Intersecting Model'!$H$16^2))+'Intersecting Model'!$C$39","v":238.94333333333333},{"$f":"MAXA(3600*E31/('Intersecting Model'!$E$31)+'Intersecting Model'!$H$17*'Intersecting Model'!$H$15+MAXA(0,'Intersecting Model'!$C$17*3600*(1/'Intersecting Model'!$E$31-1/'Intersecting Model'!$G$31)),'Intersecting Model'!$G$28+'Intersecting Model'!$H$17*SQRT('Intersecting Model'!$H$15^2+'Intersecting Model'!$H$16^2))+'Intersecting Model'!$C$39","v":172.94333333333333},{"$f":"MAXA(3600*F31/('Intersecting Model'!$F$31)+'Intersecting Model'!$H$17*'Intersecting Model'!$H$15+MAXA(0,'Intersecting Model'!$C$17*3600*(1/'Intersecting Model'!$F$31-1/'Intersecting Model'!$G$31)),'Intersecting Model'!$G$28+'Intersecting Model'!$H$17*SQRT('Intersecting Model'!$H$15^2+'Intersecting Model'!$H$16^2))+'Intersecting Model'!$C$39","v":119.86641025641026},{"$f":"MAXA(3600*G31/('Intersecting Model'!$G$31)+'Intersecting Model'!$H$17*'Intersecting Model'!$H$15+MAXA(0,'Intersecting Model'!$C$17*3600*(1/'Intersecting Model'!$G$31-1/'Intersecting Model'!$G$31)),'Intersecting Model'!$G$28+'Intersecting Model'!$H$17*SQRT('Intersecting Model'!$H$15^2+'Intersecting Model'!$H$16^2))+'Intersecting Model'!$C$39","v":109.61},{"$f":"MAXA(3600*H31/('Intersecting Model'!$H$31)+'Intersecting Model'!$H$17*'Intersecting Model'!$H$15+MAXA(0,'Intersecting Model'!$C$17*3600*(1/'Intersecting Model'!$H$31-1/'Intersecting Model'!$G$31)),'Intersecting Model'!$G$28+'Intersecting Model'!$H$17*SQRT('Intersecting Model'!$H$15^2+'Intersecting Model'!$H$16^2))+'Intersecting Model'!$C$39","v":106.75285714285714},{"$f":"MAXA(3600*I31/('Intersecting Model'!$I$31)+'Intersecting Model'!$H$17*'Intersecting Model'!$H$15+MAXA(0,'Intersecting Model'!$C$17*3600*(1/'Intersecting Model'!$I$31-1/'Intersecting Model'!$G$31)),'Intersecting Model'!$G$28+'Intersecting Model'!$H$17*SQRT('Intersecting Model'!$H$15^2+'Intersecting Model'!$H$16^2))+'Intersecting Model'!$C$39","v":101.61}]
[null,"Large-757",{"$f":"MAXA(3600*C32/('Intersecting Model'!$C$31)+'Intersecting Model'!$H$17*'Intersecting Model'!$H$15+MAXA(0,'Intersecting Model'!$C$17*3600*(1/'Intersecting Model'!C$31-1/'Intersecting Model'!$H$31)),'Intersecting Model'!$H$28+'Intersecting Model'!$H$17*SQRT('Intersecting Model'!$H$15^2+'Intersecting Model'!$H$16^2))+'Intersecting Model'!$C$39","v":329.61},{"$f":"MAXA(3600*D32/('Intersecting Model'!$D$31)+'Intersecting Model'!$H$17*'Intersecting Model'!$H$15+MAXA(0,'Intersecting Model'!$C$17*3600*(1/'Intersecting Model'!D$31-1/'Intersecting Model'!$H$31)),'Intersecting Model'!$H$28+'Intersecting Model'!$H$17*SQRT('Intersecting Model'!$H$15^2+'Intersecting Model'!$H$16^2))+'Intersecting Model'!$C$39","v":281.61},{"$f":"MAXA(3600*E32/('Intersecting Model'!$E$31)+'Intersecting Model'!$H$17*'Intersecting Model'!$H$15+MAXA(0,'Intersecting Model'!$C$17*3600*(1/'Intersecting Model'!E$31-1/'Intersecting Model'!$H$31)),'Intersecting Model'!$H$28+'Intersecting Model'!$H$17*SQRT('Intersecting Model'!$H$15^2+'Intersecting Model'!$H$16^2))+'Intersecting Model'!$C$39","v":209.61},{"$f":"MAXA(3600*F32/('Intersecting Model'!$F$31)+'Intersecting Model'!$H$17*'Intersecting Model'!$H$15+MAXA(0,'Intersecting Model'!$C$17*3600*(1/'Intersecting Model'!F$31-1/'Intersecting Model'!$H$31)),'Intersecting Model'!$H$28+'Intersecting Model'!$H$17*SQRT('Intersecting Model'!$H$15^2+'Intersecting Model'!$H$16^2))+'Intersecting Model'!$C$39","v":154.22538461538466},{"$f":"MAXA(3600*G32/('Intersecting Model'!$G$31)+'Intersecting Model'!$H$17*'Intersecting Model'!$H$15+MAXA(0,'Intersecting Model'!$C$17*3600*(1/'Intersecting Model'!G$31-1/'Intersecting Model'!$H$31)),'Intersecting Model'!$H$28+'Intersecting Model'!$H$17*SQRT('Intersecting Model'!$H$15^2+'Intersecting Model'!$H$16^2))+'Intersecting Model'!$C$39","v":142.94333333333336},{"$f":"MAXA(3600*H32/('Intersecting Model'!$H$31)+'Intersecting Model'!$H$17*'Intersecting Model'!$H$15+MAXA(0,'Intersecting Model'!$C$17*3600*(1/'Intersecting Model'!H$31-1/'Intersecting Model'!$H$31)),'Intersecting Model'!$H$28+'Intersecting Model'!$H$17*SQRT('Intersecting Model'!$H$15^2+'Intersecting Model'!$H$16^2))+'Intersecting Model'!$C$39","v":132.46714285714285},{"$f":"MAXA(3600*I32/('Intersecting Model'!$I$31)+'Intersecting Model'!$H$17*'Intersecting Model'!$H$15+MAXA(0,'Intersecting Model'!$C$17*3600*(1/'Intersecting Model'!I$31-1/'Intersecting Model'!$H$31)),'Intersecting Model'!$H$28+'Intersecting Model'!$H$17*SQRT('Intersecting Model'!$H$15^2+'Intersecting Model'!$H$16^2))+'Intersecting Model'!$C$39","v":125.61}]
[null,"Heavy",{"$f":"MAXA(3600*C33/('Intersecting Model'!$C$31)+'Intersecting Model'!$H$17*'Intersecting Model'!$H$15+MAXA(0,'Intersecting Model'!$C$17*3600*(1/'Intersecting Model'!$C$31-1/'Intersecting Model'!$I$31)),'Intersecting Model'!$I$28+'Intersecting Model'!$H$17*SQRT('Intersecting Model'!$H$15^2+'Intersecting Model'!$H$16^2))+'Intersecting Model'!$C$39","v":381.61},{"$f":"MAXA(3600*D33/('Intersecting Model'!$D$31)+'Intersecting Model'!$H$17*'Intersecting Model'!$H$15+MAXA(0,'Intersecting Model'!$C$17*3600*(1/'Intersecting Model'!$D$31-1/'Intersecting Model'!$I$31)),'Intersecting Model'!$I$28+'Intersecting Model'!$H$17*SQRT('Intersecting Model'!$H$15^2+'Intersecting Model'!$H$16^2))+'Intersecting Model'!$C$39","v":329.61},{"$f":"MAXA(3600*E33/('Intersecting Model'!$E$31)+'Intersecting Model'!$H$17*'Intersecting Model'!$H$15+MAXA(0,'Intersecting Model'!$C$17*3600*(1/'Intersecting Model'!$E$31-1/'Intersecting Model'!$I$31)),'Intersecting Model'!$I$28+'Intersecting Model'!$H$17*SQRT('Intersecting Model'!$H$15^2+'Intersecting Model'!$H$16^2))+'Intersecting Model'!$C$39","v":221.61},{"$f":"MAXA(3600*F33/('Intersecting Model'!$F$31)+'Intersecting Model'!$H$17*'Intersecting Model'!$H$15+MAXA(0,'Intersecting Model'!$C$17*3600*(1/'Intersecting Model'!$F$31-1/'Intersecting Model'!$I$31)),'Intersecting Model'!$I$28+'Intersecting Model'!$H$17*SQRT('Intersecting Model'!$H$15^2+'Intersecting Model'!$H$16^2))+'Intersecting Model'!$C$39","v":193.91769230769231},{"$f":"MAXA(3600*G33/('Intersecting Model'!$G$31)+'Intersecting Model'!$H$17*'Intersecting Model'!$H$15+MAXA(0,'Intersecting Model'!$C$17*3600*(1/'Intersecting Model'!$G$31-1/'Intersecting Model'!$I$31)),'Intersecting Model'!$I$28+'Intersecting Model'!$H$17*SQRT('Intersecting Model'!$H$15^2+'Intersecting Model'!$H$16^2))+'Intersecting Model'!$C$39","v":181.60999999999999},{"$f":"MAXA(3600*H33/('Intersecting Model'!$H$31)+'Intersecting Model'!$H$17*'Intersecting Model'!$H$15+MAXA(0,'Intersecting Model'!$C$17*3600*(1/'Intersecting Model'!$H$31-1/'Intersecting Model'!$I$31)),'Intersecting Model'!$I$28+'Intersecting Model'!$H$17*SQRT('Intersecting Model'!$H$15^2+'Intersecting Model'!$H$16^2))+'Intersecting Model'!$C$39","v":170.18142857142854},{"$f":"MAXA(3600*I33/('Intersecting Model'!$I$31)+'Intersecting Model'!$H$17*'Intersecting Model'!$H$15+MAXA(0,'Intersecting Model'!$C$17*3600*(1/'Intersecting Model'!$I$31-1/'Intersecting Model'!$I$31)),'Intersecting Model'!$I$28+'Intersecting Model'!$H$17*SQRT('Intersecting Model'!$H$15^2+'Intersecting Model'!$H$16^2))+'Intersecting Model'!$C$39","v":125.61}]
[]
[null,"VMC Average time between Arrivals",null,null,null,"Time in Seconds",null,null,null,null,null,null,"Average Arrival separation"]
[null,null,"Small - S","Small - T","Small +","Large-TP","Large-Jet","Large-757","Heavy",null,null,null,{"$f":"SUM(C78:I84)","v":96.558638648805896},"seconds",{"$f":"3600/M77","v":37.283044276272214}]
[null,"Small - S",{"$f":"C7*C58","v":0},0,0,0,0,0,0]
[null,"Small - T",0,0.98010000000000019,0,2.4667615384615384,4.0138333333333334,0.39233571428571429,0.37605000000000011]
[null,"Small +",0,0,0,0,0,0,0]
[null,"Large-TP",0,5.548915384615384,0,7.4002846153846145,12.041500000000001,1.1770071428571427,1.1431752075879285]
[null,"Large-Jet",0,9.6071666666666662,0,13.410730769230769,20.069166666666668,1.9616785714285712,1.9302920126465477]
[null,"Large-757",0,1.1740500000000003,0,1.7733807692307695,2.7069166666666673,0.24759642857142863,0.23602500000000004]
[null,"Heavy",0,1.3960500000000002,0,2.3272269230769229,3.6069166666666668,0.33545357142857141,0.23602500000000004]
[]
[null,"VMC Average time between Departures",null,null,null,"Time in Seconds",null,null,null,null,null,null,"Average Departure separation"]
[null,null,"Small - S","Small - T","Small +","Large-TP","Large-Jet","Large-757","Heavy",null,null,null,{"$f":"SUM(C88:I94)","v":73.050000000000011},"seconds",{"$f":"3600/M87","v":49.281314168377818}]
[null,"Small - S",{"$f":"C7*C37","v":0},{"$f":"D7*D37","v":0},0,0,0,0,0]
[null,"Small - T",{"$f":"C8*C38","v":0},0.45000000000000007,0,1.65,2.75,0.27500000000000008,0.30000000000000004]
[null,"Small +",0,0,0,0,0,0,0]
[null,"Large-TP",0,2.6999999999999997,0,6.3,10.5,1.05,1.05]
[null,"Large-Jet",0,4.5,0,10.5,17.5,1.75,1.75]
[null,"Large-757",0,0.45000000000000007,0,1.05,1.75,0.17500000000000004,0.17500000000000004]
[null,"Heavy",0,0.65000000000000013,0,1.95,3.25,0.32500000000000007,0.25000000000000006]
[]
[null,"IMC Average time between Arrivals",null,null,null,"Time in Seconds",null,null,null,null,null,null,"Average Arrival separation"]
[null,null,"Small - S","Small - T","Small +","Large-TP","Large-Jet","Large-757","Heavy",null,null,null,{"$f":"SUM(C98:I104)","v":128.25615384615384},"seconds",{"$f":"3600/M97","v":28.06882860621473}]
[null,"Small - S",{"$f":"C7*C68","v":0},0,0,0,0,0,0]
[null,"Small - T",0,1.3761000000000003,0,3.3806076923076924,5.4805000000000001,0.5337642857142858,0.50805000000000011]
[null,"Small +",0,0,0,0,0,0,0]
[null,"Large-TP",0,6.9529153846153839,0,10.141823076923076,16.441499999999998,1.6012928571428571,1.5241499999999999]
[null,"Large-Jet",0,11.947166666666668,0,17.979961538461538,27.4025,2.6688214285714285,2.5402500000000003]
[null,"Large-757",0,1.4080500000000002,0,2.3133807692307697,3.573583333333334,0.33116785714285718,0.31402500000000005]
[null,"Heavy",0,1.6480500000000005,0,2.9087653846153847,4.5402499999999995,0.42545357142857143,0.31402500000000005]
[]
[null,"IMC Average time between Departures",null,null,null,"Time in Seconds",null,null,null,null,null,null,"Average Departure separation"]
[null,null,"Small - S","Small - T","Small +","Large-TP","Large-Jet","Large-757","Heavy",null,null,null,{"$f":"SUM(C108:I114)","v":73.300000000000011},"seconds",{"$f":"3600/M107","v":49.113233287858108}]
[null,"Small - S",{"$f":"C7*C47","v":0},{"$f":"D7*D47","v":0},0,0,0,0,0]
[null,"Small - T",{"$f":"C8*C48","v":0},0.70000000000000018,0,1.65,2.75,0.27500000000000008,0.30000000000000004]
[null,"Small +",0,0,0,0,0,0,0]
[null,"Large-TP",0,2.6999999999999997,0,6.3,10.5,1.05,1.05]
[null,"Large-Jet",0,4.5,0,10.5,17.5,1.75,1.75]
[null,"Large-757",0,0.45000000000000007,0,1.05,1.75,0.17500000000000004,0.17500000000000004]
[null,"Heavy",0,0.65000000000000013,0,1.95,3.25,0.32500000000000007,0.25000000000000006]
[]
[null,"VMC Average Time Required for Departure between Arrivals",null,null,null,"Time in Seconds"]
[null,null,"Small - S","Small - T","Small +","Large-TP","Large-Jet","Large-757","Heavy"]
[null,"Small - S",{"$f":"'Intersecting Model'!$C$15*3600/'Intersecting Model'!C$31","v":80},{"$f":"'Intersecting Model'!$C$15*3600/'Intersecting Model'!D$31","v":72},{"$f":"'Intersecting Model'!$C$15*3600/'Intersecting Model'!E$31","v":60},{"$f":"'Intersecting Model'!$C$15*3600/'Intersecting Model'!F$31","v":55.384615384615387},{"$f":"'Intersecting Model'!$C$15*3600/'Intersecting Model'!G$31","v":53.333333333333336},{"$f":"'Intersecting Model'!$C$15*3600/'Intersecting Model'!H$31","v":51.428571428571431},{"$f":"'Intersecting Model'!$C$15*3600/'Intersecting Model'!I$31","v":48}]
[null,"Small - T",{"$f":"'Intersecting Model'!$C$15*3600/'Intersecting Model'!C$31","v":80},{"$f":"'Intersecting Model'!$C$15*3600/'Intersecting Model'!D$31","v":72},{"$f":"'Intersecting Model'!$C$15*3600/'Intersecting Model'!E$31","v":60},{"$f":"'Intersecting Model'!$C$15*3600/'Intersecting Model'!F$31","v":55.384615384615387},{"$f":"'Intersecting Model'!$C$15*3600/'Intersecting Model'!G$31","v":53.333333333333336},{"$f":"'Intersecting Model'!$C$15*3600/'Intersecting Model'!H$31","v":51.428571428571431},{"$f":"'Intersecting Model'!$C$15*3600/'Intersecting Model'!I$31","v":48}]
[null,"Small +",{"$f":"'Intersecting Model'!$C$15*3600/'Intersecting Model'!C$31","v":80},{"$f":"'Intersecting Model'!$C$15*3600/'Intersecting Model'!D$31","v":72},{"$f":"'Intersecting Model'!$C$15*3600/'Intersecting Model'!E$31","v":60},{"$f":"'Intersecting Model'!$C$15*3600/'Intersecting Model'!F$31","v":55.384615384615387},{"$f":"'Intersecting Model'!$C$15*3600/'Intersecting Model'!G$31","v":53.333333333333336},{"$f":"'Intersecting Model'!$C$15*3600/'Intersecting Model'!H$31","v":51.428571428571431},{"$f":"'Intersecting Model'!$C$15*3600/'Intersecting Model'!I$31","v":48}]
[null,"Large-TP",{"$f":"'Intersecting Model'!$C$15*3600/'Intersecting Model'!C$31","v":80},{"$f":"'Intersecting Model'!$C$15*3600/'Intersecting Model'!D$31","v":72},{"$f":"'Intersecting Model'!$C$15*3600/'Intersecting Model'!E$31","v":60},{"$f":"'Intersecting Model'!$C$15*3600/'Intersecting Model'!F$31","v":55.384615384615387},{"$f":"'Intersecting Model'!$C$15*3600/'Intersecting Model'!G$31","v":53.333333333333336},{"$f":"'Intersecting Model'!$C$15*3600/'Intersecting Model'!H$31","v":51.428571428571431},{"$f":"'Intersecting Model'!$C$15*3600/'Intersecting Model'!I$31","v":48}]
[null,"Large-Jet",{"$f":"'Intersecting Model'!$C$15*3600/'Intersecting Model'!C$31","v":80},{"$f":"'Intersecting Model'!$C$15*3600/'Intersecting Model'!D$31","v":72},{"$f":"'Intersecting Model'!$C$15*3600/'Intersecting Model'!E$31","v":60},{"$f":"'Intersecting Model'!$C$15*3600/'Intersecting Model'!F$31","v":55.384615384615387},{"$f":"'Intersecting Model'!$C$15*3600/'Intersecting Model'!G$31","v":53.333333333333336},{"$f":"'Intersecting Model'!$C$15*3600/'Intersecting Model'!H$31","v":51.428571428571431},{"$f":"'Intersecting Model'!$C$15*3600/'Intersecting Model'!I$31","v":48}]
[null,"Large-757",{"$f":"'Intersecting Model'!$C$15*3600/'Intersecting Model'!C$31","v":80},{"$f":"'Intersecting Model'!$C$15*3600/'Intersecting Model'!D$31","v":72},{"$f":"'Intersecting Model'!$C$15*3600/'Intersecting Model'!E$31","v":60},{"$f":"'Intersecting Model'!$C$15*3600/'Intersecting Model'!F$31","v":55.384615384615387},{"$f":"'Intersecting Model'!$C$15*3600/'Intersecting Model'!G$31","v":53.333333333333336},{"$f":"'Intersecting Model'!$C$15*3600/'Intersecting Model'!H$31","v":51.428571428571431},{"$f":"'Intersecting Model'!$C$15*3600/'Intersecting Model'!I$31","v":48}]
[null,"Heavy",{"$f":"'Intersecting Model'!$C$15*3600/'Intersecting Model'!C$31","v":80},{"$f":"'Intersecting Model'!$C$15*3600/'Intersecting Model'!D$31","v":72},{"$f":"'Intersecting Model'!$C$15*3600/'Intersecting Model'!E$31","v":60},{"$f":"'Intersecting Model'!$C$15*3600/'Intersecting Model'!F$31","v":55.384615384615387},{"$f":"'Intersecting Model'!$C$15*3600/'Intersecting Model'!G$31","v":53.333333333333336},{"$f":"'Intersecting Model'!$C$15*3600/'Intersecting Model'!H$31","v":51.428571428571431},{"$f":"'Intersecting Model'!$C$15*3600/'Intersecting Model'!I$31","v":48}]
[]
[null,"IMC Average Time Required for Departure between Arrivals",null,null,null,"Time in Seconds"]
[null,null,"Small - S","Small - T","Small +","Large-TP","Large-Jet","Large-757","Heavy"]
[null,"Small - S",{"$f":"'Intersecting Model'!$C$16*3600/'Intersecting Model'!C$31","v":80},{"$f":"'Intersecting Model'!$C$16*3600/'Intersecting Model'!D$31","v":72},{"$f":"'Intersecting Model'!$C$16*3600/'Intersecting Model'!E$31","v":60},{"$f":"'Intersecting Model'!$C$16*3600/'Intersecting Model'!F$31","v":55.384615384615387},{"$f":"'Intersecting Model'!$C$16*3600/'Intersecting Model'!G$31","v":53.333333333333336},{"$f":"'Intersecting Model'!$C$16*3600/'Intersecting Model'!H$31","v":51.428571428571431},{"$f":"'Intersecting Model'!$C$16*3600/'Intersecting Model'!I$31","v":48}]
[null,"Small - T",{"$f":"'Intersecting Model'!$C$16*3600/'Intersecting Model'!C$31","v":80},{"$f":"'Intersecting Model'!$C$16*3600/'Intersecting Model'!D$31","v":72},{"$f":"'Intersecting Model'!$C$16*3600/'Intersecting Model'!E$31","v":60},{"$f":"'Intersecting Model'!$C$16*3600/'Intersecting Model'!F$31","v":55.384615384615387},{"$f":"'Intersecting Model'!$C$16*3600/'Intersecting Model'!G$31","v":53.333333333333336},{"$f":"'Intersecting Model'!$C$16*3600/'Intersecting Model'!H$31","v":51.428571428571431},{"$f":"'Intersecting Model'!$C$16*3600/'Intersecting Model'!I$31","v":48}]
[null,"Small +",{"$f":"'Intersecting Model'!$C$16*3600/'Intersecting Model'!C$31","v":80},{"$f":"'Intersecting Model'!$C$16*3600/'Intersecting Model'!D$31","v":72},{"$f":"'Intersecting Model'!$C$16*3600/'Intersecting Model'!E$31","v":60},{"$f":"'Intersecting Model'!$C$16*3600/'Intersecting Model'!F$31","v":55.384615384615387},{"$f":"'Intersecting Model'!$C$16*3600/'Intersecting Model'!G$31","v":53.333333333333336},{"$f":"'Intersecting Model'!$C$16*3600/'Intersecting Model'!H$31","v":51.428571428571431},{"$f":"'Intersecting Model'!$C$16*3600/'Intersecting Model'!I$31","v":48}]
[null,"Large-TP",{"$f":"'Intersecting Model'!$C$16*3600/'Intersecting Model'!C$31","v":80},{"$f":"'Intersecting Model'!$C$16*3600/'Intersecting Model'!D$31","v":72},{"$f":"'Intersecting Model'!$C$16*3600/'Intersecting Model'!E$31","v":60},{"$f":"'Intersecting Model'!$C$16*3600/'Intersecting Model'!F$31","v":55.384615384615387},{"$f":"'Intersecting Model'!$C$16*3600/'Intersecting Model'!G$31","v":53.333333333333336},{"$f":"'Intersecting Model'!$C$16*3600/'Intersecting Model'!H$31","v":51.428571428571431},{"$f":"'Intersecting Model'!$C$16*3600/'Intersecting Model'!I$31","v":48}]
[null,"Large-Jet",{"$f":"'Intersecting Model'!$C$16*3600/'Intersecting Model'!C$31","v":80},{"$f":"'Intersecting Model'!$C$16*3600/'Intersecting Model'!D$31","v":72},{"$f":"'Intersecting Model'!$C$16*3600/'Intersecting Model'!E$31","v":60},{"$f":"'Intersecting Model'!$C$16*3600/'Intersecting Model'!F$31","v":55.384615384615387},{"$f":"'Intersecting Model'!$C$16*3600/'Intersecting Model'!G$31","v":53.333333333333336},{"$f":"'Intersecting Model'!$C$16*3600/'Intersecting Model'!H$31","v":51.428571428571431},{"$f":"'Intersecting Model'!$C$16*3600/'Intersecting Model'!I$31","v":48}]
[null,"Large-757",{"$f":"'Intersecting Model'!$C$16*3600/'Intersecting Model'!C$31","v":80},{"$f":"'Intersecting Model'!$C$16*3600/'Intersecting Model'!D$31","v":72},{"$f":"'Intersecting Model'!$C$16*3600/'Intersecting Model'!E$31","v":60},{"$f":"'Intersecting Model'!$C$16*3600/'Intersecting Model'!F$31","v":55.384615384615387},{"$f":"'Intersecting Model'!$C$16*3600/'Intersecting Model'!G$31","v":53.333333333333336},{"$f":"'Intersecting Model'!$C$16*3600/'Intersecting Model'!H$31","v":51.428571428571431},{"$f":"'Intersecting Model'!$C$16*3600/'Intersecting Model'!I$31","v":48}]
[null,"Heavy",{"$f":"'Intersecting Model'!$C$16*3600/'Intersecting Model'!C$31","v":80},{"$f":"'Intersecting Model'!$C$16*3600/'Intersecting Model'!D$31","v":72},{"$f":"'Intersecting Model'!$C$16*3600/'Intersecting Model'!E$31","v":60},{"$f":"'Intersecting Model'!$C$16*3600/'Intersecting Model'!F$31","v":55.384615384615387},{"$f":"'Intersecting Model'!$C$16*3600/'Intersecting Model'!G$31","v":53.333333333333336},{"$f":"'Intersecting Model'!$C$16*3600/'Intersecting Model'!H$31","v":51.428571428571431},{"$f":"'Intersecting Model'!$C$16*3600/'Intersecting Model'!I$31","v":48},null,null,null,null,"Departures between Arrivals",null,"VMC"]
["Departures on Dependent \"opening\" Runway",null,null,null,null,null,null,null,null,null,null,null,null,{"$f":"SUMPRODUCT(N136:N142,C7:C13)+SUMPRODUCT(O136:O142,D7:D13)+SUMPRODUCT(P136:P142,E7:E13)+SUMPRODUCT(Q136:Q142,F7:F13)+SUMPRODUCT(R136:R142,G7:G13)+SUMPRODUCT(T136:T142,I7:I13)+SUMPRODUCT(S136:S142,H7:H13)","v":1.1425000000000001},{"$f":"N135*3600/M77","v":42.595878085641012}]
[null,"VMC Average Required for Departure between Arrivals",null,null,null,"Time in Seconds",null,null,null,null,null,null,null,{"$f":"IF(C138>=0,TRUNC(C138/$M$87,0)+1,0)","v":1},{"$f":"IF(D138>=0,TRUNC(D138/$M$87,0)+1,0)","v":1},1,1,1,1,1]
[null,null,"Small - S","Small - T","Small +","Large-TP","Large-Jet","Large-757","Heavy",null,null,null,null,1,1,1,1,1,1,1]
[null,"Small - S",{"$f":"C58-C118","v":25.61},{"$f":"D58-D118","v":26.010000000000005},26.61,26.840769230769226,26.943333333333335,27.038571428571416,27.210000000000008,null,null,null,null,2,1,1,1,1,1,1]
[null,"Small - T",{"$f":"C59-C119","v":53.610000000000014},26.010000000000005,26.61,26.840769230769226,26.943333333333335,27.038571428571416,27.210000000000008,null,null,null,null,2,2,1,1,1,1,1]
[null,"Small +",95.610000000000014,68.010000000000019,26.61,26.840769230769226,26.943333333333335,27.038571428571416,27.210000000000008,null,null,null,null,3,2,2,1,1,1,1]
[null,"Large-TP",143.76384615384617,112.96384615384613,66.763846153846146,26.840769230769226,26.943333333333335,27.038571428571416,28.211680505861906,null,null,null,null,{"$f":"IF(C143>=0,TRUNC(C143/$M$87,0)+1,0)","v":3},3,2,1,1,1,1]
[null,"Large-Jet",150.94333333333336,120.14333333333332,73.943333333333328,34.020256410256408,26.943333333333335,27.038571428571416,29.211680505861906,null,null,null,null,{"$f":"IF(C144>=0,TRUNC(C144/$M$87,0)+1,0)","v":4},3,2,2,2,2,1]
[null,"Large-757",197.61,162.81,110.61000000000001,62.840769230769254,54.943333333333349,47.61,46.41]
[null,"Heavy",245.61,207.20999999999998,119.61000000000001,99.763846153846146,90.943333333333328,82.75285714285711,46.41]
[null,null,null,null,null,null,null,null,null,null,null,null,null,"Departures between Arrivals",null,"IMC"]
[null,"IMC Average Required for Departure between Arrivals",null,null,null,"Time in Seconds",null,null,null,null,null,null,null,{"$f":"SUMPRODUCT(N147:N153,C7:C13)+SUMPRODUCT(O147:O153,D7:D13)+SUMPRODUCT(P147:P153,E7:E13)+SUMPRODUCT(Q147:Q153,F7:F13)+SUMPRODUCT(R147:R153,G7:G13)+SUMPRODUCT(T147:T153,I7:I13)","v":1.24},{"$f":"N146*3600/M97","v":34.805347471706263}]
[null,null,"Small - S","Small - T","Small +","Large-TP","Large-Jet","Large-757","Heavy",null,null,null,null,{"$f":"IF(C148>=0,TRUNC(C148/$M$107,0)+1,0)","v":1},1,1,1,1,1,1]
[null,"Small - S",{"$f":"C68-C118","v":69.610000000000014},{"$f":"D68-D118","v":65.610000000000014},59.61,57.302307692307693,56.276666666666664,55.324285714285708,53.61,null,null,null,null,{"$f":"IF(C152>=0,TRUNC(C152/$M$107,0)+1,0)","v":3},3,2,1,1,1,1]
[null,"Small - T",{"$f":"C69-C119","v":97.610000000000014},65.610000000000014,59.61,57.302307692307693,56.276666666666664,55.324285714285708,53.61,null,null,null,null,{"$f":"IF(C150>=0,TRUNC(C150/$M$107,0)+1,0)","v":2},2,1,1,1,1,1]
[null,"Small +",139.61000000000001,107.61000000000001,59.61,57.302307692307693,56.276666666666664,55.324285714285708,53.61,null,null,null,null,3,3,2,1,1,1,1]
[null,"Large-TP",195.7638461538462,159.76384615384615,105.76384615384615,57.302307692307693,56.276666666666664,55.324285714285708,53.61,null,null,null,null,3,3,2,1,1,1,1]
[null,"Large-Jet",202.94333333333338,166.94333333333333,112.94333333333333,64.481794871794875,56.276666666666664,55.324285714285708,53.61,null,null,null,null,{"$f":"IF(C153>=0,TRUNC(C153/$M$107,0)+1,0)","v":4},3,3,2,2,2,2]
[null,"Large-757",249.61,209.61,149.61000000000001,98.840769230769268,89.610000000000014,81.038571428571416,77.61,null,null,null,null,{"$f":"IF(C154>=0,TRUNC(C154/$M$107,0)+1,0)","v":5},4,3,2,2,2,2]
[null,"Heavy",301.61,257.61,161.61000000000001,138.53307692307692,128.27666666666664,118.75285714285711,77.61]
[null,"previous formula for cell C168, same type as VMC",{"$f":"C148+'Intersecting Work Tab (4)'!C$2-'Intersecting Model'!$C$16*3600/'Intersecting Model'!C$31","v":-2.4903570638606993}]

{"sheet":"Default Values3","index":19,"n_rows":68,"n_cols":5,"rows_kept":68,"cut":false,"hidden":true,"merged":[]}
["SAVE!!!","These default values and cell links are used when the Reset Inputs Button on the model is chosen."]
[]
[null,"Default Variable Description",null,"Value","Cell Location for RESET BUTTON"]
["v1","VMC-Arrival/Departure Separation",null,2,{"$f":"CELL(\"address\",'Intersecting Model'!C15)","v":"'[Planilla-Runway capacity (2).xlsm]Intersecting Model'!$C$15"}]
["v2","IMC-Arrival/Departure Separation",null,2,{"$f":"CELL(\"address\",'Intersecting Model'!C16)","v":"'[Planilla-Runway capacity (2).xlsm]Intersecting Model'!$C$16"}]
["v3","Length of Common Approach",null,7,{"$f":"CELL(\"address\",'Intersecting Model'!C17)","v":"'[Planilla-Runway capacity (2).xlsm]Intersecting Model'!$C$17"}]
["v4","Arrival - Arrival Std. Dev.",null,18,{"$f":"CELL(\"address\",'Intersecting Model'!H15)","v":"'[Planilla-Runway capacity (2).xlsm]Intersecting Model'!$H$15"}]
["v5","Departure ROT Std. Dev.",null,6,{"$f":"CELL(\"address\",'Intersecting Model'!H16)","v":"'[Planilla-Runway capacity (2).xlsm]Intersecting Model'!$H$16"}]
["v6","Z-Value, 95% Confidence Level (5% miss)",null,1.645,{"$f":"CELL(\"address\",'Intersecting Model'!H17)","v":"'[Planilla-Runway capacity (2).xlsm]Intersecting Model'!$H$17"}]
["v7","AROT, Small-S",null,32,{"$f":"CELL(\"address\",'Intersecting Model'!C28)","v":"'[Planilla-Runway capacity (2).xlsm]Intersecting Model'!$C$28"}]
["v8","AROT, Small-T",null,40,{"$f":"CELL(\"address\",'Intersecting Model'!D28)","v":"'[Planilla-Runway capacity (2).xlsm]Intersecting Model'!$D$28"}]
["v9","AROT, Small+",null,42,{"$f":"CELL(\"address\",'Intersecting Model'!E28)","v":"'[Planilla-Runway capacity (2).xlsm]Intersecting Model'!$E$28"}]
["v10","AROT, Large-TP",null,45,{"$f":"CELL(\"address\",'Intersecting Model'!F28)","v":"'[Planilla-Runway capacity (2).xlsm]Intersecting Model'!$F$28"}]
["v11","AROT, Large-Jet",null,46,{"$f":"CELL(\"address\",'Intersecting Model'!G28)","v":"'[Planilla-Runway capacity (2).xlsm]Intersecting Model'!$G$28"}]
["v12","AROT, Large-757",null,51,{"$f":"CELL(\"address\",'Intersecting Model'!H28)","v":"'[Planilla-Runway capacity (2).xlsm]Intersecting Model'!$H$28"}]
["v13","AROT, Heavy",null,55,{"$f":"CELL(\"address\",'Intersecting Model'!I28)","v":"'[Planilla-Runway capacity (2).xlsm]Intersecting Model'!$I$28"}]
["v14","Avg. Approach Speed, Small-S",null,90,{"$f":"CELL(\"address\",'Intersecting Model'!C31)","v":"'[Planilla-Runway capacity (2).xlsm]Intersecting Model'!$C$31"}]
["v15","Avg. Approach Speed, Small-T",null,100,{"$f":"CELL(\"address\",'Intersecting Model'!D31)","v":"'[Planilla-Runway capacity (2).xlsm]Intersecting Model'!$D$31"}]
["v16","Avg. Approach Speed, Small+",null,120,{"$f":"CELL(\"address\",'Intersecting Model'!E31)","v":"'[Planilla-Runway capacity (2).xlsm]Intersecting Model'!$E$31"}]
["v17","Avg. Approach Speed, Large-TP",null,130,{"$f":"CELL(\"address\",'Intersecting Model'!F31)","v":"'[Planilla-Runway capacity (2).xlsm]Intersecting Model'!$F$31"}]
["v18","Avg. Approach Speed, Large-Jet",null,135,{"$f":"CELL(\"address\",'Intersecting Model'!G31)","v":"'[Planilla-Runway capacity (2).xlsm]Intersecting Model'!$G$31"}]
["v19","Avg. Approach Speed, Large-757",null,140,{"$f":"CELL(\"address\",'Intersecting Model'!H31)","v":"'[Planilla-Runway capacity (2).xlsm]Intersecting Model'!$H$31"}]
["v20","Avg. Approach Speed, Heavy",null,150,{"$f":"CELL(\"address\",'Intersecting Model'!I31)","v":"'[Planilla-Runway capacity (2).xlsm]Intersecting Model'!$I$31"}]
["v21","Gap Spacing Buffer (sec)",null,0,{"$f":"CELL(\"address\",'Intersecting Model'!C39)","v":"'[Planilla-Runway capacity (2).xlsm]Intersecting Model'!$C$39"}]
["v22","Departure Hold Buffer (sec)",null,10,{"$f":"CELL(\"address\",'Intersecting Model'!C40)","v":"'[Planilla-Runway capacity (2).xlsm]Intersecting Model'!$C$40"}]
["v23","Gap Spacing Buffer (nm)",null,0,{"$f":"CELL(\"address\",'Intersecting Model'!H39)","v":"'[Planilla-Runway capacity (2).xlsm]Intersecting Model'!$H$39"}]
[null,"Trailing Aircraft","Leading Aircraft","VMC"]
["v24","Small-S --- Heavy","Small-S, Small-T",1.9,{"$f":"CELL(\"address\",'Intersecting Model'!D44)","v":"'[Planilla-Runway capacity (2).xlsm]Intersecting Model'!$D$44"}]
["v25","Small-S --- Small+","Small +",1.9,{"$f":"CELL(\"address\",'Intersecting Model'!D45)","v":"'[Planilla-Runway capacity (2).xlsm]Intersecting Model'!$D$45"}]
["v26","Large --- Heavy","Small +",1.9,{"$f":"CELL(\"address\",'Intersecting Model'!D46)","v":"'[Planilla-Runway capacity (2).xlsm]Intersecting Model'!$D$46"}]
["v27","Small-S --- Small+","Large-TP, Jet",2.7,{"$f":"CELL(\"address\",'Intersecting Model'!D47)","v":"'[Planilla-Runway capacity (2).xlsm]Intersecting Model'!$D$47"}]
["v28","Large --- Heavy","Large-TP, Jet",1.9,{"$f":"CELL(\"address\",'Intersecting Model'!D48)","v":"'[Planilla-Runway capacity (2).xlsm]Intersecting Model'!$D$48"}]
["v29","Small-S --- Small+","Large-757",3.7,{"$f":"CELL(\"address\",'Intersecting Model'!D49)","v":"'[Planilla-Runway capacity (2).xlsm]Intersecting Model'!$D$49"}]
["v30","Large --- Heavy","Large-757",2.7,{"$f":"CELL(\"address\",'Intersecting Model'!D50)","v":"'[Planilla-Runway capacity (2).xlsm]Intersecting Model'!$D$50"}]
["v31","Small-S --- Small-T","Heavy",4.5999999999999996,{"$f":"CELL(\"address\",'Intersecting Model'!D51)","v":"'[Planilla-Runway capacity (2).xlsm]Intersecting Model'!$D$51"}]
["v32","Small + --- 757","Heavy",3.6,{"$f":"CELL(\"address\",'Intersecting Model'!D52)","v":"'[Planilla-Runway capacity (2).xlsm]Intersecting Model'!$D$52"}]
["v33","Heavy","Heavy",2.7,{"$f":"CELL(\"address\",'Intersecting Model'!D53)","v":"'[Planilla-Runway capacity (2).xlsm]Intersecting Model'!$D$53"}]
[null,"Trailing Aircraft","Leading Aircraft","IMC"]
["v34","Small-S --- Heavy","Small-S, Small-T",3,{"$f":"CELL(\"address\",'Intersecting Model'!E44)","v":"'[Planilla-Runway capacity (2).xlsm]Intersecting Model'!$E$44"}]
["v35","Small-S --- Small+","Small +",3,{"$f":"CELL(\"address\",'Intersecting Model'!E45)","v":"'[Planilla-Runway capacity (2).xlsm]Intersecting Model'!$E$45"}]
["v36","Large --- Heavy","Small +",3,{"$f":"CELL(\"address\",'Intersecting Model'!E46)","v":"'[Planilla-Runway capacity (2).xlsm]Intersecting Model'!$E$46"}]
["v37","Small-S --- Small+","Large-TP, Jet",4,{"$f":"CELL(\"address\",'Intersecting Model'!E47)","v":"'[Planilla-Runway capacity (2).xlsm]Intersecting Model'!$E$47"}]
["v38","Large --- Heavy","Large-TP, Jet",3,{"$f":"CELL(\"address\",'Intersecting Model'!E48)","v":"'[Planilla-Runway capacity (2).xlsm]Intersecting Model'!$E$48"}]
["v39","Small-S --- Small+","Large-757",5,{"$f":"CELL(\"address\",'Intersecting Model'!E49)","v":"'[Planilla-Runway capacity (2).xlsm]Intersecting Model'!$E$49"}]
["v40","Large --- Heavy","Large-757",4,{"$f":"CELL(\"address\",'Intersecting Model'!E50)","v":"'[Planilla-Runway capacity (2).xlsm]Intersecting Model'!$E$50"}]
["v41","Small-S --- Small-T","Heavy",6,{"$f":"CELL(\"address\",'Intersecting Model'!E51)","v":"'[Planilla-Runway capacity (2).xlsm]Intersecting Model'!$E$51"}]
["v42","Small + --- 757","Heavy",5,{"$f":"CELL(\"address\",'Intersecting Model'!E52)","v":"'[Planilla-Runway capacity (2).xlsm]Intersecting Model'!$E$52"}]
["v43","Heavy","Heavy",4,{"$f":"CELL(\"address\",'Intersecting Model'!E53)","v":"'[Planilla-Runway capacity (2).xlsm]Intersecting Model'!$E$53"}]
[null,"Trailing Aircraft","Leading Aircraft","VMC"]
["v44","Small-S --- Small +","Small-S- Small +",35,{"$f":"CELL(\"address\",'Intersecting Model'!D57)","v":"'[Planilla-Runway capacity (2).xlsm]Intersecting Model'!$D$57"}]
["v45","Large -TP --- Large 757","Small-S- Small +",45,{"$f":"CELL(\"address\",'Intersecting Model'!D58)","v":"'[Planilla-Runway capacity (2).xlsm]Intersecting Model'!$D$58"}]
["v46","Heavy","Small-S- Small +",50,{"$f":"CELL(\"address\",'Intersecting Model'!D59)","v":"'[Planilla-Runway capacity (2).xlsm]Intersecting Model'!$D$59"}]
["v47","Small-S --- Small+","Large TP, Large Jet",80,{"$f":"CELL(\"address\",'Intersecting Model'!D60)","v":"'[Planilla-Runway capacity (2).xlsm]Intersecting Model'!$D$60"}]
["v48","Large --- Heavy","Large TP, Large Jet",60,{"$f":"CELL(\"address\",'Intersecting Model'!D61)","v":"'[Planilla-Runway capacity (2).xlsm]Intersecting Model'!$D$61"}]
["v49","Small-S --- Large Jet","Large 757, Heavy",120,{"$f":"CELL(\"address\",'Intersecting Model'!D62)","v":"'[Planilla-Runway capacity (2).xlsm]Intersecting Model'!$D$62"}]
["v50","Large 757, Heavy","Large 757, Heavy",90,{"$f":"CELL(\"address\",'Intersecting Model'!D63)","v":"'[Planilla-Runway capacity (2).xlsm]Intersecting Model'!$D$63"}]
[null,"Trailing Aircraft","Leading Aircraft","IMC"]
["v51","Small-S --- Small +","Small-S- Small +",60,{"$f":"CELL(\"address\",'Intersecting Model'!E57)","v":"'[Planilla-Runway capacity (2).xlsm]Intersecting Model'!$E$57"}]
["v52","Large -TP --- Large 757","Small-S- Small +",60,{"$f":"CELL(\"address\",'Intersecting Model'!E58)","v":"'[Planilla-Runway capacity (2).xlsm]Intersecting Model'!$E$58"}]
["v53","Heavy","Small-S- Small +",60,{"$f":"CELL(\"address\",'Intersecting Model'!E59)","v":"'[Planilla-Runway capacity (2).xlsm]Intersecting Model'!$E$59"}]
["v54","Small-S --- Small+","Large TP, Large Jet",80,{"$f":"CELL(\"address\",'Intersecting Model'!E60)","v":"'[Planilla-Runway capacity (2).xlsm]Intersecting Model'!$E$60"}]
["v55","Large --- Heavy","Large TP, Large Jet",60,{"$f":"CELL(\"address\",'Intersecting Model'!E61)","v":"'[Planilla-Runway capacity (2).xlsm]Intersecting Model'!$E$61"}]
["v56","Small-S --- Large Jet","Large 757, Heavy",120,{"$f":"CELL(\"address\",'Intersecting Model'!E62)","v":"'[Planilla-Runway capacity (2).xlsm]Intersecting Model'!$E$62"}]
["v57","Large 757, Heavy","Large 757, Heavy",90,{"$f":"CELL(\"address\",'Intersecting Model'!E63)","v":"'[Planilla-Runway capacity (2).xlsm]Intersecting Model'!$E$63"}]
[]
["v58","% Touch and Go",null,0,{"$f":"CELL(\"address\",'Intersecting Model'!D18)","v":"'[Planilla-Runway capacity (2).xlsm]Intersecting Model'!$D$18"}]
["v59","Arrivals Decceleration Rate (avg.)","ft/sec/sec",5.3,{"$f":"CELL(\"address\",'Intersecting Model'!H12)","v":"'[Planilla-Runway capacity (2).xlsm]Intersecting Model'!$H$12"}]
["v60","Departures Acceleration Rate (avg.)","ft/sec/sec",8,{"$f":"CELL(\"address\",'Intersecting Model'!H13)","v":"'[Planilla-Runway capacity (2).xlsm]Intersecting Model'!$H$13"}]

{"sheet":"Fleet Mix","index":20,"n_rows":58,"n_cols":4,"rows_kept":58,"cut":false,"hidden":false,"merged":[]}
[]
[null,"Aircraft Class Designations         ",null,"Sample Aircraft"]
[null,"Category","Small-S","BE36 - Beech Bonanza 36"]
[null,"Description","Small - Single Engine","C172 - Cessna Skyhawk 172/Cutlass"]
[null,"Weight","< 12,500 lbs","C210 - Cessna 210 Centurion"]
[null,null,null,"PA28 - Piper Cherokee"]
[null,null,null,"PA38 - Piper Tomahawk PA38"]
[null,null,null,"PA46 - Piper Malibu"]
[null,null,null,"PC12 - Pilatus PC-12"]
[null,null,null,"TBM7 - Socata TBM-7"]
[null,null,null,"SR20 - Cirrus SR-20"]
[null,"Category","Small-T","BE19 - Beech 19 Sport"]
[null,"Description","Small - Twin Engine","BE20 - Beech 200 Super King"]
[null,"Weight","< 12,500 lbs","BE30 - Raytheon 300 Super King Air"]
[null,null,null,"BE55 - Beech Baron 55"]
[null,null,null,"BE58 - Beech 58"]
[null,null,null,"BE9L - Beech King Air 90"]
[null,null,null,"C425 - Cessna 425 Corsair"]
[null,null,null,"C441 - Cessna Conquest"]
[null,null,null,"C500 - Cessna 500/Citation I"]
[null,null,null,"DHC6 - DeHavilland Twin Otter"]
[null,null,null,"PA44 - Piper Seminole"]
[null,"Category","Small-+","BE40 - Raytheon/Beech Beechjet 400/T-1"]
[null,"Description","Small - Twin Engine","C25A - Cessna Citation CJ2"]
[null,"Weight","12,500 - 41,000 lbs","C560 - Cessna Citation V/Ultra/Encore"]
[null,null,null,"C750 - Cessna Citation X"]
[null,null,null,"CL30 - Bombardier (Canadair) Challenger 300"]
[null,null,null,"EMB120-Brasilia"]
[null,null,null,"FA50 - Dassault Falcon/Mystère 50"]
[null,null,null,"GALX - IAI 1126 Galaxy/Gulfstream G200"]
[null,null,null,"LJ35 - Bombardier Learjet 35"]
[null,null,null,"LJ55 - Bombardier Learjet 55"]
[null,null,null,"SBR1 - North American Rockwell Sabre 40/60"]
[null,"Category","Large - TP","ATR 42"]
[null,"Description","Large - Turbo Prop","ATR 72"]
[null,"Weight","41,000 - 255,000 lbs","Dash 8 Q100/200"]
[null,null,null,"Dash 8 Q300/400"]
[null,null,null,"Saab 340                RED denotes weight exception"]
[null,"Category","Large - Jet","Airbus 318/319/320/321"]
[null,"Description","Large - Jet","Boeing 737 Series"]
[null,"Weight","41,000 - 255,000 lbs","DC-9 Series"]
[null,null,null,"MD 80/82/83/88/89"]
[null,null,null,"Gulfstream III/IV/V"]
[null,null,null,"CRJ100/200"]
[null,null,null,"CRJ700/900"]
[null,null,null,"ERJ135/140/145"]
[null,null,null,"EMB170/175/190/195"]
[null,null,null,"CL60 - Bombardier Challenger 600/601/604"]
[null,"Category","Large - 757","Boeing 757-200"]
[null,"Description","Boeing 757 Series","Boeing 757-300"]
[null,"Weight","255,000 - 300,000 lbs"]
[null,"Category","Heavy","Airbus 300/310 "]
[null,"Description","Heavy  - Multi Engine","Airbus 330/340/350"]
[null,"Weight","> 300,000 lbs","Airbus 380"]
[null,null,null,"Boeing 747 Series"]
[null,null,null,"Boeing 767/777"]
[null,null,null,"Boeing 787"]
[null,null,null,"DC-10/MD-11"]

{"sheet":"Separation  Layout","index":21,"n_rows":0,"n_cols":0,"rows_kept":0,"cut":false,"hidden":false,"merged":[]}

{"sheet":"Helens Rules","index":22,"n_rows":27,"n_cols":10,"rows_kept":27,"cut":false,"hidden":false,"merged":[]}
["Helens Rules of Thumb",null,null,null,"Quick Reference 'Rule-of-Thumb' quide "]
[]
["Single Runway"]
[" "]
["VFR","1.5 minutes between arrivals",null,null,null,"40 - 42 arrivals per hour"]
[null,"1 minute between successive departures",null,null,null,"60 departures per hour"]
[null,"Mixed @ 1.75 minutes between arrivals",null,null,null,"34 arrivals, 34 departures"]
[]
[]
[]
["IFR","2 minutes between arrivals",null,null,null,"30 - 32 arrivals per hour"]
[null,"1 minute between successive departures",null,null,null,"58 - 59 departures per hour"]
[null,"Mixed @ 2 minutes between arrivals",null,null,null,"30 arrivals, 30 departures"]
[]
[]
["2 Intersecting Runways",null,null,null,null,"2 Non-Intersecting Runways"]
[]
["VFR","34 arrivals, 34 departures",null,null,null,"VFR","40 arrivals, 60 departures",null,null,"independent"]
[null,null,null,null,null,null,"40 arrivals, 40 departures",null,null,"dependent"]
["IFR","30 arrivals, 30 departures"]
[null,null,null,null,null,"IFR","30 arrivals, 60 departures",null,null,"independent"]
[null,null,null,null,null,null,"30 arrivals, 30 departures",null,null,"dependent"]
[]
["Source:  Helen Monk, FAA Capacity Modeling & Analysis Group (2006)"]
[]
["Click on the hyperlink to see the FAA presentation of Helen's Rules of Thumb."]
["http://www.faa.gov/airports/northwest_mountain/planning_capacity/media/airport_capacity_rules_of_thumb.pdf"]